Workbook

Sheet 花名册
A1: 序号 | B1: 行政区划代码 | C1: 行政区划名称 | D1: 农户姓名 | E1: 家庭人口 | F1: 补助人数 | G1: 家庭中重度残疾人数 | H1: 家庭中重大疾病人数 | I1: 救助档次 | J1: 常年补助家庭人口数 | K1: 常年补助金额 | L1: 非常年补助家庭人口数 | M1: 非常年补助金额 | N1: 实发合计 | O1: 是否整户保 | P1: 有效衔接办身份 | Q1: 乡镇 | R1: 整户取消
A2: 8903 | B2: 360732170604 | C2: 芦溪村南坑组 | D2: 李春娇 | E2: 5 | F2: 3 | I2: B | L2: 3 | M2: =565*L2 -> 1695 | N2: =565*F2 -> 1695 | O2: FALSE | P2: 脱贫户 | Q2: 龙口镇 | R2: =VLOOKUP(#REF!,整户取消!#REF!,1,FALSE) -> #REF!
A3: 8904 | B3: 360732170102 | C3: 都田村岽上组 | D3: 钟贞林 | E3: 5 | F3: 4 | I3: B | L3: 4 | M3: =565*L3 -> 2260 | N3: =565*F3 -> 2260 | O3: TRUE | P3: 脱贫不稳定户 | Q3: 龙口镇 | R3: =VLOOKUP(#REF!,整户取消!#REF!,1,FALSE) -> #REF!
A4: 8905 | B4: 360732170117 | C4: 都田村黄泥坳组 | D4: 张功喜 | E4: 1 | F4: 1 | I4: A | J4: 1 | K4: =765*J4 -> 765 | N4: =765*F4 -> 765 | O4: TRUE | P4: 脱贫户 | Q4: 龙口镇 | R4: =VLOOKUP(#REF!,整户取消!#REF!,1,FALSE) -> #REF!
A5: 8906 | B5: 360732170117 | C5: 都田村黄泥坳组 | D5: 甘会兰 | E5: 2 | F5: 1 | I5: A | J5: 1 | K5: =765*J5 -> 765 | N5: =765*F5 -> 765 | O5: FALSE | P5: 脱贫户 | Q5: 龙口镇 | R5: =VLOOKUP(#REF!,整户取消!#REF!,1,FALSE) -> #REF!
A6: 8907 | B6: 360732170117 | C6: 都田村黄泥坳组 | D6: 张生发 | E6: 4 | F6: 3 | I6: B | L6: 3 | M6: =565*L6 -> 1695 | N6: =565*F6 -> 1695 | O6: FALSE | P6: 脱贫户 | Q6: 龙口镇 | R6: =VLOOKUP(#REF!,整户取消!#REF!,1,FALSE) -> #REF!
A7: 8908 | B7: 360732170108 | C7: 都田村上都组 | D7: 钟大发 | E7: 1 | F7: 1 | I7: A | J7: 1 | K7: =765*J7 -> 765 | N7: =765*F7 -> 765 | O7: TRUE | P7: 脱贫户 | Q7: 龙口镇 | R7: =VLOOKUP(#REF!,整户取消!#REF!,1,FALSE) -> #REF!
A8: 8909 | B8: 360732170110 | C8: 都田村下都组 | D8: 刘先尧 | E8: 1 | F8: 1 | I8: B | L8: 1 | M8: =565*L8 -> 565 | N8: =565*F8 -> 565 | O8: TRUE | P8: 脱贫户 | Q8: 龙口镇 | R8: =VLOOKUP(#REF!,整户取消!#REF!,1,FALSE) -> #REF!
A9: 8910 | B9: 360732170206 | C9: 丰溪村丰登组 | D9: 李优红 | E9: 3 | F9: 3 | I9: A | J9: 3 | K9: =765*J9 -> 2295 | N9: =765*F9 -> 2295 | O9: TRUE | P9: 脱贫不稳定户 | Q9: 龙口镇 | R9: =VLOOKUP(#REF!,整户取消!#REF!,1,FALSE) -> #REF!
A10: 8911 | B10: 360732170202 | C10: 丰溪村丰荣组 | D10: 陈平 | E10: 1 | F10: 1 | I10: A | J10: 1 | K10: =765*J10 -> 765 | N10: =765*F10 -> 765 | O10: TRUE | P10: 脱贫户 | Q10: 龙口镇 | R10: =VLOOKUP(#REF!,整户取消!#REF!,1,FALSE) -> #REF!
A11: 8912 | B11: 360732170207 | C11: 丰溪村深山组 | D11: 陈六月 | E11: 3 | F11: 3 | I11: A | J11: 3 | K11: =765*J11 -> 2295 | N11: =765*F11 -> 2295 | O11: TRUE | P11: 脱贫户 | Q11: 龙口镇 | R11: =VLOOKUP(#REF!,整户取消!#REF!,1,FALSE) -> #REF!
A12: 8913 | B12: 360732170510 | C12: 来溪村坑内组 | D12: 刘名成 | E12: 2 | F12: 1 | I12: B | L12: 1 | M12: =565*L12 -> 565 | N12: =565*F12 -> 565 | O12: FALSE | P12: 脱贫户 | Q12: 龙口镇 | R12: =VLOOKUP(#REF!,整户取消!#REF!,1,FALSE) -> #REF!
A13: 8914 | B13: 360732170515 | C13: 来溪村来二组 | D13: 钟小英 | E13: 2 | F13: 2 | I13: A | J13: 2 | K13: =765*J13 -> 1530 | N13: =765*F13 -> 1530 | O13: TRUE | P13: 脱贫户 | Q13: 龙口镇 | R13: =VLOOKUP(#REF!,整户取消!#REF!,1,FALSE) -> #REF!
A14: 8915 | B14: 360732170514 | C14: 来溪村来一组 | D14: 肖含桂 | E14: 3 | F14: 3 | I14: B | L14: 3 | M14: =565*L14 -> 1695 | N14: =565*F14 -> 1695 | O14: FALSE | P14: 脱贫户 | Q14: 龙口镇 | R14: =VLOOKUP(#REF!,整户取消!#REF!,1,FALSE) -> #REF!
A15: 8916 | B15: 360732170516 | C15: 来溪村老屋组 | D15: 刘来发 | E15: 2 | F15: 2 | I15: A | J15: 2 | K15: =765*J15 -> 1530 | N15: =765*F15 -> 1530 | O15: TRUE | P15: 脱贫户 | Q15: 龙口镇 | R15: =VLOOKUP(#REF!,整户取消!#REF!,1,FALSE) -> #REF!
A16: 8917 | B16: 360732170505 | C16: 来溪村梅新组 | D16: 钟桂元 | E16: 2 | F16: 1 | I16: A | J16: 1 | K16: =765*J16 -> 765 | N16: =765*F16 -> 765 | O16: TRUE | P16: 脱贫不稳定户 | Q16: 龙口镇 | R16: =VLOOKUP(#REF!,整户取消!#REF!,1,FALSE) -> #REF!
A17: 8918 | B17: 360732170407 | C17: 嶂下村嶂下组 | D17: 陈素兰 | E17: 4 | F17: 1 | H17: 1 | I17: C | L17: 1 | M17: =400*L17 -> 400 | N17: =400*F17 -> 400 | O17: FALSE | P17: #N/A | Q17: 龙口镇 | R17: =VLOOKUP(#REF!,整户取消!#REF!,1,FALSE) -> #REF!
A18: 8919 | B18: 360732170713 | C18: 留村村洞兴组 | D18: 廖乐英 | E18: 2 | F18: 2 | I18: A | J18: 2 | K18: =765*J18 -> 1530 | N18: =765*F18 -> 1530 | O18: TRUE | P18: 脱贫户 | Q18: 龙口镇 | R18: =VLOOKUP(#REF!,整户取消!#REF!,1,FALSE) -> #REF!
A19: 8920 | B19: 360732170303 | C19: 龙口村三组 | D19: 曾国忠 | E19: 3 | F19: 1 | I19: B | L19: 1 | M19: =565*L19 -> 565 | N19: =565*F19 -> 565 | O19: TRUE | P19: 脱贫户 | Q19: 龙口镇 | R19: =VLOOKUP(#REF!,整户取消!#REF!,1,FALSE) -> #REF!
A20: 8921 | B20: 360732170310 | C20: 龙口村十组 | D20: 周会清 | E20: 1 | F20: 1 | I20: A | J20: 1 | K20: =765*J20 -> 765 | N20: =765*F20 -> 765 | O20: TRUE | P20: 脱贫户 | Q20: 龙口镇 | R20: =VLOOKUP(#REF!,整户取消!#REF!,1,FALSE) -> #REF!
A21: 8922 | B21: 360732171005 | C21: 文院村新建组 | D21: 邓华明 | E21: 3 | F21: 2 | I21: B | L21: 2 | M21: =565*L21 -> 1130 | N21: =565*F21 -> 1130 | O21: FALSE | P21: 脱贫户 | Q21: 龙口镇 | R21: =VLOOKUP(#REF!,整户取消!#REF!,1,FALSE) -> #REF!
A22: 8923 | B22: 360732170305 | C22: 龙口村五组 | D22: 周小春 | E22: 3 | F22: 1 | I22: B | L22: 1 | M22: =565*L22 -> 565 | N22: =565*F22 -> 565 | O22: FALSE | P22: 脱贫户 | Q22: 龙口镇 | R22: =VLOOKUP(#REF!,整户取消!#REF!,1,FALSE) -> #REF!
A23: 8924 | B23: 360732170305 | C23: 龙口村五组 | D23: 周兆华 | E23: 3 | F23: 2 | I23: A | J23: 2 | K23: =765*J23 -> 1530 | N23: =765*F23 -> 1530 | O23: TRUE | P23: 脱贫不稳定户 | Q23: 龙口镇 | R23: =VLOOKUP(#REF!,整户取消!#REF!,1,FALSE) -> #REF!
A24: 8925 | B24: 360732170603 | C24: 芦溪村春丘组 | D24: 邓习意 | E24: 3 | F24: 2 | I24: C | L24: 2 | M24: =400*L24 -> 800 | N24: =400*F24 -> 800 | O24: FALSE | P24: 脱贫户 | Q24: 龙口镇 | R24: =VLOOKUP(#REF!,整户取消!#REF!,1,FALSE) -> #REF!
A25: 8926 | B25: 360732170610 | C25: 芦溪村蕉坑组 | D25: 蔡冬香 | E25: 3 | F25: 2 | I25: B | L25: 2 | M25: =565*L25 -> 1130 | N25: =565*F25 -> 1130 | O25: FALSE | P25: 突发严重困难户 | Q25: 龙口镇 | R25: =VLOOKUP(#REF!,整户取消!#REF!,1,FALSE) -> #REF!
A26: 8927 | B26: 360732170607 | C26: 芦溪村老山下组 | D26: 刘建文 | E26: 4 | F26: 4 | I26: A | J26: 4 | K26: =765*J26 -> 3060 | N26: =765*F26 -> 3060 | O26: TRUE | P26: 突发严重困难户 | Q26: 龙口镇 | R26: =VLOOKUP(#REF!,整户取消!#REF!,1,FALSE) -> #REF!
A27: 8928 | B27: 360732170611 | C27: 芦溪村老屋场组 | D27: 刘金娇 | E27: 2 | F27: 1 | I27: C | L27: 1 | M27: =400*L27 -> 400 | N27: =400*F27 -> 400 | O27: FALSE | P27: 脱贫不稳定户 | Q27: 龙口镇 | R27: =VLOOKUP(#REF!,整户取消!#REF!,1,FALSE) -> #REF!
A28: 8929 | B28: 360732170602 | C28: 芦溪村水晶组 | D28: 邓美青 | E28: 3 | F28: 2 | I28: B | L28: 2 | M28: =565*L28 -> 1130 | N28: =565*F28 -> 1130 | O28: TRUE | P28: 突发严重困难户 | Q28: 龙口镇 | R28: =VLOOKUP(#REF!,整户取消!#REF!,1,FALSE) -> #REF!
A29: 8930 | B29: 360732170802 | C29: 睦埠村红光组 | D29: 刘瑞万 | E29: 5 | F29: 3 | I29: B | L29: 3 | M29: =565*L29 -> 1695 | N29: =565*F29 -> 1695 | O29: TRUE | P29: 脱贫不稳定户 | Q29: 龙口镇 | R29: =VLOOKUP(#REF!,整户取消!#REF!,1,FALSE) -> #REF!
A30: 8931 | B30: 360732170802 | C30: 睦埠村红光组 | D30: 刘熙军 | E30: 2 | F30: 1 | I30: D | L30: 1 | M30: =295*L30 -> 295 | N30: =295*F30 -> 295 | O30: TRUE | P30: 脱贫不稳定户 | Q30: 龙口镇 | R30: =VLOOKUP(#REF!,整户取消!#REF!,1,FALSE) -> #REF!
A31: 8932 | B31: 360732170810 | C31: 睦埠村青山组 | D31: 廖生贵 | E31: 4 | F31: 4 | I31: A | J31: 4 | K31: =765*J31 -> 3060 | N31: =765*F31 -> 3060 | O31: TRUE | P31: 脱贫不稳定户 | Q31: 龙口镇 | R31: =VLOOKUP(#REF!,整户取消!#REF!,1,FALSE) -> #REF!
A32: 8933 | B32: 360732170806 | C32: 睦埠村星光组 | D32: 刘和银 | E32: 2 | F32: 2 | I32: C | L32: 2 | M32: =400*L32 -> 800 | N32: =400*F32 -> 800 | O32: FALSE | P32: 脱贫户 | Q32: 龙口镇 | R32: =VLOOKUP(#REF!,整户取消!#REF!,1,FALSE) -> #REF!
A33: 8934 | B33: 360732170805 | C33: 睦埠村元街组 | D33: 刘瑞江 | E33: 4 | F33: 4 | I33: A | J33: 4 | K33: =765*J33 -> 3060 | N33: =765*F33 -> 3060 | O33: TRUE | P33: 脱贫不稳定户 | Q33: 龙口镇 | R33: =VLOOKUP(#REF!,整户取消!#REF!,1,FALSE) -> #REF!
A34: 8935 | B34: 360732171005 | C34: 文院村新建组 | D34: 刘名生 | E34: 2 | F34: 1 | I34: B | L34: 1 | M34: =565*L34 -> 565 | N34: =565*F34 -> 565 | O34: TRUE | P34: 脱贫户 | Q34: 龙口镇 | R34: =VLOOKUP(#REF!,整户取消!#REF!,1,FALSE) -> #REF!
A35: 8936 | B35: 360732170906 | C35: 中岭村岭脑组 | D35: 邓经泮 | E35: 2 | F35: 2 | I35: A | J35: 2 | K35: =765*J35 -> 1530 | N35: =765*F35 -> 1530 | O35: TRUE | P35: 脱贫户 | Q35: 龙口镇 | R35: =VLOOKUP(#REF!,整户取消!#REF!,1,FALSE) -> #REF!
A36: 8937 | B36: 360732171005 | C36: 文院村新建组 | D36: 刘先钟 | E36: 2 | F36: 2 | I36: A | J36: 2 | K36: =765*J36 -> 1530 | N36: =765*F36 -> 1530 | O36: TRUE | P36: 脱贫户 | Q36: 龙口镇 | R36: =VLOOKUP(#REF!,整户取消!#REF!,1,FALSE) -> #REF!
A37: 8938 | B37: 360732170919 | C37: 中岭村石角组 | D37: 邓经荣 | E37: 4 | F37: 4 | I37: B | L37: 4 | M37: =565*L37 -> 2260 | N37: =565*F37 -> 2260 | O37: TRUE | P37: 脱贫户 | Q37: 龙口镇 | R37: =VLOOKUP(#REF!,整户取消!#REF!,1,FALSE) -> #REF!
A38: 8939 | B38: 360732170916 | C38: 中岭村柏二组 | D38: 周俊增 | E38: 2 | F38: 2 | I38: A | J38: 2 | K38: =765*J38 -> 1530 | N38: =765*F38 -> 1530 | O38: TRUE | P38: 脱贫户 | Q38: 龙口镇 | R38: =VLOOKUP(#REF!,整户取消!#REF!,1,FALSE) -> #REF!
A39: 8940 | B39: 360732170402 | C39: 嶂下村岭背组 | D39: 刘志栏 | E39: 4 | F39: 2 | I39: B | L39: 2 | M39: =565*L39 -> 1130 | N39: =565*F39 -> 1130 | O39: FALSE | P39: 脱贫户 | Q39: 龙口镇 | R39: =VLOOKUP(#REF!,整户取消!#REF!,1,FALSE) -> #REF!
A40: 8941 | B40: 360732170904 | C40: 中岭村存敬组 | D40: 邓习锋 | E40: 4 | F40: 2 | I40: B | L40: 2 | M40: =565*L40 -> 1130 | N40: =565*F40 -> 1130 | O40: FALSE | P40: 脱贫户 | Q40: 龙口镇 | R40: =VLOOKUP(#REF!,整户取消!#REF!,1,FALSE) -> #REF!
...

Sheet 家庭信息表
A1: 序号 | B1: 户主 | C1: 家庭人口 | D1: 享受人口 | E1: 姓名 | F1: 家庭关系 | G1: 人员详细住址 | H1: 乡镇 | I1: 年龄 | J1: 性别 | K1: 档次 | L1: 火化 | M1: 特困 | N1: 孤儿 | O1: 残障 | P1: 整户取消 | Q1: 户内调减 | R1: 脱贫户 | S1: 监测对象 | T1: 联系方式 | U1: 月份 | V1: 地址
A2: 18072 | B2: 蔡冬香 | C2: 3 | D2: 2 | E2: 蔡冬香 | F2: 本人 | G2: 芦溪村蕉坑组 | H2: 龙口镇 | I2: =YEAR(TODAY())-MID(#REF!,7,4) -> #REF! | J2: =IF(OR(LEN(#REF!)=15,LEN(#REF!)=18),IF(MOD(MID(#REF!,15,3)*1,2),"男","女"),#N/A) -> #REF! | K2: =VLOOKUP(#REF!,花名册!E:I,9,FALSE) -> #REF! | L2: =VLOOKUP(#REF!,[1]全部!$C:$C,1,FALSE) -> #REF! | M2: #N/A | N2: #N/A | O2: #N/A | P2: =VLOOKUP(#REF!,整户取消信息表!#REF!,1,FALSE) -> #REF! | Q2: =VLOOKUP(#REF!,#REF!,1,FALSE) -> #REF! | R2: 脱贫户 | S2: #N/A | T2: =VLOOKUP(#REF!,花名册!#REF!,2,FALSE) -> #REF! | U2: =MIDB(#REF!,11,2) -> #REF! | V2: =H2&G2 -> 龙口镇芦溪村蕉坑组 | W2: =VLOOKUP(#REF!,[2]分析1!$M:$M,1,FALSE) -> #REF!
A3: 18073 | B3: 蔡冬香 | E3: 邓通来 | F3: 子/婿 | G3: 芦溪村蕉坑组 | H3: 龙口镇 | I3: =YEAR(TODAY())-MID(#REF!,7,4) -> #REF! | J3: =IF(OR(LEN(#REF!)=15,LEN(#REF!)=18),IF(MOD(MID(#REF!,15,3)*1,2),"男","女"),#N/A) -> #REF! | K3: =VLOOKUP(#REF!,花名册!E:I,9,FALSE) -> #REF! | L3: =VLOOKUP(#REF!,[1]全部!$C:$C,1,FALSE) -> #REF! | M3: #N/A | N3: #N/A | O3: #N/A | P3: =VLOOKUP(#REF!,整户取消信息表!#REF!,1,FALSE) -> #REF! | Q3: =VLOOKUP(#REF!,#REF!,1,FALSE) -> #REF! | R3: 脱贫户 | S3: 突发严重困难户 | T3: =VLOOKUP(#REF!,花名册!#REF!,2,FALSE) -> #REF! | U3: =MIDB(#REF!,11,2) -> #REF! | V3: =H3&G3 -> 龙口镇芦溪村蕉坑组 | W3: =VLOOKUP(#REF!,[2]分析1!$M:$M,1,FALSE) -> #REF!
A4: 18074 | B4: 蔡林清 | C4: 5 | D4: 3 | E4: 蔡林清 | F4: 本人 | G4: 芦溪村芭蕉杏组 | H4: 龙口镇 | I4: =YEAR(TODAY())-MID(#REF!,7,4) -> #REF! | J4: =IF(OR(LEN(#REF!)=15,LEN(#REF!)=18),IF(MOD(MID(#REF!,15,3)*1,2),"男","女"),#N/A) -> #REF! | K4: =VLOOKUP(#REF!,花名册!E:I,9,FALSE) -> #REF! | L4: =VLOOKUP(#REF!,[1]全部!$C:$C,1,FALSE) -> #REF! | M4: #N/A | N4: #N/A | O4: #N/A | P4: =VLOOKUP(#REF!,整户取消信息表!#REF!,1,FALSE) -> #REF! | Q4: =VLOOKUP(#REF!,#REF!,1,FALSE) -> #REF! | R4: 脱贫户 | S4: 突发严重困难户 | T4: =VLOOKUP(#REF!,花名册!#REF!,2,FALSE) -> #REF! | U4: =MIDB(#REF!,11,2) -> #REF! | V4: =H4&G4 -> 龙口镇芦溪村芭蕉杏组 | W4: =VLOOKUP(#REF!,[2]分析1!$M:$M,1,FALSE) -> #REF!
A5: 18075 | B5: 蔡林清 | E5: 蔡秀山 | F5: 兄/弟/姐/妹 | G5: 芦溪村芭蕉杏组 | H5: 龙口镇 | I5: =YEAR(TODAY())-MID(#REF!,7,4) -> #REF! | J5: =IF(OR(LEN(#REF!)=15,LEN(#REF!)=18),IF(MOD(MID(#REF!,15,3)*1,2),"男","女"),#N/A) -> #REF! | K5: =VLOOKUP(#REF!,花名册!E:I,9,FALSE) -> #REF! | L5: =VLOOKUP(#REF!,[1]全部!$C:$C,1,FALSE) -> #REF! | M5: #N/A | N5: #N/A | O5: #N/A | P5: =VLOOKUP(#REF!,整户取消信息表!#REF!,1,FALSE) -> #REF! | Q5: =VLOOKUP(#REF!,#REF!,1,FALSE) -> #REF! | R5: 脱贫户 | S5: 突发严重困难户 | T5: =VLOOKUP(#REF!,花名册!#REF!,2,FALSE) -> #REF! | U5: =MIDB(#REF!,11,2) -> #REF! | V5: =H5&G5 -> 龙口镇芦溪村芭蕉杏组 | W5: =VLOOKUP(#REF!,[2]分析1!$M:$M,1,FALSE) -> #REF!
A6: 18076 | B6: 蔡林清 | E6: 蔡英峰 | F6: 父母/岳父母/公婆 | G6: 芦溪村芭蕉杏组 | H6: 龙口镇 | I6: =YEAR(TODAY())-MID(#REF!,7,4) -> #REF! | J6: =IF(OR(LEN(#REF!)=15,LEN(#REF!)=18),IF(MOD(MID(#REF!,15,3)*1,2),"男","女"),#N/A) -> #REF! | K6: =VLOOKUP(#REF!,花名册!E:I,9,FALSE) -> #REF! | L6: =VLOOKUP(#REF!,[1]全部!$C:$C,1,FALSE) -> #REF! | M6: #N/A | N6: #N/A | O6: #N/A | P6: =VLOOKUP(#REF!,整户取消信息表!#REF!,1,FALSE) -> #REF! | Q6: =VLOOKUP(#REF!,#REF!,1,FALSE) -> #REF! | R6: 脱贫户 | S6: #N/A | T6: =VLOOKUP(#REF!,花名册!#REF!,2,FALSE) -> #REF! | U6: =MIDB(#REF!,11,2) -> #REF! | V6: =H6&G6 -> 龙口镇芦溪村芭蕉杏组 | W6: =VLOOKUP(#REF!,[2]分析1!$M:$M,1,FALSE) -> #REF!
A7: 18077 | B7: 曾国忠 | C7: 3 | D7: 1 | E7: 曾国忠 | F7: 本人 | G7: 龙口村三组 | H7: 龙口镇 | I7: =YEAR(TODAY())-MID(#REF!,7,4) -> #REF! | J7: =IF(OR(LEN(#REF!)=15,LEN(#REF!)=18),IF(MOD(MID(#REF!,15,3)*1,2),"男","女"),#N/A) -> #REF! | K7: =VLOOKUP(#REF!,花名册!E:I,9,FALSE) -> #REF! | L7: =VLOOKUP(#REF!,[1]全部!$C:$C,1,FALSE) -> #REF! | M7: #N/A | N7: #N/A | O7: #N/A | P7: =VLOOKUP(#REF!,整户取消信息表!#REF!,1,FALSE) -> #REF! | Q7: =VLOOKUP(#REF!,#REF!,1,FALSE) -> #REF! | R7: 脱贫户 | S7: #N/A | T7: =VLOOKUP(#REF!,花名册!#REF!,2,FALSE) -> #REF! | U7: =MIDB(#REF!,11,2) -> #REF! | V7: =H7&G7 -> 龙口镇龙口村三组 | W7: =VLOOKUP(#REF!,[2]分析1!$M:$M,1,FALSE) -> #REF!
A8: 18078 | B8: 曾来基 | C8: 7 | D8: 3 | E8: 曾来基 | F8: 本人 | G8: 都田村桃坑组 | H8: 龙口镇 | I8: =YEAR(TODAY())-MID(#REF!,7,4) -> #REF! | J8: =IF(OR(LEN(#REF!)=15,LEN(#REF!)=18),IF(MOD(MID(#REF!,15,3)*1,2),"男","女"),#N/A) -> #REF! | K8: =VLOOKUP(#REF!,花名册!E:I,9,FALSE) -> #REF! | L8: =VLOOKUP(#REF!,[1]全部!$C:$C,1,FALSE) -> #REF! | M8: #N/A | N8: #N/A | O8: #N/A | P8: =VLOOKUP(#REF!,整户取消信息表!#REF!,1,FALSE) -> #REF! | Q8: =VLOOKUP(#REF!,#REF!,1,FALSE) -> #REF! | R8: 脱贫户 | S8: 脱贫不稳定户 | T8: =VLOOKUP(#REF!,花名册!#REF!,2,FALSE) -> #REF! | U8: =MIDB(#REF!,11,2) -> #REF! | V8: =H8&G8 -> 龙口镇都田村桃坑组 | W8: =VLOOKUP(#REF!,[2]分析1!$M:$M,1,FALSE) -> #REF!
A9: 18079 | B9: 曾来基 | E9: 曾志伟 | F9: 孙子女/外孙子女 | G9: 都田村桃坑组 | H9: 龙口镇 | I9: =YEAR(TODAY())-MID(#REF!,7,4) -> #REF! | J9: =IF(OR(LEN(#REF!)=15,LEN(#REF!)=18),IF(MOD(MID(#REF!,15,3)*1,2),"男","女"),#N/A) -> #REF! | K9: =VLOOKUP(#REF!,花名册!E:I,9,FALSE) -> #REF! | L9: =VLOOKUP(#REF!,[1]全部!$C:$C,1,FALSE) -> #REF! | M9: #N/A | N9: #N/A | O9: #N/A | P9: =VLOOKUP(#REF!,整户取消信息表!#REF!,1,FALSE) -> #REF! | Q9: =VLOOKUP(#REF!,#REF!,1,FALSE) -> #REF! | R9: 脱贫户 | S9: #N/A | T9: =VLOOKUP(#REF!,花名册!#REF!,2,FALSE) -> #REF! | U9: =MIDB(#REF!,11,2) -> #REF! | V9: =H9&G9 -> 龙口镇都田村桃坑组 | W9: =VLOOKUP(#REF!,[2]分析1!$M:$M,1,FALSE) -> #REF!
A10: 18080 | B10: 曾来基 | E10: 曾庆鸿 | F10: 孙子女/外孙子女 | G10: 都田村桃坑组 | H10: 龙口镇 | I10: =YEAR(TODAY())-MID(#REF!,7,4) -> #REF! | J10: =IF(OR(LEN(#REF!)=15,LEN(#REF!)=18),IF(MOD(MID(#REF!,15,3)*1,2),"男","女"),#N/A) -> #REF! | K10: =VLOOKUP(#REF!,花名册!E:I,9,FALSE) -> #REF! | L10: =VLOOKUP(#REF!,[1]全部!$C:$C,1,FALSE) -> #REF! | M10: #N/A | N10: #N/A | O10: #N/A | P10: =VLOOKUP(#REF!,整户取消信息表!#REF!,1,FALSE) -> #REF! | Q10: =VLOOKUP(#REF!,#REF!,1,FALSE) -> #REF! | R10: 脱贫户 | S10: #N/A | T10: =VLOOKUP(#REF!,花名册!#REF!,2,FALSE) -> #REF! | U10: =MIDB(#REF!,11,2) -> #REF! | V10: =H10&G10 -> 龙口镇都田村桃坑组 | W10: =VLOOKUP(#REF!,[2]分析1!$M:$M,1,FALSE) -> #REF!
A11: 18081 | B11: 曾方仁 | C11: 3 | D11: 2 | E11: 曾方仁 | F11: 本人 | G11: 文院村红二组 | H11: 龙口镇 | I11: =YEAR(TODAY())-MID(#REF!,7,4) -> #REF! | J11: =IF(OR(LEN(#REF!)=15,LEN(#REF!)=18),IF(MOD(MID(#REF!,15,3)*1,2),"男","女"),#N/A) -> #REF! | K11: =VLOOKUP(#REF!,花名册!E:I,9,FALSE) -> #REF! | L11: =VLOOKUP(#REF!,[1]全部!$C:$C,1,FALSE) -> #REF! | M11: #N/A | N11: #N/A | O11: #N/A | P11: =VLOOKUP(#REF!,整户取消信息表!#REF!,1,FALSE) -> #REF! | Q11: =VLOOKUP(#REF!,#REF!,1,FALSE) -> #REF! | R11: 脱贫户 | S11: #N/A | T11: =VLOOKUP(#REF!,花名册!#REF!,2,FALSE) -> #REF! | U11: =MIDB(#REF!,11,2) -> #REF! | V11: =H11&G11 -> 龙口镇文院村红二组 | W11: =VLOOKUP(#REF!,[2]分析1!$M:$M,1,FALSE) -> #REF!
A12: 18082 | B12: 曾方仁 | E12: 黄志华 | F12: 配偶 | G12: 文院村红二组 | H12: 龙口镇 | I12: =YEAR(TODAY())-MID(#REF!,7,4) -> #REF! | J12: =IF(OR(LEN(#REF!)=15,LEN(#REF!)=18),IF(MOD(MID(#REF!,15,3)*1,2),"男","女"),#N/A) -> #REF! | K12: =VLOOKUP(#REF!,花名册!E:I,9,FALSE) -> #REF! | L12: =VLOOKUP(#REF!,[1]全部!$C:$C,1,FALSE) -> #REF! | M12: #N/A | N12: #N/A | O12: #N/A | P12: =VLOOKUP(#REF!,整户取消信息表!#REF!,1,FALSE) -> #REF! | Q12: =VLOOKUP(#REF!,#REF!,1,FALSE) -> #REF! | R12: 脱贫户 | S12: #N/A | T12: =VLOOKUP(#REF!,花名册!#REF!,2,FALSE) -> #REF! | U12: =MIDB(#REF!,11,2) -> #REF! | V12: =H12&G12 -> 龙口镇文院村红二组 | W12: =VLOOKUP(#REF!,[2]分析1!$M:$M,1,FALSE) -> #REF!
A13: 18083 | B13: 曾苏英 | C13: 7 | D13: 3 | E13: 曾苏英 | F13: 本人 | G13: 来溪村大山组 | H13: 龙口镇 | I13: =YEAR(TODAY())-MID(#REF!,7,4) -> #REF! | J13: =IF(OR(LEN(#REF!)=15,LEN(#REF!)=18),IF(MOD(MID(#REF!,15,3)*1,2),"男","女"),#N/A) -> #REF! | K13: =VLOOKUP(#REF!,花名册!E:I,9,FALSE) -> #REF! | L13: =VLOOKUP(#REF!,[1]全部!$C:$C,1,FALSE) -> #REF! | M13: #N/A | N13: #N/A | O13: #N/A | P13: =VLOOKUP(#REF!,整户取消信息表!#REF!,1,FALSE) -> #REF! | Q13: =VLOOKUP(#REF!,#REF!,1,FALSE) -> #REF! | R13: 脱贫户 | S13: #N/A | T13: =VLOOKUP(#REF!,花名册!#REF!,2,FALSE) -> #REF! | U13: =MIDB(#REF!,11,2) -> #REF! | V13: =H13&G13 -> 龙口镇来溪村大山组 | W13: =VLOOKUP(#REF!,[2]分析1!$M:$M,1,FALSE) -> #REF!
A14: 18084 | B14: 曾苏英 | E14: 肖英煌 | F14: 孙子女/外孙子女 | G14: 来溪村大山组 | H14: 龙口镇 | I14: =YEAR(TODAY())-MID(#REF!,7,4) -> #REF! | J14: =IF(OR(LEN(#REF!)=15,LEN(#REF!)=18),IF(MOD(MID(#REF!,15,3)*1,2),"男","女"),#N/A) -> #REF! | K14: =VLOOKUP(#REF!,花名册!E:I,9,FALSE) -> #REF! | L14: =VLOOKUP(#REF!,[1]全部!$C:$C,1,FALSE) -> #REF! | M14: #N/A | N14: #N/A | O14: #N/A | P14: =VLOOKUP(#REF!,整户取消信息表!#REF!,1,FALSE) -> #REF! | Q14: =VLOOKUP(#REF!,#REF!,1,FALSE) -> #REF! | R14: 脱贫户 | S14: #N/A | T14: =VLOOKUP(#REF!,花名册!#REF!,2,FALSE) -> #REF! | U14: =MIDB(#REF!,11,2) -> #REF! | V14: =H14&G14 -> 龙口镇来溪村大山组 | W14: =VLOOKUP(#REF!,[2]分析1!$M:$M,1,FALSE) -> #REF!
A15: 18085 | B15: 曾苏英 | E15: 肖欣 | F15: 孙子女/外孙子女 | G15: 来溪村大山组 | H15: 龙口镇 | I15: =YEAR(TODAY())-MID(#REF!,7,4) -> #REF! | J15: =IF(OR(LEN(#REF!)=15,LEN(#REF!)=18),IF(MOD(MID(#REF!,15,3)*1,2),"男","女"),#N/A) -> #REF! | K15: =VLOOKUP(#REF!,花名册!E:I,9,FALSE) -> #REF! | L15: =VLOOKUP(#REF!,[1]全部!$C:$C,1,FALSE) -> #REF! | M15: #N/A | N15: #N/A | O15: #N/A | P15: =VLOOKUP(#REF!,整户取消信息表!#REF!,1,FALSE) -> #REF! | Q15: =VLOOKUP(#REF!,#REF!,1,FALSE) -> #REF! | R15: 脱贫户 | S15: #N/A | T15: =VLOOKUP(#REF!,花名册!#REF!,2,FALSE) -> #REF! | U15: =MIDB(#REF!,11,2) -> #REF! | V15: =H15&G15 -> 龙口镇来溪村大山组 | W15: =VLOOKUP(#REF!,[2]分析1!$M:$M,1,FALSE) -> #REF!
A16: 18086 | B16: 陈元明 | C16: 6 | D16: 2 | E16: 陈元明 | F16: 本人 | G16: 丰溪村丰荣组 | H16: 龙口镇 | I16: =YEAR(TODAY())-MID(#REF!,7,4) -> #REF! | J16: =IF(OR(LEN(#REF!)=15,LEN(#REF!)=18),IF(MOD(MID(#REF!,15,3)*1,2),"男","女"),#N/A) -> #REF! | K16: =VLOOKUP(#REF!,花名册!E:I,9,FALSE) -> #REF! | L16: =VLOOKUP(#REF!,[1]全部!$C:$C,1,FALSE) -> #REF! | M16: #N/A | N16: #N/A | O16: #N/A | P16: =VLOOKUP(#REF!,整户取消信息表!#REF!,1,FALSE) -> #REF! | Q16: =VLOOKUP(#REF!,#REF!,1,FALSE) -> #REF! | R16: 脱贫户 | S16: #N/A | T16: =VLOOKUP(#REF!,花名册!#REF!,2,FALSE) -> #REF! | U16: =MIDB(#REF!,11,2) -> #REF! | V16: =H16&G16 -> 龙口镇丰溪村丰荣组 | W16: =VLOOKUP(#REF!,[2]分析1!$M:$M,1,FALSE) -> #REF!
A17: 18087 | B17: 陈元明 | E17: 潘桂香 | F17: 祖父母/外祖父母 | G17: 丰溪村丰荣组 | H17: 龙口镇 | I17: =YEAR(TODAY())-MID(#REF!,7,4) -> #REF! | J17: =IF(OR(LEN(#REF!)=15,LEN(#REF!)=18),IF(MOD(MID(#REF!,15,3)*1,2),"男","女"),#N/A) -> #REF! | K17: =VLOOKUP(#REF!,花名册!E:I,9,FALSE) -> #REF! | L17: =VLOOKUP(#REF!,[1]全部!$C:$C,1,FALSE) -> #REF! | M17: #N/A | N17: #N/A | O17: #N/A | P17: =VLOOKUP(#REF!,整户取消信息表!#REF!,1,FALSE) -> #REF! | Q17: =VLOOKUP(#REF!,#REF!,1,FALSE) -> #REF! | R17: 脱贫户 | S17: #N/A | T17: =VLOOKUP(#REF!,花名册!#REF!,2,FALSE) -> #REF! | U17: =MIDB(#REF!,11,2) -> #REF! | V17: =H17&G17 -> 龙口镇丰溪村丰荣组 | W17: =VLOOKUP(#REF!,[2]分析1!$M:$M,1,FALSE) -> #REF!
A18: 18088 | B18: 陈六月 | C18: 3 | D18: 3 | E18: 陈六月 | F18: 本人 | G18: 丰溪村深山组 | H18: 龙口镇 | I18: =YEAR(TODAY())-MID(#REF!,7,4) -> #REF! | J18: =IF(OR(LEN(#REF!)=15,LEN(#REF!)=18),IF(MOD(MID(#REF!,15,3)*1,2),"男","女"),#N/A) -> #REF! | K18: =VLOOKUP(#REF!,花名册!E:I,9,FALSE) -> #REF! | L18: =VLOOKUP(#REF!,[1]全部!$C:$C,1,FALSE) -> #REF! | M18: #N/A | N18: #N/A | O18: #N/A | P18: =VLOOKUP(#REF!,整户取消信息表!#REF!,1,FALSE) -> #REF! | Q18: =VLOOKUP(#REF!,#REF!,1,FALSE) -> #REF! | R18: 脱贫户 | S18: #N/A | T18: =VLOOKUP(#REF!,花名册!#REF!,2,FALSE) -> #REF! | U18: =MIDB(#REF!,11,2) -> #REF! | V18: =H18&G18 -> 龙口镇丰溪村深山组 | W18: =VLOOKUP(#REF!,[2]分析1!$M:$M,1,FALSE) -> #REF!
A19: 18089 | B19: 陈六月 | E19: 刘检女 | F19: 父母/岳父母/公婆 | G19: 丰溪村深山组 | H19: 龙口镇 | I19: =YEAR(TODAY())-MID(#REF!,7,4) -> #REF! | J19: =IF(OR(LEN(#REF!)=15,LEN(#REF!)=18),IF(MOD(MID(#REF!,15,3)*1,2),"男","女"),#N/A) -> #REF! | K19: =VLOOKUP(#REF!,花名册!E:I,9,FALSE) -> #REF! | L19: =VLOOKUP(#REF!,[1]全部!$C:$C,1,FALSE) -> #REF! | M19: #N/A | N19: #N/A | O19: #N/A | P19: =VLOOKUP(#REF!,整户取消信息表!#REF!,1,FALSE) -> #REF! | Q19: =VLOOKUP(#REF!,#REF!,1,FALSE) -> #REF! | R19: 脱贫户 | S19: #N/A | T19: =VLOOKUP(#REF!,花名册!#REF!,2,FALSE) -> #REF! | U19: =MIDB(#REF!,11,2) -> #REF! | V19: =H19&G19 -> 龙口镇丰溪村深山组 | W19: =VLOOKUP(#REF!,[2]分析1!$M:$M,1,FALSE) -> #REF!
A20: 18090 | B20: 陈六月 | E20: 张满燕 | F20: 配偶 | G20: 丰溪村深山组 | H20: 龙口镇 | I20: =YEAR(TODAY())-MID(#REF!,7,4) -> #REF! | J20: =IF(OR(LEN(#REF!)=15,LEN(#REF!)=18),IF(MOD(MID(#REF!,15,3)*1,2),"男","女"),#N/A) -> #REF! | K20: =VLOOKUP(#REF!,花名册!E:I,9,FALSE) -> #REF! | L20: =VLOOKUP(#REF!,[1]全部!$C:$C,1,FALSE) -> #REF! | M20: #N/A | N20: #N/A | O20: #N/A | P20: =VLOOKUP(#REF!,整户取消信息表!#REF!,1,FALSE) -> #REF! | Q20: =VLOOKUP(#REF!,#REF!,1,FALSE) -> #REF! | R20: 脱贫户 | S20: #N/A | T20: =VLOOKUP(#REF!,花名册!#REF!,2,FALSE) -> #REF! | U20: =MIDB(#REF!,11,2) -> #REF! | V20: =H20&G20 -> 龙口镇丰溪村深山组 | W20: =VLOOKUP(#REF!,[2]分析1!$M:$M,1,FALSE) -> #REF!
A21: 18091 | B21: 陈名佐 | C21: 3 | D21: 2 | E21: 陈名佐 | F21: 本人 | G21: 丰溪村寨背组 | H21: 龙口镇 | I21: =YEAR(TODAY())-MID(#REF!,7,4) -> #REF! | J21: =IF(OR(LEN(#REF!)=15,LEN(#REF!)=18),IF(MOD(MID(#REF!,15,3)*1,2),"男","女"),#N/A) -> #REF! | K21: =VLOOKUP(#REF!,花名册!E:I,9,FALSE) -> #REF! | L21: =VLOOKUP(#REF!,[1]全部!$C:$C,1,FALSE) -> #REF! | M21: #N/A | N21: #N/A | O21: #N/A | P21: =VLOOKUP(#REF!,整户取消信息表!#REF!,1,FALSE) -> #REF! | Q21: =VLOOKUP(#REF!,#REF!,1,FALSE) -> #REF! | R21: 脱贫户 | S21: 脱贫不稳定户 | T21: =VLOOKUP(#REF!,花名册!#REF!,2,FALSE) -> #REF! | U21: =MIDB(#REF!,11,2) -> #REF! | V21: =H21&G21 -> 龙口镇丰溪村寨背组 | W21: =VLOOKUP(#REF!,[2]分析1!$M:$M,1,FALSE) -> #REF!
A22: 18092 | B22: 陈名佐 | E22: 邓习兰 | F22: 配偶 | G22: 丰溪村寨背组 | H22: 龙口镇 | I22: =YEAR(TODAY())-MID(#REF!,7,4) -> #REF! | J22: =IF(OR(LEN(#REF!)=15,LEN(#REF!)=18),IF(MOD(MID(#REF!,15,3)*1,2),"男","女"),#N/A) -> #REF! | K22: =VLOOKUP(#REF!,花名册!E:I,9,FALSE) -> #REF! | L22: =VLOOKUP(#REF!,[1]全部!$C:$C,1,FALSE) -> #REF! | M22: #N/A | N22: #N/A | O22: #N/A | P22: =VLOOKUP(#REF!,整户取消信息表!#REF!,1,FALSE) -> #REF! | Q22: =VLOOKUP(#REF!,#REF!,1,FALSE) -> #REF! | R22: 脱贫户 | S22: 脱贫不稳定户 | T22: =VLOOKUP(#REF!,花名册!#REF!,2,FALSE) -> #REF! | U22: =MIDB(#REF!,11,2) -> #REF! | V22: =H22&G22 -> 龙口镇丰溪村寨背组 | W22: =VLOOKUP(#REF!,[2]分析1!$M:$M,1,FALSE) -> #REF!
A23: 18093 | B23: 陈平 | C23: 1 | D23: 1 | E23: 陈平 | F23: 本人 | G23: 丰溪村丰荣组 | H23: 龙口镇 | I23: =YEAR(TODAY())-MID(#REF!,7,4) -> #REF! | J23: =IF(OR(LEN(#REF!)=15,LEN(#REF!)=18),IF(MOD(MID(#REF!,15,3)*1,2),"男","女"),#N/A) -> #REF! | K23: =VLOOKUP(#REF!,花名册!E:I,9,FALSE) -> #REF! | L23: =VLOOKUP(#REF!,[1]全部!$C:$C,1,FALSE) -> #REF! | M23: #N/A | N23: #N/A | O23: #N/A | P23: =VLOOKUP(#REF!,整户取消信息表!#REF!,1,FALSE) -> #REF! | Q23: =VLOOKUP(#REF!,#REF!,1,FALSE) -> #REF! | R23: 脱贫户 | S23: 脱贫不稳定户 | T23: =VLOOKUP(#REF!,花名册!#REF!,2,FALSE) -> #REF! | U23: =MIDB(#REF!,11,2) -> #REF! | V23: =H23&G23 -> 龙口镇丰溪村丰荣组 | W23: =VLOOKUP(#REF!,[2]分析1!$M:$M,1,FALSE) -> #REF!
A24: 18094 | B24: 陈素兰 | C24: 4 | D24: 1 | E24: 陈素兰 | F24: 本人 | G24: 嶂下村嶂下组 | H24: 龙口镇 | I24: =YEAR(TODAY())-MID(#REF!,7,4) -> #REF! | J24: =IF(OR(LEN(#REF!)=15,LEN(#REF!)=18),IF(MOD(MID(#REF!,15,3)*1,2),"男","女"),#N/A) -> #REF! | K24: =VLOOKUP(#REF!,花名册!E:I,9,FALSE) -> #REF! | L24: =VLOOKUP(#REF!,[1]全部!$C:$C,1,FALSE) -> #REF! | M24: #N/A | N24: #N/A | O24: #N/A | P24: =VLOOKUP(#REF!,整户取消信息表!#REF!,1,FALSE) -> #REF! | Q24: =VLOOKUP(#REF!,#REF!,1,FALSE) -> #REF! | R24: 脱贫户 | S24: 脱贫不稳定户 | T24: =VLOOKUP(#REF!,花名册!#REF!,2,FALSE) -> #REF! | U24: =MIDB(#REF!,11,2) -> #REF! | V24: =H24&G24 -> 龙口镇嶂下村嶂下组 | W24: =VLOOKUP(#REF!,[2]分析1!$M:$M,1,FALSE) -> #REF!
A25: 18095 | B25: 邓春香 | C25: 2 | D25: 1 | E25: 邓春香 | F25: 本人 | G25: 嶂下村告头组 | H25: 龙口镇 | I25: =YEAR(TODAY())-MID(#REF!,7,4) -> #REF! | J25: =IF(OR(LEN(#REF!)=15,LEN(#REF!)=18),IF(MOD(MID(#REF!,15,3)*1,2),"男","女"),#N/A) -> #REF! | K25: =VLOOKUP(#REF!,花名册!E:I,9,FALSE) -> #REF! | L25: =VLOOKUP(#REF!,[1]全部!$C:$C,1,FALSE) -> #REF! | M25: #N/A | N25: #N/A | O25: #N/A | P25: =VLOOKUP(#REF!,整户取消信息表!#REF!,1,FALSE) -> #REF! | Q25: =VLOOKUP(#REF!,#REF!,1,FALSE) -> #REF! | R25: 脱贫户 | S25: 脱贫不稳定户 | T25: =VLOOKUP(#REF!,花名册!#REF!,2,FALSE) -> #REF! | U25: =MIDB(#REF!,11,2) -> #REF! | V25: =H25&G25 -> 龙口镇嶂下村告头组 | W25: =VLOOKUP(#REF!,[2]分析1!$M:$M,1,FALSE) -> #REF!
A26: 18096 | B26: 邓福华 | C26: 3 | D26: 3 | E26: 邓福华 | F26: 本人 | G26: 芦溪村蕉坑组 | H26: 龙口镇 | I26: =YEAR(TODAY())-MID(#REF!,7,4) -> #REF! | J26: =IF(OR(LEN(#REF!)=15,LEN(#REF!)=18),IF(MOD(MID(#REF!,15,3)*1,2),"男","女"),#N/A) -> #REF! | K26: =VLOOKUP(#REF!,花名册!E:I,9,FALSE) -> #REF! | L26: =VLOOKUP(#REF!,[1]全部!$C:$C,1,FALSE) -> #REF! | M26: #N/A | N26: #N/A | O26: #N/A | P26: =VLOOKUP(#REF!,整户取消信息表!#REF!,1,FALSE) -> #REF! | Q26: =VLOOKUP(#REF!,#REF!,1,FALSE) -> #REF! | R26: 脱贫户 | S26: #N/A | T26: =VLOOKUP(#REF!,花名册!#REF!,2,FALSE) -> #REF! | U26: =MIDB(#REF!,11,2) -> #REF! | V26: =H26&G26 -> 龙口镇芦溪村蕉坑组 | W26: =VLOOKUP(#REF!,[2]分析1!$M:$M,1,FALSE) -> #REF!
A27: 18097 | B27: 邓福华 | E27: 邓优 | F27: 女/媳 | G27: 芦溪村蕉坑组 | H27: 龙口镇 | I27: =YEAR(TODAY())-MID(#REF!,7,4) -> #REF! | J27: =IF(OR(LEN(#REF!)=15,LEN(#REF!)=18),IF(MOD(MID(#REF!,15,3)*1,2),"男","女"),#N/A) -> #REF! | K27: =VLOOKUP(#REF!,花名册!E:I,9,FALSE) -> #REF! | L27: =VLOOKUP(#REF!,[1]全部!$C:$C,1,FALSE) -> #REF! | M27: #N/A | N27: #N/A | O27: #N/A | P27: =VLOOKUP(#REF!,整户取消信息表!#REF!,1,FALSE) -> #REF! | Q27: =VLOOKUP(#REF!,#REF!,1,FALSE) -> #REF! | R27: 脱贫户 | S27: #N/A | T27: =VLOOKUP(#REF!,花名册!#REF!,2,FALSE) -> #REF! | U27: =MIDB(#REF!,11,2) -> #REF! | V27: =H27&G27 -> 龙口镇芦溪村蕉坑组 | W27: =VLOOKUP(#REF!,[2]分析1!$M:$M,1,FALSE) -> #REF!
A28: 18098 | B28: 邓福华 | E28: 钟云兰 | F28: 配偶 | G28: 芦溪村蕉坑组 | H28: 龙口镇 | I28: =YEAR(TODAY())-MID(#REF!,7,4) -> #REF! | J28: =IF(OR(LEN(#REF!)=15,LEN(#REF!)=18),IF(MOD(MID(#REF!,15,3)*1,2),"男","女"),#N/A) -> #REF! | K28: =VLOOKUP(#REF!,花名册!E:I,9,FALSE) -> #REF! | L28: =VLOOKUP(#REF!,[1]全部!$C:$C,1,FALSE) -> #REF! | M28: #N/A | N28: #N/A | O28: #N/A | P28: =VLOOKUP(#REF!,整户取消信息表!#REF!,1,FALSE) -> #REF! | Q28: =VLOOKUP(#REF!,#REF!,1,FALSE) -> #REF! | R28: 脱贫户 | S28: #N/A | T28: =VLOOKUP(#REF!,花名册!#REF!,2,FALSE) -> #REF! | U28: =MIDB(#REF!,11,2) -> #REF! | V28: =H28&G28 -> 龙口镇芦溪村蕉坑组 | W28: =VLOOKUP(#REF!,[2]分析1!$M:$M,1,FALSE) -> #REF!
A29: 18099 | B29: 邓福华 | C29: 2 | D29: 2 | E29: 邓福华 | F29: 本人 | G29: 中岭村溪背组 | H29: 龙口镇 | I29: =YEAR(TODAY())-MID(#REF!,7,4) -> #REF! | J29: =IF(OR(LEN(#REF!)=15,LEN(#REF!)=18),IF(MOD(MID(#REF!,15,3)*1,2),"男","女"),#N/A) -> #REF! | K29: =VLOOKUP(#REF!,花名册!E:I,9,FALSE) -> #REF! | L29: =VLOOKUP(#REF!,[1]全部!$C:$C,1,FALSE) -> #REF! | M29: #N/A | N29: #N/A | O29: #N/A | P29: =VLOOKUP(#REF!,整户取消信息表!#REF!,1,FALSE) -> #REF! | Q29: =VLOOKUP(#REF!,#REF!,1,FALSE) -> #REF! | R29: 脱贫户 | S29: #N/A | T29: =VLOOKUP(#REF!,花名册!#REF!,2,FALSE) -> #REF! | U29: =MIDB(#REF!,11,2) -> #REF! | V29: =H29&G29 -> 龙口镇中岭村溪背组 | W29: =VLOOKUP(#REF!,[2]分析1!$M:$M,1,FALSE) -> #REF!
A30: 18100 | B30: 邓福华 | E30: 汤倍英 | F30: 其他 | G30: 中岭村溪背组 | H30: 龙口镇 | I30: =YEAR(TODAY())-MID(#REF!,7,4) -> #REF! | J30: =IF(OR(LEN(#REF!)=15,LEN(#REF!)=18),IF(MOD(MID(#REF!,15,3)*1,2),"男","女"),#N/A) -> #REF! | K30: =VLOOKUP(#REF!,花名册!E:I,9,FALSE) -> #REF! | L30: =VLOOKUP(#REF!,[1]全部!$C:$C,1,FALSE) -> #REF! | M30: #N/A | N30: #N/A | O30: #N/A | P30: =VLOOKUP(#REF!,整户取消信息表!#REF!,1,FALSE) -> #REF! | Q30: =VLOOKUP(#REF!,#REF!,1,FALSE) -> #REF! | R30: 脱贫户 | S30: #N/A | T30: =VLOOKUP(#REF!,花名册!#REF!,2,FALSE) -> #REF! | U30: =MIDB(#REF!,11,2) -> #REF! | V30: =H30&G30 -> 龙口镇中岭村溪背组 | W30: =VLOOKUP(#REF!,[2]分析1!$M:$M,1,FALSE) -> #REF!
A31: 18101 | B31: 邓华明 | C31: 3 | D31: 2 | E31: 邓华明 | F31: 本人 | G31: 文院村新建组 | H31: 龙口镇 | I31: =YEAR(TODAY())-MID(#REF!,7,4) -> #REF! | J31: =IF(OR(LEN(#REF!)=15,LEN(#REF!)=18),IF(MOD(MID(#REF!,15,3)*1,2),"男","女"),#N/A) -> #REF! | K31: =VLOOKUP(#REF!,花名册!E:I,9,FALSE) -> #REF! | L31: =VLOOKUP(#REF!,[1]全部!$C:$C,1,FALSE) -> #REF! | M31: #N/A | N31: #N/A | O31: #N/A | P31: =VLOOKUP(#REF!,整户取消信息表!#REF!,1,FALSE) -> #REF! | Q31: =VLOOKUP(#REF!,#REF!,1,FALSE) -> #REF! | R31: 脱贫户 | S31: 脱贫不稳定户 | T31: =VLOOKUP(#REF!,花名册!#REF!,2,FALSE) -> #REF! | U31: =MIDB(#REF!,11,2) -> #REF! | V31: =H31&G31 -> 龙口镇文院村新建组 | W31: =VLOOKUP(#REF!,[2]分析1!$M:$M,1,FALSE) -> #REF!
A32: 18102 | B32: 邓华明 | E32: 刘忠鹏 | F32: 子/婿 | G32: 文院村新建组 | H32: 龙口镇 | I32: =YEAR(TODAY())-MID(#REF!,7,4) -> #REF! | J32: =IF(OR(LEN(#REF!)=15,LEN(#REF!)=18),IF(MOD(MID(#REF!,15,3)*1,2),"男","女"),#N/A) -> #REF! | K32: =VLOOKUP(#REF!,花名册!E:I,9,FALSE) -> #REF! | L32: =VLOOKUP(#REF!,[1]全部!$C:$C,1,FALSE) -> #REF! | M32: #N/A | N32: #N/A | O32: #N/A | P32: =VLOOKUP(#REF!,整户取消信息表!#REF!,1,FALSE) -> #REF! | Q32: =VLOOKUP(#REF!,#REF!,1,FALSE) -> #REF! | R32: 脱贫户 | S32: 脱贫不稳定户 | T32: =VLOOKUP(#REF!,花名册!#REF!,2,FALSE) -> #REF! | U32: =MIDB(#REF!,11,2) -> #REF! | V32: =H32&G32 -> 龙口镇文院村新建组 | W32: =VLOOKUP(#REF!,[2]分析1!$M:$M,1,FALSE) -> #REF!
A33: 18103 | B33: 邓焕民 | C33: 4 | D33: 1 | E33: 邓焕民 | F33: 本人 | G33: 芦溪村老屋场组 | H33: 龙口镇 | I33: =YEAR(TODAY())-MID(#REF!,7,4) -> #REF! | J33: =IF(OR(LEN(#REF!)=15,LEN(#REF!)=18),IF(MOD(MID(#REF!,15,3)*1,2),"男","女"),#N/A) -> #REF! | K33: =VLOOKUP(#REF!,花名册!E:I,9,FALSE) -> #REF! | L33: =VLOOKUP(#REF!,[1]全部!$C:$C,1,FALSE) -> #REF! | M33: #N/A | N33: #N/A | O33: #N/A | P33: =VLOOKUP(#REF!,整户取消信息表!#REF!,1,FALSE) -> #REF! | Q33: =VLOOKUP(#REF!,#REF!,1,FALSE) -> #REF! | R33: 脱贫户 | S33: 脱贫不稳定户 | T33: =VLOOKUP(#REF!,花名册!#REF!,2,FALSE) -> #REF! | U33: =MIDB(#REF!,11,2) -> #REF! | V33: =H33&G33 -> 龙口镇芦溪村老屋场组 | W33: =VLOOKUP(#REF!,[2]分析1!$M:$M,1,FALSE) -> #REF!
A34: 18104 | B34: 邓经东 | C34: 5 | D34: 3 | E34: 邓经东 | F34: 本人 | G34: 中岭村合顺组 | H34: 龙口镇 | I34: =YEAR(TODAY())-MID(#REF!,7,4) -> #REF! | J34: =IF(OR(LEN(#REF!)=15,LEN(#REF!)=18),IF(MOD(MID(#REF!,15,3)*1,2),"男","女"),#N/A) -> #REF! | K34: =VLOOKUP(#REF!,花名册!E:I,9,FALSE) -> #REF! | L34: =VLOOKUP(#REF!,[1]全部!$C:$C,1,FALSE) -> #REF! | M34: #N/A | N34: #N/A | O34: #N/A | P34: =VLOOKUP(#REF!,整户取消信息表!#REF!,1,FALSE) -> #REF! | Q34: =VLOOKUP(#REF!,#REF!,1,FALSE) -> #REF! | R34: 脱贫户 | S34: #N/A | T34: =VLOOKUP(#REF!,花名册!#REF!,2,FALSE) -> #REF! | U34: =MIDB(#REF!,11,2) -> #REF! | V34: =H34&G34 -> 龙口镇中岭村合顺组 | W34: =VLOOKUP(#REF!,[2]分析1!$M:$M,1,FALSE) -> #REF!
A35: 18105 | B35: 邓经东 | E35: 邓经辉 | F35: 兄/弟/姐/妹 | G35: 中岭村合顺组 | H35: 龙口镇 | I35: =YEAR(TODAY())-MID(#REF!,7,4) -> #REF! | J35: =IF(OR(LEN(#REF!)=15,LEN(#REF!)=18),IF(MOD(MID(#REF!,15,3)*1,2),"男","女"),#N/A) -> #REF! | K35: =VLOOKUP(#REF!,花名册!E:I,9,FALSE) -> #REF! | L35: =VLOOKUP(#REF!,[1]全部!$C:$C,1,FALSE) -> #REF! | M35: #N/A | N35: #N/A | O35: #N/A | P35: =VLOOKUP(#REF!,整户取消信息表!#REF!,1,FALSE) -> #REF! | Q35: =VLOOKUP(#REF!,#REF!,1,FALSE) -> #REF! | R35: 脱贫户 | S35: 脱贫不稳定户 | T35: =VLOOKUP(#REF!,花名册!#REF!,2,FALSE) -> #REF! | U35: =MIDB(#REF!,11,2) -> #REF! | V35: =H35&G35 -> 龙口镇中岭村合顺组 | W35: =VLOOKUP(#REF!,[2]分析1!$M:$M,1,FALSE) -> #REF!
A36: 18106 | B36: 邓经东 | E36: 邓子清 | F36: 子/婿 | G36: 中岭村合顺组 | H36: 龙口镇 | I36: =YEAR(TODAY())-MID(#REF!,7,4) -> #REF! | J36: =IF(OR(LEN(#REF!)=15,LEN(#REF!)=18),IF(MOD(MID(#REF!,15,3)*1,2),"男","女"),#N/A) -> #REF! | K36: =VLOOKUP(#REF!,花名册!E:I,9,FALSE) -> #REF! | L36: =VLOOKUP(#REF!,[1]全部!$C:$C,1,FALSE) -> #REF! | M36: #N/A | N36: #N/A | O36: #N/A | P36: =VLOOKUP(#REF!,整户取消信息表!#REF!,1,FALSE) -> #REF! | Q36: =VLOOKUP(#REF!,#REF!,1,FALSE) -> #REF! | R36: 脱贫户 | S36: 脱贫不稳定户 | T36: =VLOOKUP(#REF!,花名册!#REF!,2,FALSE) -> #REF! | U36: =MIDB(#REF!,11,2) -> #REF! | V36: =H36&G36 -> 龙口镇中岭村合顺组 | W36: =VLOOKUP(#REF!,[2]分析1!$M:$M,1,FALSE) -> #REF!
A37: 18107 | B37: 邓习洋 | C37: 5 | D37: 4 | E37: 邓习洋 | F37: 本人 | G37: 中岭村存敬组 | H37: 龙口镇 | I37: =YEAR(TODAY())-MID(#REF!,7,4) -> #REF! | J37: =IF(OR(LEN(#REF!)=15,LEN(#REF!)=18),IF(MOD(MID(#REF!,15,3)*1,2),"男","女"),#N/A) -> #REF! | K37: =VLOOKUP(#REF!,花名册!E:I,9,FALSE) -> #REF! | L37: =VLOOKUP(#REF!,[1]全部!$C:$C,1,FALSE) -> #REF! | M37: #N/A | N37: #N/A | O37: #N/A | P37: =VLOOKUP(#REF!,整户取消信息表!#REF!,1,FALSE) -> #REF! | Q37: =VLOOKUP(#REF!,#REF!,1,FALSE) -> #REF! | R37: 脱贫户 | S37: 脱贫不稳定户 | T37: =VLOOKUP(#REF!,花名册!#REF!,2,FALSE) -> #REF! | U37: =MIDB(#REF!,11,2) -> #REF! | V37: =H37&G37 -> 龙口镇中岭村存敬组 | W37: =VLOOKUP(#REF!,[2]分析1!$M:$M,1,FALSE) -> #REF!
A38: 18108 | B38: 邓习洋 | E38: 邓雅琪 | F38: 孙子女/外孙子女 | G38: 中岭村存敬组 | H38: 龙口镇 | I38: =YEAR(TODAY())-MID(#REF!,7,4) -> #REF! | J38: =IF(OR(LEN(#REF!)=15,LEN(#REF!)=18),IF(MOD(MID(#REF!,15,3)*1,2),"男","女"),#N/A) -> #REF! | K38: =VLOOKUP(#REF!,花名册!E:I,9,FALSE) -> #REF! | L38: =VLOOKUP(#REF!,[1]全部!$C:$C,1,FALSE) -> #REF! | M38: #N/A | N38: #N/A | O38: #N/A | P38: =VLOOKUP(#REF!,整户取消信息表!#REF!,1,FALSE) -> #REF! | Q38: =VLOOKUP(#REF!,#REF!,1,FALSE) -> #REF! | R38: 脱贫户 | S38: 脱贫不稳定户 | T38: =VLOOKUP(#REF!,花名册!#REF!,2,FALSE) -> #REF! | U38: =MIDB(#REF!,11,2) -> #REF! | V38: =H38&G38 -> 龙口镇中岭村存敬组 | W38: =VLOOKUP(#REF!,[2]分析1!$M:$M,1,FALSE) -> #REF!
A39: 18109 | B39: 邓习洋 | E39: 邓晓慧 | F39: 孙子女/外孙子女 | G39: 中岭村存敬组 | H39: 龙口镇 | I39: =YEAR(TODAY())-MID(#REF!,7,4) -> #REF! | J39: =IF(OR(LEN(#REF!)=15,LEN(#REF!)=18),IF(MOD(MID(#REF!,15,3)*1,2),"男","女"),#N/A) -> #REF! | K39: =VLOOKUP(#REF!,花名册!E:I,9,FALSE) -> #REF! | L39: =VLOOKUP(#REF!,[1]全部!$C:$C,1,FALSE) -> #REF! | M39: #N/A | N39: #N/A | O39: #N/A | P39: =VLOOKUP(#REF!,整户取消信息表!#REF!,1,FALSE) -> #REF! | Q39: =VLOOKUP(#REF!,#REF!,1,FALSE) -> #REF! | R39: 脱贫户 | S39: 脱贫不稳定户 | T39: =VLOOKUP(#REF!,花名册!#REF!,2,FALSE) -> #REF! | U39: =MIDB(#REF!,11,2) -> #REF! | V39: =H39&G39 -> 龙口镇中岭村存敬组 | W39: =VLOOKUP(#REF!,[2]分析1!$M:$M,1,FALSE) -> #REF!
A40: 18110 | B40: 邓习洋 | E40: 邓瑞谦 | F40: 孙子女/外孙子女 | G40: 中岭村存敬组 | H40: 龙口镇 | I40: =YEAR(TODAY())-MID(#REF!,7,4) -> #REF! | J40: =IF(OR(LEN(#REF!)=15,LEN(#REF!)=18),IF(MOD(MID(#REF!,15,3)*1,2),"男","女"),#N/A) -> #REF! | K40: =VLOOKUP(#REF!,花名册!E:I,9,FALSE) -> #REF! | L40: =VLOOKUP(#REF!,[1]全部!$C:$C,1,FALSE) -> #REF! | M40: #N/A | N40: #N/A | O40: #N/A | P40: =VLOOKUP(#REF!,整户取消信息表!#REF!,1,FALSE) -> #REF! | Q40: =VLOOKUP(#REF!,#REF!,1,FALSE) -> #REF! | R40: 脱贫户 | S40: 脱贫不稳定户 | T40: =VLOOKUP(#REF!,花名册!#REF!,2,FALSE) -> #REF! | U40: =MIDB(#REF!,11,2) -> #REF! | V40: =H40&G40 -> 龙口镇中岭村存敬组 | W40: =VLOOKUP(#REF!,[2]分析1!$M:$M,1,FALSE) -> #REF!
...

Sheet 核对稿
A1: 兴国县农村低保2025年8月份拨款明细表
A2: 兴国县民政局 2025年8月
A3: 资金拨入：收款人名称：兴国县民政局 账号：1440801262206020010002 开户行：兴国农商行
A4: 行政区划 | B4: 农户数 | C4: 补助人数 | D4: 常年补助人口数 | E4: 非常年补助人口数 | F4: 常年补助金额 | G4: 非常年补助金额 | H4: 实发合计 | I4: 取消户数 | J4: 取消人数 | K4: 新增户数 | L4: 新增人数 | M4: 调减 | N4: 调增 | O4: 常补对象人数占比 | P4: 45839 | T4: 户数 | U4: 人数 | Z4: 人均补差
A5: 潋江镇 | B5: 574 | C5: 1091 | D5: 120 | E5: =C5-D5 -> 971 | F5: =765*D5 -> 91800 | G5: 441338 | H5: =G5+F5 -> 533138 | I5: 1 | J5: 1 | K5: 4 | L5: 5 | M5: 0 | N5: 1 | O5: =D5/Q5 -> 0.11049724 | P5: 571 | Q5: 1086 | R5: =P5-I5+K5 -> 574 | S5: =Q5-J5+L5-M5+N5 -> 1091 | T5: =B5=R5 -> TRUE | U5: =C5=S5 -> TRUE | V5: =F5/D5 -> 765 | W5: =D5+E5 -> 1091 | X5: =F5+G5 -> 533138 | Y5: =X5=H5 -> TRUE | Z5: =H5/C5 -> 488.66911
A6: 长冈乡 | B6: 899 | C6: 1606 | D6: 238 | E6: =C6-D6 -> 1368 | F6: =765*D6 -> 182070 | G6: 660264 | H6: =G6+F6 -> 842334 | I6: 0 | J6: 0 | K6: 10 | L6: 13 | M6: 4 | N6: 1 | O6: =D6/Q6 -> 0.14912281 | P6: 889 | Q6: 1596 | R6: =P6-I6+K6 -> 899 | S6: =Q6-J6+L6-M6+N6 -> 1606 | T6: =B6=R6 -> TRUE | U6: =C6=S6 -> TRUE | V6: =F6/D6 -> 765 | W6: =D6+E6 -> 1606 | X6: =F6+G6 -> 842334 | Y6: =X6=H6 -> TRUE | Z6: =H6/C6 -> 524.49191
A7: 鼎龙乡 | B7: 693 | C7: 1414 | D7: 256 | E7: =C7-D7 -> 1158 | F7: =765*D7 -> 195840 | G7: 547206 | H7: =G7+F7 -> 743046 | I7: 1 | J7: 1 | K7: 5 | L7: 10 | M7: 2 | N7: 1 | O7: =D7/Q7 -> 0.18207681 | P7: 689 | Q7: 1406 | R7: =P7-I7+K7 -> 693 | S7: =Q7-J7+L7-M7+N7 -> 1414 | T7: =B7=R7 -> TRUE | U7: =C7=S7 -> TRUE | V7: =F7/D7 -> 765 | W7: =D7+E7 -> 1414 | X7: =F7+G7 -> 743046 | Y7: =X7=H7 -> TRUE | Z7: =H7/C7 -> 525.49222
A8: 城岗镇 | B8: 940 | C8: 1793 | D8: 318 | E8: =C8-D8 -> 1475 | F8: =765*D8 -> 243270 | G8: 684098 | H8: =G8+F8 -> 927368 | I8: 1 | J8: 1 | K8: 6 | L8: 9 | M8: 3 | N8: 2 | O8: =D8/Q8 -> 0.17805151 | P8: 935 | Q8: 1786 | R8: =P8-I8+K8 -> 940 | S8: =Q8-J8+L8-M8+N8 -> 1793 | T8: =B8=R8 -> TRUE | U8: =C8=S8 -> TRUE | V8: =F8/D8 -> 765 | W8: =D8+E8 -> 1793 | X8: =F8+G8 -> 927368 | Y8: =X8=H8 -> TRUE | Z8: =H8/C8 -> 517.21584
A9: 良村镇 | B9: 769 | C9: 1541 | D9: 205 | E9: =C9-D9 -> 1336 | F9: =765*D9 -> 156825 | G9: 647029 | H9: =G9+F9 -> 803854 | I9: 2 | J9: 2 | K9: 7 | L9: 7 | M9: 2 | N9: 2 | O9: =D9/Q9 -> 0.13346354 | P9: 764 | Q9: 1536 | R9: =P9-I9+K9 -> 769 | S9: =Q9-J9+L9-M9+N9 -> 1541 | T9: =B9=R9 -> TRUE | U9: =C9=S9 -> TRUE | V9: =F9/D9 -> 765 | W9: =D9+E9 -> 1541 | X9: =F9+G9 -> 803854 | Y9: =X9=H9 -> TRUE | Z9: =H9/C9 -> 521.64439
A10: 南坑乡 | B10: 276 | C10: 520 | D10: 73 | E10: =C10-D10 -> 447 | F10: =765*D10 -> 55845 | G10: 212052 | H10: =G10+F10 -> 267897 | I10: 0 | J10: 0 | K10: 1 | L10: 3 | M10: 0 | N10: 0 | O10: =D10/Q10 -> 0.14119923 | P10: 275 | Q10: 517 | R10: =P10-I10+K10 -> 276 | S10: =Q10-J10+L10-M10+N10 -> 520 | T10: =B10=R10 -> TRUE | U10: =C10=S10 -> TRUE | V10: =F10/D10 -> 765 | W10: =D10+E10 -> 520 | X10: =F10+G10 -> 267897 | Y10: =X10=H10 -> TRUE | Z10: =H10/C10 -> 515.18654
A11: 枫边乡 | B11: 407 | C11: 840 | D11: 153 | E11: =C11-D11 -> 687 | F11: =765*D11 -> 117045 | G11: 331527 | H11: =G11+F11 -> 448572 | I11: 0 | J11: 0 | K11: 5 | L11: 7 | M11: 0 | N11: 0 | O11: =D11/Q11 -> 0.18367347 | P11: 402 | Q11: 833 | R11: =P11-I11+K11 -> 407 | S11: =Q11-J11+L11-M11+N11 -> 840 | T11: =B11=R11 -> TRUE | U11: =C11=S11 -> TRUE | V11: =F11/D11 -> 765 | W11: =D11+E11 -> 840 | X11: =F11+G11 -> 448572 | Y11: =X11=H11 -> TRUE | Z11: =H11/C11 -> 534.01429
A12: 崇贤乡 | B12: 477 | C12: 986 | D12: 187 | E12: =C12-D12 -> 799 | F12: =765*D12 -> 143055 | G12: 368023 | H12: =G12+F12 -> 511078 | I12: 1 | J12: 1 | K12: 5 | L12: 6 | M12: 2 | N12: 0 | O12: =D12/Q12 -> 0.19023398 | P12: 473 | Q12: 983 | R12: =P12-I12+K12 -> 477 | S12: =Q12-J12+L12-M12+N12 -> 986 | T12: =B12=R12 -> TRUE | U12: =C12=S12 -> TRUE | V12: =F12/D12 -> 765 | W12: =D12+E12 -> 986 | X12: =F12+G12 -> 511078 | Y12: =X12=H12 -> TRUE | Z12: =H12/C12 -> 518.33469
A13: 方太乡 | B13: 317 | C13: 681 | D13: 80 | E13: =C13-D13 -> 601 | F13: =765*D13 -> 61200 | G13: 272365 | H13: =G13+F13 -> 333565 | I13: 2 | J13: 2 | K13: 0 | L13: 0 | M13: 2 | N13: 0 | O13: =D13/Q13 -> 0.11678832 | P13: 319 | Q13: 685 | R13: =P13-I13+K13 -> 317 | S13: =Q13-J13+L13-M13+N13 -> 681 | T13: =B13=R13 -> TRUE | U13: =C13=S13 -> TRUE | V13: =F13/D13 -> 765 | W13: =D13+E13 -> 681 | X13: =F13+G13 -> 333565 | Y13: =X13=H13 -> TRUE | Z13: =H13/C13 -> 489.81645
A14: 高兴镇 | B14: 1159 | C14: 2144 | D14: 317 | E14: =C14-D14 -> 1827 | F14: =765*D14 -> 242505 | G14: 835377 | H14: =G14+F14 -> 1077882 | I14: 6 | J14: 6 | K14: 4 | L14: 6 | M14: 4 | N14: 0 | O14: =D14/Q14 -> 0.14757914 | P14: 1161 | Q14: 2148 | R14: =P14-I14+K14 -> 1159 | S14: =Q14-J14+L14-M14+N14 -> 2144 | T14: =B14=R14 -> TRUE | U14: =C14=S14 -> TRUE | V14: =F14/D14 -> 765 | W14: =D14+E14 -> 2144 | X14: =F14+G14 -> 1077882 | Y14: =X14=H14 -> TRUE | Z14: =H14/C14 -> 502.74347
A15: 茶园乡 | B15: 494 | C15: 905 | D15: 123 | E15: =C15-D15 -> 782 | F15: =765*D15 -> 94095 | G15: 373850 | H15: =G15+F15 -> 467945 | I15: 3 | J15: 3 | K15: 1 | L15: 1 | M15: 5 | N15: 0 | O15: =D15/Q15 -> 0.13486842 | P15: 496 | Q15: 912 | R15: =P15-I15+K15 -> 494 | S15: =Q15-J15+L15-M15+N15 -> 905 | T15: =B15=R15 -> TRUE | U15: =C15=S15 -> TRUE | V15: =F15/D15 -> 765 | W15: =D15+E15 -> 905 | X15: =F15+G15 -> 467945 | Y15: =X15=H15 -> TRUE | Z15: =H15/C15 -> 517.0663
A16: 均村乡 | B16: 949 | C16: 1928 | D16: 285 | E16: =C16-D16 -> 1643 | F16: =765*D16 -> 218025 | G16: 752099 | H16: =G16+F16 -> 970124 | I16: 3 | J16: 3 | K16: 3 | L16: 3 | M16: 3 | N16: 0 | O16: =D16/Q16 -> 0.14759192 | P16: 949 | Q16: 1931 | R16: =P16-I16+K16 -> 949 | S16: =Q16-J16+L16-M16+N16 -> 1928 | T16: =B16=R16 -> TRUE | U16: =C16=S16 -> TRUE | V16: =F16/D16 -> 765 | W16: =D16+E16 -> 1928 | X16: =F16+G16 -> 970124 | Y16: =X16=H16 -> TRUE | Z16: =H16/C16 -> 503.17635
... A29: 兴江乡 | B29: 689 | C29: 1338 | D29: 165 | E29: =C29-D29 -> 1173 | F29: =765*D29 -> 126225 | G29: 567900 | H29: =G29+F29 -> 694125 | I29: 2 | J29: 2 | K29: 4 | L29: 9 | M29: 2 | N29: 4 | O29: =D29/Q29 -> 0.1241535 | P29: 687 | Q29: 1329 | R29: =P29-I29+K29 -> 689 | S29: =Q29-J29+L29-M29+N29 -> 1338 | T29: =B29=R29 -> TRUE | U29: =C29=S29 -> TRUE | V29: =F29/D29 -> 765 | W29: =D29+E29 -> 1338 | X29: =F29+G29 -> 694125 | Y29: =X29=H29 -> TRUE | Z29: =H29/C29 -> 518.77803
A30: 合 计 | B30: =SUM(B5:B29) -> 15267 | C30: =SUM(C5:C29) -> 31008 | D30: =SUM(D5:D29) -> 4517 | E30: =SUM(E5:E29) -> 26491 | F30: =SUM(F5:F29) -> 3455505 | G30: =SUM(G5:G29) -> 12377251 | H30: =SUM(H5:H29) -> 15832756 | I30: =SUM(I5:I29) -> 47 | ... N30: =SUM(N5:N29) -> 19 | O30: =D30/Q30 -> 0.14584611 | P30: 15213 | Q30: 30971 | R30: =P30-I30+K30 -> 15267 | S30: =Q30-J30+L30-M30+N30 -> 31008 | T30: =B30=R30 -> TRUE | U30: =C30=S30 -> TRUE | V30: =F30/D30 -> 765 | W30: =D30+E30 -> 31008 | X30: =F30+G30 -> 15832756 | Y30: =X30=H30 -> TRUE | Z30: =H30/C30 -> 510.6023
A32: 经办人： | I32: 股室负责人： | O32: =J30+M30 -> 132 | P32: =B30-9 -> 15258 | Q32: =C30-10 -> 30998
A33: 分管领导审核： | F33: 局长审核： | J33: 签拨人：
O34: =L30+N30 -> 169 | P34: =J30+M30 -> 132 | Q34: =O34-P34 -> 37

Sheet 整户取消
A1: 序号 | B1: 行政区划代码 | C1: 行政区划名称 | D1: 农户姓名 | E1: 家庭人数 | F1: 补助人数 | G1: 家庭中重度残疾人数 | H1: 家庭中重大疾病人数 | I1: 救助档次 | J1: 常年补助家庭人口数 | K1: 常年补助金额 | L1: 非常年补助家庭人口数 | M1: 非常年补助金额 | N1: 实发 合计 | O1: 是否整户保 | P1: 是否纳入精准扶贫建档立卡 | Q1: 备注（必须填写取消原因） | R1: 是否通过乡镇党政联席会议讨论 | S1: 乡镇 | U1: 一、因人情保关系保取消 | V1: 二、因劳动力多错保 | W1: 三、因有赡养抚养扶养能力取消 | X1: 四、因人员死亡，户口外迁外嫁、失联取消 | Y1: 五、因违反七不保四从严取消 | Z1: 六、因转为特困人员(孤儿)待遇取消 | AA1: 七、因服刑人员取消 | AB1: 八、因不符合单人保条件取消 | AC1: 合计
A2: 1 | B2: 360732170902 | C2: 中岭村大告组 | D2: 刘仁香 | E2: 1 | H2: B | K2: 1 | L2: 565 | M2: 565 | N2: FALSE | O2: 是 | P2: 家庭人口2人，儿子在外务工，家庭财产超标，无费用支出。 | S2: 龙口镇 | T2: =VLOOKUP(#REF!,花名册!#REF!,1,FALSE) -> #REF!
A3: 2 | C3: 来溪村社背组 | D3: 钟文英 | E3: 4 | F3: 1 | I3: D | L3: 1 | M3: 295 | N3: 295 | O3: 否 | P3: 否 | Q3: 死亡 | S3: 龙口镇 | T3: =VLOOKUP(#REF!,花名册!#REF!,1,FALSE) -> #REF!
A4: 3 | B4: 360732170608 | C4: 芦溪村芦一组 | D4: 刘满秀 | E4: 2 | F4: 1 | I4: C | L4: 1 | M4: 400 | N4: 400 | O4: FALSE | P4: 是 | Q4: 死亡 | S4: 龙口镇 | T4: =VLOOKUP(#REF!,花名册!#REF!,1,FALSE) -> #REF!

Sheet 整户取消信息表
A1: 序号 | B1: 户主 | C1: 家庭人口 | D1: 享受人口 | E1: 姓名 | F1: 家庭关系 | G1: 人员详细住址 | H1: 乡镇
A2: 1 | B2: 刘仁香 | C2: 2 | D2: 1 | E2: 刘仁香 | F2: 户主/本人 | G2: 中岭村大告组 | H2: 龙口镇 | I2: =VLOOKUP(#REF!,家庭信息表!#REF!,1,FALSE) -> #REF!
A3: 2 | B3: 钟文英 | C3: 4 | D3: 1 | E3: 钟文英 | F3: 本人 | G3: 来溪村社背组 | H3: 龙口镇 | I3: =VLOOKUP(#REF!,家庭信息表!#REF!,1,FALSE) -> #REF!
A4: 33 | B4: 刘满秀 | C4: 2 | D4: 1 | E4: 刘满秀 | F4: 户主/本人 | G4: 芦溪村芦一组 | H4: 龙口镇 | I4: =VLOOKUP(#REF!,家庭信息表!#REF!,1,FALSE) -> #REF!

Sheet 整户新增
A1: 序号 | B1: 行政区划代码 | C1: 行政区划名称 | D1: 农户 姓名 | E1: 家庭人数 | F1: 补助人数 | G1: 家庭中重度残疾人数（一级，二级为重度残疾） | H1: 家庭中重大疾病人数（自费部分两万元以上为重大疾病） | I1: 救助档次 | J1: 常年补助家庭人口数 | K1: 常年补助金额 | L1: 非常年补助家庭人口数 | M1: 非常年补助金额 | N1: 实发 合计 | O1: 是否整户保 | P1: 是否精准扶贫 | Q1: （新增）原因 | R1: 乡镇
A2: 1 | C2: 来溪村良屋组 | D2: 刘新才 | E2: 6 | F2: 3 | H2: 1 | I2: C | L2: 3 | M2: 1200 | N2: 1200 | O2: 否 | P2: 否 | Q2: 家庭人口6人，本人患肝癌晚期，妻子在家务农，偶尔打零工，儿子在广东务工，儿媳有轻微智障，在家带小孩，两个孙女均在来溪小学上学；儿子也常年没有钱寄回家，全靠妻子在家务家农和打零工维持生活。 | R2: 龙口镇 | S2: =VLOOKUP(#REF!,花名册!#REF!,1,FALSE) -> #REF!
A3: 2 | C3: 龙口村十组 | D3: 周炜 | E3: 2 | F3: 1 | H3: 1 | I3: C | L3: 1 | M3: 400 | N3: 400 | O3: 否 | P3: 否 | Q3: 家庭人口2人，本人在均村奶奶娘家就读中学八年级，父亲今年因病死亡，母亲在外务工，不常与其联系。 | R3: 龙口镇 | S3: =VLOOKUP(#REF!,花名册!#REF!,1,FALSE) -> #REF!
A4: 3 | C4: 留村村上一组 | D4: 刘田村佬 | E4: 4 | F4: 3 | I4: B | L4: 3 | M4: 1695 | N4: 1695 | O4: 否 | P4: 否 | Q4: 家庭人口4人，本人年老，患多种慢性病，妻子患有多发性恶性骨髓瘤，多次住院，医疗自费已花2万余元，儿子常年手抖，现也在医院照顾妻子，全靠养女一人在赣州务工维持生活。 | R4: 龙口镇 | S4: =VLOOKUP(#REF!,花名册!#REF!,1,FALSE) -> #REF!
A5: 4 | C5: 留村村新华组 | D5: 刘才香 | E5: 1 | F5: 1 | I5: B | L5: 1 | M5: 565 | N5: 565 | O5: 是 | P5: 否 | Q5: 家庭人口1人，九几年从赣县三溪乡嫁留村刘世权家，生活十余年后离婚，离婚后户口没有迁走，挂靠在新华组，一直在外流浪与几个男人生活过，2014年与东村乡坝子上黄才森办理结婚，在红门烟花爆竹厂生活了几年，而后一直一人在城西街靠当保姆维持生活；亲生儿子和留村继子都不愿意赡养她，东村乡黄才森的儿子都不认识她。现因年老无劳力而申请救助。 | R5: 龙口镇 | S5: =VLOOKUP(#REF!,花名册!#REF!,1,FALSE) -> #REF!

Sheet 整户新增信息表
A1: 序号 | B1: 户主 | C1: 家庭人口 | D1: 享受人口 | E1: 姓名 | F1: 家庭关系 | G1: 人员详细住址 | H1: 乡镇
A2: 1 | B2: 刘新才 | C2: 6 | D2: 3 | E2: 刘新才 | F2: 本人 | G2: 来溪村良屋组 | H2: 龙口镇 | I2: =VLOOKUP(#REF!,家庭信息表!#REF!,1,FALSE) -> #REF!
A3: 2 | B3: 刘新才 | E3: 刘美燕 | F3: 孙女 | G3: 来溪村良屋组 | H3: 龙口镇 | I3: =VLOOKUP(#REF!,家庭信息表!#REF!,1,FALSE) -> #REF!
A4: 3 | B4: 刘新才 | E4: 刘美金 | F4: 孙女 | G4: 来溪村良屋组 | H4: 龙口镇 | I4: =VLOOKUP(#REF!,家庭信息表!#REF!,1,FALSE) -> #REF!
A5: 4 | B5: 周炜 | C5: 2 | D5: 1 | E5: 周炜 | F5: 本人 | G5: 龙口村十组 | H5: 龙口镇 | I5: =VLOOKUP(#REF!,家庭信息表!#REF!,1,FALSE) -> #REF!
A6: 5 | B6: 刘田村佬 | C6: 4 | D6: 3 | E6: 刘田村佬 | F6: 本人 | G6: 留村村上一组 | H6: 龙口镇 | I6: =VLOOKUP(#REF!,家庭信息表!#REF!,1,FALSE) -> #REF!
A7: 6 | B7: 刘田村佬 | E7: 李招兰 | F7: 配偶 | G7: 留村村上一组 | H7: 龙口镇 | I7: =VLOOKUP(#REF!,家庭信息表!#REF!,1,FALSE) -> #REF!
A8: 7 | B8: 刘田村佬 | E8: 刘建武 | F8: 儿子 | G8: 留村村上一组 | H8: 龙口镇 | I8: =VLOOKUP(#REF!,家庭信息表!#REF!,1,FALSE) -> #REF!
A9: 8 | B9: 刘才香 | C9: 1 | D9: 1 | E9: 刘才香 | F9: 本人 | G9: 留村村新华组 | H9: 龙口镇 | I9: =VLOOKUP(#REF!,家庭信息表!#REF!,1,FALSE) -> #REF!

Sheet 打印稿
A1: 兴国县农村低保2025年8月份拨款明细表
A2: 兴国县民政局 2025年8月
A3: 资金拨入：收款人名称：兴国县民政局 账号：1440801262206020010002 开户行：兴国农商行
A4: 行政区划 | B4: 上月户数 | C4: 本月户数 | D4: 较上月户数增减 | E4: 上月人数 | F4: 本月人数 | G4: 较上月人数数增减 | H4: 上月发放金额 | I4: 本月应发金额 | J4: 较上月金额增减
A5: 潋江镇 | B5: 571 | C5: 574 | D5: =C5-B5 -> 3 | E5: 1086 | F5: 1091 | G5: =F5-E5 -> 5 | H5: 531348 | I5: 533138 | J5: =I5-H5 -> 1790
A6: 长冈乡 | B6: 889 | C6: 899 | D6: =C6-B6 -> 10 | E6: 1596 | F6: 1606 | G6: =F6-E6 -> 10 | H6: 838477 | I6: 842334 | J6: =I6-H6 -> 3857
A7: 鼎龙乡 | B7: 689 | C7: 693 | D7: =C7-B7 -> 4 | E7: 1406 | F7: 1414 | G7: =F7-E7 -> 8 | H7: 740846 | I7: 743046 | J7: =I7-H7 -> 2200
A8: 城岗镇 | B8: 935 | C8: 940 | D8: =C8-B8 -> 5 | E8: 1786 | F8: 1793 | G8: =F8-E8 -> 7 | H8: 924022 | I8: 927368 | J8: =I8-H8 -> 3346
A9: 良村镇 | B9: 764 | C9: 769 | D9: =C9-B9 -> 5 | E9: 1536 | F9: 1541 | G9: =F9-E9 -> 5 | H9: 802169 | I9: 803854 | J9: =I9-H9 -> 1685
A10: 南坑乡 | B10: 275 | C10: 276 | D10: =C10-B10 -> 1 | E10: 517 | F10: 520 | G10: =F10-E10 -> 3 | H10: 266202 | I10: 267897 | J10: =I10-H10 -> 1695
A11: 枫边乡 | B11: 402 | C11: 407 | D11: =C11-B11 -> 5 | E11: 833 | F11: 840 | G11: =F11-E11 -> 7 | H11: 443617 | I11: 448572 | J11: =I11-H11 -> 4955
A12: 崇贤乡 | B12: 473 | C12: 477 | D12: =C12-B12 -> 4 | E12: 983 | F12: 986 | G12: =F12-E12 -> 3 | H12: 509896 | I12: 511078 | J12: =I12-H12 -> 1182
A13: 方太乡 | B13: 319 | C13: 317 | D13: =C13-B13 -> -2 | E13: 685 | F13: 681 | G13: =F13-E13 -> -4 | H13: 335495 | I13: 333565 | J13: =I13-H13 -> -1930
A14: 高兴镇 | B14: 1161 | C14: 1159 | D14: =C14-B14 -> -2 | E14: 2148 | F14: 2144 | G14: =F14-E14 -> -4 | H14: 1080707 | I14: 1077882 | J14: =I14-H14 -> -2825
A15: 茶园乡 | B15: 496 | C15: 494 | D15: =C15-B15 -> -2 | E15: 912 | F15: 905 | G15: =F15-E15 -> -7 | H15: 471222 | I15: 467945 | J15: =I15-H15 -> -3277
A16: 均村乡 | B16: 949 | C16: 949 | D16: =C16-B16 -> 0 | E16: 1931 | F16: 1928 | G16: =F16-E16 -> -3 | H16: 971255 | I16: 970124 | J16: =I16-H16 -> -1131
... A29: 兴江乡 | B29: 687 | C29: 689 | D29: =C29-B29 -> 2 | E29: 1329 | F29: 1338 | G29: =F29-E29 -> 9 | H29: 689352 | I29: 694125 | J29: =I29-H29 -> 4773
A30: 合 计 | B30: 15213 | C30: 15267 | D30: =SUM(D5:D29) -> 54 | E30: 30971 | F30: 31008 | G30: =SUM(G5:G29) -> 37 | H30: 15825972 | I30: 15832756 | J30: =SUM(J5:J29) -> 6784
A32: 经办人： | H32: 股室负责人：
A33: 分管领导审核： | F33: 局长审核： | I33: 签拨人：

Sheet 2025年8月补发7月农村低保打印稿 
A1: 兴国县农村低保2025年8月补发7月拨款明细表
A2: 兴国县民政局 2025年8月
A3: 资金拨入：收款人名称：兴国县民政局 账号：1440801262206020010002 开户行：兴国农商行
A4: 行政区划 | B4: 本月户数 | C4: 本月人数 | D4: 本月应发金额
A5: 潋江镇 | B5: 4 | C5: 5 | D5: 1685
A6: 长冈乡 | B6: 10 | C6: 13 | D6: 5422
A7: 鼎龙乡 | B7: 5 | C7: 10 | D7: 3895
A8: 城岗镇 | B8: 6 | C8: 9 | D8: 4206
A9: 良村镇 | B9: 7 | C9: 7 | D9: 2650
A10: 南坑乡 | B10: 1 | C10: 3 | D10: 1695
A11: 枫边乡 | B11: 1 | C11: 2 | D11: 1130
A12: 崇贤乡 | B12: 5 | C12: 6 | D12: 2547
A13: 方太乡 | B13: 0 | C13: 0 | D13: 0
A14: 高兴镇 | B14: 4 | C14: 6 | D14: 2295
A15: 茶园乡 | B15: 1 | C15: 1 | D15: 382
A16: 均村乡 | B16: 4 | C16: 4 | D16: 1894
... A29: 兴江乡 | B29: 4 | C29: 9 | D29: 4425
A30: 合 计 | B30: =SUM(B5:B29) -> 97 | C30: =SUM(C5:C29) -> 145 | D30: =SUM(D5:D29) -> 63017
A32: 经办人： | C32: 股室负责人：
A33: 分管领导审核： | B33: 局长审核： 签拨人：

Sheet 2025年8月补发7月农村低保花名册
A1: 江西省赣州市兴国县最低生活保障资金发放表
A4: 序号 | B4: 乡镇名称 | C4: 村委名称 | D4: 低保户主 | E4: 开户银行 | F4: 开户人 | G4: 家庭人数 | H4: 保障人数 | I4: 是否建档立卡户 | J4: 常补/非常补 | K4: 月保障金 | L4: 发放时间 | M4: 领取人
A5: 15 | B5: 龙口镇 | C5: 龙口村委会 | D5: 周炜 | E5: 江西农信 | F5: 周炜 | G5: 2 | H5: 1 | I5: 否 | J5: 非常补对象 | K5: 400 | L5: 2025-07 | M5: 周炜 | N5: =VLOOKUP(#REF!,整户新增!#REF!,1,FALSE) -> #REF!
A6: 16 | B6: 龙口镇 | C6: 来溪村委会 | D6: 刘新才 | E6: 江西农信 | F6: 刘新才 | G6: 6 | H6: 3 | I6: 否 | J6: 非常补对象 | K6: 1200 | L6: 2025-07 | M6: 刘新才 | N6: =VLOOKUP(#REF!,整户新增!#REF!,1,FALSE) -> #REF!
A7: 20 | B7: 龙口镇 | C7: 留村村委会 | D7: 刘田村佬 | E7: 江西农信 | F7: 刘田村佬 | G7: 4 | H7: 3 | I7: 否 | J7: 非常补对象 | K7: 1695 | L7: 2025-07 | M7: 刘田村佬 | N7: =VLOOKUP(#REF!,整户新增!#REF!,1,FALSE) -> #REF!
A8: 36 | B8: 龙口镇 | C8: 留村村委会 | D8: 刘才香 | E8: 江西农信 | F8: 刘才香 | G8: 1 | H8: 1 | I8: 否 | J8: 非常补对象 | K8: 565 | L8: 2025-07 | M8: 刘才香 | N8: =VLOOKUP(#REF!,整户新增!#REF!,1,FALSE) -> #REF!

Sheet 2025年8月补发7月家庭信息表
A1: 序号 | B1: 户主 | C1: 家庭人口 | D1: 享受人口 | E1: 姓名 | F1: 身份证验证 | G1: 家庭关系 | H1: 人员详细住址 | I1: 乡镇
A2: 1 | B2: 刘新才 | C2: 6 | D2: 3 | E2: 刘新才 | F2: =IF(LEFT(#REF!,17)&MID("10X98765432",MOD(SUM(MID(#REF!,1,1)*2^17,MID(#REF!,2,1)*2^16,MID(#REF!,3,1)*2^15,MID(#REF!,4,1)*2^14,MID(#REF!,5,1)*2^13,MID(#REF!,6,1)*2^12,MID(#REF!,7,1)*2^11,MID(#REF!,8,1)*2^10,MID(#REF!,9,1)*2^9,MID(#REF!,10,1)*2^8,MID(#REF!,11,1)*2^7,MID(#REF!,12,1)*2^6,MID(#REF!,13,1)*2^5,MID(#REF!,14,1)*2^4,MID(#REF!,15,1)*2^3,MID(#REF!,16,1)*2^2,MID(#REF!,17,1)*2^1),11)+1,1)=#REF!,"真实","此身份证号码为错") -> #REF! | G2: 本人 | H2: 来溪村良屋组 | I2: 龙口镇 | J2: =VLOOKUP(#REF!,家庭信息表!#REF!,1,FALSE) -> #REF!
A3: 2 | B3: 刘新才 | E3: 刘美燕 | F3: =IF(LEFT(#REF!,17)&MID("10X98765432",MOD(SUM(MID(#REF!,1,1)*2^17,MID(#REF!,2,1)*2^16,MID(#REF!,3,1)*2^15,MID(#REF!,4,1)*2^14,MID(#REF!,5,1)*2^13,MID(#REF!,6,1)*2^12,MID(#REF!,7,1)*2^11,MID(#REF!,8,1)*2^10,MID(#REF!,9,1)*2^9,MID(#REF!,10,1)*2^8,MID(#REF!,11,1)*2^7,MID(#REF!,12,1)*2^6,MID(#REF!,13,1)*2^5,MID(#REF!,14,1)*2^4,MID(#REF!,15,1)*2^3,MID(#REF!,16,1)*2^2,MID(#REF!,17,1)*2^1),11)+1,1)=#REF!,"真实","此身份证号码为错") -> #REF! | G3: 孙女 | H3: 来溪村良屋组 | I3: 龙口镇 | J3: =VLOOKUP(#REF!,家庭信息表!#REF!,1,FALSE) -> #REF!
A4: 3 | B4: 刘新才 | E4: 刘美金 | F4: =IF(LEFT(#REF!,17)&MID("10X98765432",MOD(SUM(MID(#REF!,1,1)*2^17,MID(#REF!,2,1)*2^16,MID(#REF!,3,1)*2^15,MID(#REF!,4,1)*2^14,MID(#REF!,5,1)*2^13,MID(#REF!,6,1)*2^12,MID(#REF!,7,1)*2^11,MID(#REF!,8,1)*2^10,MID(#REF!,9,1)*2^9,MID(#REF!,10,1)*2^8,MID(#REF!,11,1)*2^7,MID(#REF!,12,1)*2^6,MID(#REF!,13,1)*2^5,MID(#REF!,14,1)*2^4,MID(#REF!,15,1)*2^3,MID(#REF!,16,1)*2^2,MID(#REF!,17,1)*2^1),11)+1,1)=#REF!,"真实","此身份证号码为错") -> #REF! | G4: 孙女 | H4: 来溪村良屋组 | I4: 龙口镇 | J4: =VLOOKUP(#REF!,家庭信息表!#REF!,1,FALSE) -> #REF!
A5: 4 | B5: 周炜 | C5: 2 | D5: 1 | E5: 周炜 | F5: =IF(LEFT(#REF!,17)&MID("10X98765432",MOD(SUM(MID(#REF!,1,1)*2^17,MID(#REF!,2,1)*2^16,MID(#REF!,3,1)*2^15,MID(#REF!,4,1)*2^14,MID(#REF!,5,1)*2^13,MID(#REF!,6,1)*2^12,MID(#REF!,7,1)*2^11,MID(#REF!,8,1)*2^10,MID(#REF!,9,1)*2^9,MID(#REF!,10,1)*2^8,MID(#REF!,11,1)*2^7,MID(#REF!,12,1)*2^6,MID(#REF!,13,1)*2^5,MID(#REF!,14,1)*2^4,MID(#REF!,15,1)*2^3,MID(#REF!,16,1)*2^2,MID(#REF!,17,1)*2^1),11)+1,1)=#REF!,"真实","此身份证号码为错") -> #REF! | G5: 本人 | H5: 龙口村十组 | I5: 龙口镇 | J5: =VLOOKUP(#REF!,家庭信息表!#REF!,1,FALSE) -> #REF!
A6: 5 | B6: 刘田村佬 | C6: 4 | D6: 3 | E6: 刘田村佬 | F6: =IF(LEFT(#REF!,17)&MID("10X98765432",MOD(SUM(MID(#REF!,1,1)*2^17,MID(#REF!,2,1)*2^16,MID(#REF!,3,1)*2^15,MID(#REF!,4,1)*2^14,MID(#REF!,5,1)*2^13,MID(#REF!,6,1)*2^12,MID(#REF!,7,1)*2^11,MID(#REF!,8,1)*2^10,MID(#REF!,9,1)*2^9,MID(#REF!,10,1)*2^8,MID(#REF!,11,1)*2^7,MID(#REF!,12,1)*2^6,MID(#REF!,13,1)*2^5,MID(#REF!,14,1)*2^4,MID(#REF!,15,1)*2^3,MID(#REF!,16,1)*2^2,MID(#REF!,17,1)*2^1),11)+1,1)=#REF!,"真实","此身份证号码为错") -> #REF! | G6: 本人 | H6: 留村村上一组 | I6: 龙口镇 | J6: =VLOOKUP(#REF!,家庭信息表!#REF!,1,FALSE) -> #REF!
A7: 6 | B7: 刘田村佬 | E7: 李招兰 | F7: =IF(LEFT(#REF!,17)&MID("10X98765432",MOD(SUM(MID(#REF!,1,1)*2^17,MID(#REF!,2,1)*2^16,MID(#REF!,3,1)*2^15,MID(#REF!,4,1)*2^14,MID(#REF!,5,1)*2^13,MID(#REF!,6,1)*2^12,MID(#REF!,7,1)*2^11,MID(#REF!,8,1)*2^10,MID(#REF!,9,1)*2^9,MID(#REF!,10,1)*2^8,MID(#REF!,11,1)*2^7,MID(#REF!,12,1)*2^6,MID(#REF!,13,1)*2^5,MID(#REF!,14,1)*2^4,MID(#REF!,15,1)*2^3,MID(#REF!,16,1)*2^2,MID(#REF!,17,1)*2^1),11)+1,1)=#REF!,"真实","此身份证号码为错") -> #REF! | G7: 配偶 | H7: 留村村上一组 | I7: 龙口镇 | J7: =VLOOKUP(#REF!,家庭信息表!#REF!,1,FALSE) -> #REF!
A8: 7 | B8: 刘田村佬 | E8: 刘建武 | F8: =IF(LEFT(#REF!,17)&MID("10X98765432",MOD(SUM(MID(#REF!,1,1)*2^17,MID(#REF!,2,1)*2^16,MID(#REF!,3,1)*2^15,MID(#REF!,4,1)*2^14,MID(#REF!,5,1)*2^13,MID(#REF!,6,1)*2^12,MID(#REF!,7,1)*2^11,MID(#REF!,8,1)*2^10,MID(#REF!,9,1)*2^9,MID(#REF!,10,1)*2^8,MID(#REF!,11,1)*2^7,MID(#REF!,12,1)*2^6,MID(#REF!,13,1)*2^5,MID(#REF!,14,1)*2^4,MID(#REF!,15,1)*2^3,MID(#REF!,16,1)*2^2,MID(#REF!,17,1)*2^1),11)+1,1)=#REF!,"真实","此身份证号码为错") -> #REF! | G8: 儿子 | H8: 留村村上一组 | I8: 龙口镇 | J8: =VLOOKUP(#REF!,家庭信息表!#REF!,1,FALSE) -> #REF!
A9: 8 | B9: 刘才香 | C9: 1 | D9: 1 | E9: 刘才香 | F9: =IF(LEFT(#REF!,17)&MID("10X98765432",MOD(SUM(MID(#REF!,1,1)*2^17,MID(#REF!,2,1)*2^16,MID(#REF!,3,1)*2^15,MID(#REF!,4,1)*2^14,MID(#REF!,5,1)*2^13,MID(#REF!,6,1)*2^12,MID(#REF!,7,1)*2^11,MID(#REF!,8,1)*2^10,MID(#REF!,9,1)*2^9,MID(#REF!,10,1)*2^8,MID(#REF!,11,1)*2^7,MID(#REF!,12,1)*2^6,MID(#REF!,13,1)*2^5,MID(#REF!,14,1)*2^4,MID(#REF!,15,1)*2^3,MID(#REF!,16,1)*2^2,MID(#REF!,17,1)*2^1),11)+1,1)=#REF!,"真实","此身份证号码为错") -> #REF! | G9: 本人 | H9: 留村村新华组 | I9: 龙口镇 | J9: =VLOOKUP(#REF!,家庭信息表!#REF!,1,FALSE) -> #REF!
