Workbook

Sheet 花名册
A1: 序号 | B1: 行政区划代码 | C1: 行政区划名称 | D1: 农户姓名 | E1: 家庭人口 | F1: 补助人数 | G1: 家庭中重度残疾人数 | H1: 家庭中重大疾病人数 | I1: 救助档次 | J1: 常年补助家庭人口数 | K1: 常年补助金额 | L1: 非常年补助家庭人口数 | M1: 非常年补助金额 | N1: 实发合计 | O1: 是否整户保 | P1: 有效衔接办身份 | Q1: 乡镇 | R1: 整户取消
A2: 8903 | B2: 360732170604 | C2: 芦溪村南坑组 | D2: 李春娇 | E2: 5 | F2: 3 | I2: B | L2: 3 | M2: =565*L2 -> 1695 | N2: =565*F2 -> 1695 | O2: FALSE | P2: 脱贫户 | Q2: 龙口镇 | R2: =VLOOKUP(#REF!,整户取消!#REF!,1,FALSE) -> #REF!
A3: 8904 | B3: 360732170102 | C3: 都田村岽上组 | D3: 钟贞林 | E3: 5 | F3: 4 | I3: B | L3: 4 | M3: =565*L3 -> 2260 | N3: =565*F3 -> 2260 | O3: TRUE | P3: 脱贫不稳定户 | Q3: 龙口镇 | R3: =VLOOKUP(#REF!,整户取消!#REF!,1,FALSE) -> #REF!
A4: 8905 | B4: 360732170117 | C4: 都田村黄泥坳组 | D4: 张功喜 | E4: 1 | F4: 1 | I4: A | J4: 1 | K4: =765*J4 -> 765 | N4: =765*F4 -> 765 | O4: TRUE | P4: 脱贫户 | Q4: 龙口镇 | R4: =VLOOKUP(#REF!,整户取消!#REF!,1,FALSE) -> #REF!
A5: 8906 | B5: 360732170117 | C5: 都田村黄泥坳组 | D5: 甘会兰 | E5: 2 | F5: 1 | I5: A | J5: 1 | K5: =765*J5 -> 765 | N5: =765*F5 -> 765 | O5: FALSE | P5: 脱贫户 | Q5: 龙口镇 | R5: =VLOOKUP(#REF!,整户取消!#REF!,1,FALSE) -> #REF!
A6: 8907 | B6: 360732170117 | C6: 都田村黄泥坳组 | D6: 张生发 | E6: 4 | F6: 3 | I6: B | L6: 3 | M6: =565*L6 -> 1695 | N6: =565*F6 -> 1695 | O6: FALSE | P6: 脱贫户 | Q6: 龙口镇 | R6: =VLOOKUP(#REF!,整户取消!#REF!,1,FALSE) -> #REF!
A7: 8908 | B7: 360732170108 | C7: 都田村上都组 | D7: 钟大发 | E7: 1 | F7: 1 | I7: A | J7: 1 | K7: =765*J7 -> 765 | N7: =765*F7 -> 765 | O7: TRUE | P7: 脱贫户 | Q7: 龙口镇 | R7: =VLOOKUP(#REF!,整户取消!#REF!,1,FALSE) -> #REF!
A8: 8909 | B8: 360732170110 | C8: 都田村下都组 | D8: 刘先尧 | E8: 1 | F8: 1 | I8: B | L8: 1 | M8: =565*L8 -> 565 | N8: =565*F8 -> 565 | O8: TRUE | P8: 脱贫户 | Q8: 龙口镇 | R8: =VLOOKUP(#REF!,整户取消!#REF!,1,FALSE) -> #REF!
A9: 8910 | B9: 360732170206 | C9: 丰溪村丰登组 | D9: 李优红 | E9: 3 | F9: 3 | I9: A | J9: 3 | K9: =765*J9 -> 2295 | N9: =765*F9 -> 2295 | O9: TRUE | P9: 脱贫不稳定户 | Q9: 龙口镇 | R9: =VLOOKUP(#REF!,整户取消!#REF!,1,FALSE) -> #REF!
A10: 8911 | B10: 360732170202 | C10: 丰溪村丰荣组 | D10: 陈平 | E10: 1 | F10: 1 | I10: A | J10: 1 | K10: =765*J10 -> 765 | N10: =765*F10 -> 765 | O10: TRUE | P10: 脱贫户 | Q10: 龙口镇 | R10: =VLOOKUP(#REF!,整户取消!#REF!,1,FALSE) -> #REF!
A11: 8912 | B11: 360732170207 | C11: 丰溪村深山组 | D11: 陈六月 | E11: 3 | F11: 3 | I11: A | J11: 3 | K11: =765*J11 -> 2295 | N11: =765*F11 -> 2295 | O11: TRUE | P11: 脱贫户 | Q11: 龙口镇 | R11: =VLOOKUP(#REF!,整户取消!#REF!,1,FALSE) -> #REF!
A12: 8913 | B12: 360732170510 | C12: 来溪村坑内组 | D12: 刘名成 | E12: 2 | F12: 1 | I12: B | L12: 1 | M12: =565*L12 -> 565 | N12: =565*F12 -> 565 | O12: FALSE | P12: 脱贫户 | Q12: 龙口镇 | R12: =VLOOKUP(#REF!,整户取消!#REF!,1,FALSE) -> #REF!
A13: 8914 | B13: 360732170515 | C13: 来溪村来二组 | D13: 钟小英 | E13: 2 | F13: 2 | I13: A | J13: 2 | K13: =765*J13 -> 1530 | N13: =765*F13 -> 1530 | O13: TRUE | P13: 脱贫户 | Q13: 龙口镇 | R13: =VLOOKUP(#REF!,整户取消!#REF!,1,FALSE) -> #REF!
A14: 8915 | B14: 360732170514 | C14: 来溪村来一组 | D14: 肖含桂 | E14: 3 | F14: 3 | I14: B | L14: 3 | M14: =565*L14 -> 1695 | N14: =565*F14 -> 1695 | O14: FALSE | P14: 脱贫户 | Q14: 龙口镇 | R14: =VLOOKUP(#REF!,整户取消!#REF!,1,FALSE) -> #REF!
A15: 8916 | B15: 360732170516 | C15: 来溪村老屋组 | D15: 刘来发 | E15: 2 | F15: 2 | I15: A | J15: 2 | K15: =765*J15 -> 1530 | N15: =765*F15 -> 1530 | O15: TRUE | P15: 脱贫户 | Q15: 龙口镇 | R15: =VLOOKUP(#REF!,整户取消!#REF!,1,FALSE) -> #REF!
A16: 8917 | B16: 360732170505 | C16: 来溪村梅新组 | D16: 钟桂元 | E16: 2 | F16: 1 | I16: A | J16: 1 | K16: =765*J16 -> 765 | N16: =765*F16 -> 765 | O16: TRUE | P16: 脱贫不稳定户 | Q16: 龙口镇 | R16: =VLOOKUP(#REF!,整户取消!#REF!,1,FALSE) -> #REF!
A17: 8918 | B17: 360732170407 | C17: 嶂下村嶂下组 | D17: 陈素兰 | E17: 4 | F17: 1 | H17: 1 | I17: C | L17: 1 | M17: =400*L17 -> 400 | N17: =400*F17 -> 400 | O17: FALSE | P17: #N/A | Q17: 龙口镇 | R17: =VLOOKUP(#REF!,整户取消!#REF!,1,FALSE) -> #REF!
A18: 8919 | B18: 360732170713 | C18: 留村村洞兴组 | D18: 廖乐英 | E18: 2 | F18: 2 | I18: A | J18: 2 | K18: =765*J18 -> 1530 | N18: =765*F18 -> 1530 | O18: TRUE | P18: 脱贫户 | Q18: 龙口镇 | R18: =VLOOKUP(#REF!,整户取消!#REF!,1,FALSE) -> #REF!
A19: 8920 | B19: 360732170303 | C19: 龙口村三组 | D19: 曾国忠 | E19: 3 | F19: 1 | I19: B | L19: 1 | M19: =565*L19 -> 565 | N19: =565*F19 -> 565 | O19: TRUE | P19: 脱贫户 | Q19: 龙口镇 | R19: =VLOOKUP(#REF!,整户取消!#REF!,1,FALSE) -> #REF!
A20: 8921 | B20: 360732170310 | C20: 龙口村十组 | D20: 周会清 | E20: 1 | F20: 1 | I20: A | J20: 1 | K20: =765*J20 -> 765 | N20: =765*F20 -> 765 | O20: TRUE | P20: 脱贫户 | Q20: 龙口镇 | R20: =VLOOKUP(#REF!,整户取消!#REF!,1,FALSE) -> #REF!
A21: 8922 | B21: 360732171005 | C21: 文院村新建组 | D21: 邓华明 | E21: 3 | F21: 2 | I21: B | L21: 2 | M21: =565*L21 -> 1130 | N21: =565*F21 -> 1130 | O21: FALSE | P21: 脱贫户 | Q21: 龙口镇 | R21: =VLOOKUP(#REF!,整户取消!#REF!,1,FALSE) -> #REF!
A22: 8923 | B22: 360732170305 | C22: 龙口村五组 | D22: 周小春 | E22: 3 | F22: 1 | I22: B | L22: 1 | M22: =565*L22 -> 565 | N22: =565*F22 -> 565 | O22: FALSE | P22: 脱贫户 | Q22: 龙口镇 | R22: =VLOOKUP(#REF!,整户取消!#REF!,1,FALSE) -> #REF!
A23: 8924 | B23: 360732170305 | C23: 龙口村五组 | D23: 周兆华 | E23: 3 | F23: 2 | I23: A | J23: 2 | K23: =765*J23 -> 1530 | N23: =765*F23 -> 1530 | O23: TRUE | P23: 脱贫不稳定户 | Q23: 龙口镇 | R23: =VLOOKUP(#REF!,整户取消!#REF!,1,FALSE) -> #REF!
A24: 8925 | B24: 360732170603 | C24: 芦溪村春丘组 | D24: 邓习意 | E24: 3 | F24: 2 | I24: C | L24: 2 | M24: =400*L24 -> 800 | N24: =400*F24 -> 800 | O24: FALSE | P24: 脱贫户 | Q24: 龙口镇 | R24: =VLOOKUP(#REF!,整户取消!#REF!,1,FALSE) -> #REF!
A25: 8926 | B25: 360732170610 | C25: 芦溪村蕉坑组 | D25: 蔡冬香 | E25: 3 | F25: 2 | I25: B | L25: 2 | M25: =565*L25 -> 1130 | N25: =565*F25 -> 1130 | O25: FALSE | P25: 突发严重困难户 | Q25: 龙口镇 | R25: =VLOOKUP(#REF!,整户取消!#REF!,1,FALSE) -> #REF!
A26: 8927 | B26: 360732170607 | C26: 芦溪村老山下组 | D26: 刘建文 | E26: 4 | F26: 4 | I26: A | J26: 4 | K26: =765*J26 -> 3060 | N26: =765*F26 -> 3060 | O26: TRUE | P26: 突发严重困难户 | Q26: 龙口镇 | R26: =VLOOKUP(#REF!,整户取消!#REF!,1,FALSE) -> #REF!
A27: 8928 | B27: 360732170611 | C27: 芦溪村老屋场组 | D27: 刘金娇 | E27: 2 | F27: 1 | I27: C | L27: 1 | M27: =400*L27 -> 400 | N27: =400*F27 -> 400 | O27: FALSE | P27: 脱贫不稳定户 | Q27: 龙口镇 | R27: =VLOOKUP(#REF!,整户取消!#REF!,1,FALSE) -> #REF!
A28: 8929 | B28: 360732170602 | C28: 芦溪村水晶组 | D28: 邓美青 | E28: 3 | F28: 2 | I28: B | L28: 2 | M28: =565*L28 -> 1130 | N28: =565*F28 -> 1130 | O28: TRUE | P28: 突发严重困难户 | Q28: 龙口镇 | R28: =VLOOKUP(#REF!,整户取消!#REF!,1,FALSE) -> #REF!
A29: 8930 | B29: 360732170802 | C29: 睦埠村红光组 | D29: 刘瑞万 | E29: 5 | F29: 3 | I29: B | L29: 3 | M29: =565*L29 -> 1695 | N29: =565*F29 -> 1695 | O29: TRUE | P29: 脱贫不稳定户 | Q29: 龙口镇 | R29: =VLOOKUP(#REF!,整户取消!#REF!,1,FALSE) -> #REF!
A30: 8931 | B30: 360732170802 | C30: 睦埠村红光组 | D30: 刘熙军 | E30: 2 | F30: 1 | I30: D | L30: 1 | M30: =295*L30 -> 295 | N30: =295*F30 -> 295 | O30: TRUE | P30: 脱贫不稳定户 | Q30: 龙口镇 | R30: =VLOOKUP(#REF!,整户取消!#REF!,1,FALSE) -> #REF!
A31: 8932 | B31: 360732170810 | C31: 睦埠村青山组 | D31: 廖生贵 | E31: 4 | F31: 4 | I31: A | J31: 4 | K31: =765*J31 -> 3060 | N31: =765*F31 -> 3060 | O31: TRUE | P31: 脱贫不稳定户 | Q31: 龙口镇 | R31: =VLOOKUP(#REF!,整户取消!#REF!,1,FALSE) -> #REF!
A32: 8933 | B32: 360732170806 | C32: 睦埠村星光组 | D32: 刘和银 | E32: 2 | F32: 2 | I32: C | L32: 2 | M32: =400*L32 -> 800 | N32: =400*F32 -> 800 | O32: FALSE | P32: 脱贫户 | Q32: 龙口镇 | R32: =VLOOKUP(#REF!,整户取消!#REF!,1,FALSE) -> #REF!
A33: 8934 | B33: 360732170805 | C33: 睦埠村元街组 | D33: 刘瑞江 | E33: 4 | F33: 4 | I33: A | J33: 4 | K33: =765*J33 -> 3060 | N33: =765*F33 -> 3060 | O33: TRUE | P33: 脱贫不稳定户 | Q33: 龙口镇 | R33: =VLOOKUP(#REF!,整户取消!#REF!,1,FALSE) -> #REF!
A34: 8935 | B34: 360732171005 | C34: 文院村新建组 | D34: 刘名生 | E34: 2 | F34: 1 | I34: B | L34: 1 | M34: =565*L34 -> 565 | N34: =565*F34 -> 565 | O34: TRUE | P34: 脱贫户 | Q34: 龙口镇 | R34: =VLOOKUP(#REF!,整户取消!#REF!,1,FALSE) -> #REF!
A35: 8936 | B35: 360732170906 | C35: 中岭村岭脑组 | D35: 邓经泮 | E35: 2 | F35: 2 | I35: A | J35: 2 | K35: =765*J35 -> 1530 | N35: =765*F35 -> 1530 | O35: TRUE | P35: 脱贫户 | Q35: 龙口镇 | R35: =VLOOKUP(#REF!,整户取消!#REF!,1,FALSE) -> #REF!
A36: 8937 | B36: 360732171005 | C36: 文院村新建组 | D36: 刘先钟 | E36: 2 | F36: 2 | I36: A | J36: 2 | K36: =765*J36 -> 1530 | N36: =765*F36 -> 1530 | O36: TRUE | P36: 脱贫户 | Q36: 龙口镇 | R36: =VLOOKUP(#REF!,整户取消!#REF!,1,FALSE) -> #REF!
A37: 8938 | B37: 360732170919 | C37: 中岭村石角组 | D37: 邓经荣 | E37: 4 | F37: 4 | I37: B | L37: 4 | M37: =565*L37 -> 2260 | N37: =565*F37 -> 2260 | O37: TRUE | P37: 脱贫户 | Q37: 龙口镇 | R37: =VLOOKUP(#REF!,整户取消!#REF!,1,FALSE) -> #REF!
A38: 8939 | B38: 360732170916 | C38: 中岭村柏二组 | D38: 周俊增 | E38: 2 | F38: 2 | I38: A | J38: 2 | K38: =765*J38 -> 1530 | N38: =765*F38 -> 1530 | O38: TRUE | P38: 脱贫户 | Q38: 龙口镇 | R38: =VLOOKUP(#REF!,整户取消!#REF!,1,FALSE) -> #REF!
A39: 8940 | B39: 360732170402 | C39: 嶂下村岭背组 | D39: 刘志栏 | E39: 4 | F39: 2 | I39: B | L39: 2 | M39: =565*L39 -> 1130 | N39: =565*F39 -> 1130 | O39: FALSE | P39: 脱贫户 | Q39: 龙口镇 | R39: =VLOOKUP(#REF!,整户取消!#REF!,1,FALSE) -> #REF!
A40: 8941 | B40: 360732170904 | C40: 中岭村存敬组 | D40: 邓习锋 | E40: 4 | F40: 2 | I40: B | L40: 2 | M40: =565*L40 -> 1130 | N40: =565*F40 -> 1130 | O40: FALSE | P40: 脱贫户 | Q40: 龙口镇 | R40: =VLOOKUP(#REF!,整户取消!#REF!,1,FALSE) -> #REF!
A41: 8942 | B41: 360732170909 | C41: 中岭村合顺组 | D41: 邓溱财 | E41: 3 | F41: 2 | I41: B | L41: 2 | M41: =565*L41 -> 1130 | N41: =565*F41 -> 1130 | O41: TRUE | P41: #N/A | Q41: 龙口镇 | R41: =VLOOKUP(#REF!,整户取消!#REF!,1,FALSE) -> #REF!
A42: 8943 | B42: 360732170108 | C42: 都田村上都组 | D42: 邓正元 | E42: 1 | F42: 1 | I42: D | L42: 1 | M42: =295*L42 -> 295 | N42: =295*F42 -> 295 | O42: TRUE | P42: 脱贫户 | Q42: 龙口镇 | R42: =VLOOKUP(#REF!,整户取消!#REF!,1,FALSE) -> #REF!
A43: 8944 | B43: 360732170108 | C43: 都田村上都组 | D43: 邓经满 | E43: 1 | F43: 1 | I43: B | L43: 1 | M43: =565*L43 -> 565 | N43: =565*F43 -> 565 | O43: TRUE | P43: 脱贫户 | Q43: 龙口镇 | R43: =VLOOKUP(#REF!,整户取消!#REF!,1,FALSE) -> #REF!
A44: 8945 | B44: 360732170510 | C44: 来溪村坑内组 | D44: 林七秀 | E44: 2 | F44: 1 | I44: B | L44: 1 | M44: =565*L44 -> 565 | N44: =565*F44 -> 565 | O44: FALSE | P44: 脱贫户 | Q44: 龙口镇 | R44: =VLOOKUP(#REF!,整户取消!#REF!,1,FALSE) -> #REF!
A45: 8946 | B45: 360732170514 | C45: 来溪村来一组 | D45: 刘文烈 | E45: 2 | F45: 1 | I45: B | L45: 1 | M45: =565*L45 -> 565 | N45: =565*F45 -> 565 | O45: FALSE | P45: 脱贫户 | Q45: 龙口镇 | R45: =VLOOKUP(#REF!,整户取消!#REF!,1,FALSE) -> #REF!
A46: 8947 | B46: 360732170516 | C46: 来溪村老屋组 | D46: 刘满发 | E46: 3 | F46: 3 | I46: C | L46: 3 | M46: =400*L46 -> 1200 | N46: =400*F46 -> 1200 | O46: TRUE | P46: 脱贫户 | Q46: 龙口镇 | R46: =VLOOKUP(#REF!,整户取消!#REF!,1,FALSE) -> #REF!
A47: 8948 | B47: 360732170513 | C47: 来溪村田南组 | D47: 张甘秀 | E47: 4 | F47: 4 | I47: B | L47: 4 | M47: =565*L47 -> 2260 | N47: =565*F47 -> 2260 | O47: FALSE | P47: 脱贫户 | Q47: 龙口镇 | R47: =VLOOKUP(#REF!,整户取消!#REF!,1,FALSE) -> #REF!
A48: 8949 | B48: 360732170507 | C48: 来溪村小山组 | D48: 刘三元 | E48: 2 | F48: 1 | I48: C | L48: 1 | M48: =400*L48 -> 400 | N48: =400*F48 -> 400 | O48: FALSE | P48: 脱贫户 | Q48: 龙口镇 | R48: =VLOOKUP(#REF!,整户取消!#REF!,1,FALSE) -> #REF!
A49: 8950 | B49: 360732170908 | C49: 中岭村红星组 | D49: 邓阳辉 | E49: 4 | F49: 3 | H49: 1 | I49: B | L49: 3 | M49: =565*L49 -> 1695 | N49: =565*F49 -> 1695 | O49: TRUE | P49: 脱贫户 | Q49: 龙口镇 | R49: =VLOOKUP(#REF!,整户取消!#REF!,1,FALSE) -> #REF!
A50: 8951 | B50: 360732170303 | C50: 龙口村三组 | D50: 周清生 | E50: 1 | F50: 1 | I50: B | L50: 1 | M50: =565*L50 -> 565 | N50: =565*F50 -> 565 | O50: TRUE | P50: 脱贫不稳定户 | Q50: 龙口镇 | R50: =VLOOKUP(#REF!,整户取消!#REF!,1,FALSE) -> #REF!
A51: 8952 | B51: 360732170606 | C51: 芦溪村打古石组 | D51: 邓宜汉 | E51: 4 | F51: 2 | I51: B | L51: 2 | M51: =565*L51 -> 1130 | N51: =565*F51 -> 1130 | O51: FALSE | P51: 脱贫户 | Q51: 龙口镇 | R51: =VLOOKUP(#REF!,整户取消!#REF!,1,FALSE) -> #REF!
A52: 8953 | B52: 360732170606 | C52: 芦溪村打古石组 | D52: 邓宜佳 | E52: 3 | F52: 1 | I52: B | L52: 1 | M52: =565*L52 -> 565 | N52: =565*F52 -> 565 | O52: FALSE | P52: 脱贫户 | Q52: 龙口镇 | R52: =VLOOKUP(#REF!,整户取消!#REF!,1,FALSE) -> #REF!
A53: 8954 | B53: 360732170610 | C53: 芦溪村蕉坑组 | D53: 邓福华 | E53: 3 | F53: 3 | I53: C | L53: 3 | M53: =400*L53 -> 1200 | N53: =400*F53 -> 1200 | O53: TRUE | P53: 脱贫不稳定户 | Q53: 龙口镇 | R53: =VLOOKUP(#REF!,整户取消!#REF!,1,FALSE) -> #REF!
A54: 8955 | B54: 360732170610 | C54: 芦溪村蕉坑组 | D54: 邓通伟 | E54: 4 | F54: 3 | I54: B | L54: 3 | M54: =565*L54 -> 1695 | N54: =565*F54 -> 1695 | O54: TRUE | P54: 脱贫不稳定户 | Q54: 龙口镇 | R54: =VLOOKUP(#REF!,整户取消!#REF!,1,FALSE) -> #REF!
A55: 8956 | B55: 360732170611 | C55: 芦溪村老屋场组 | D55: 邓焕民 | E55: 4 | F55: 1 | I55: C | L55: 1 | M55: =400*L55 -> 400 | N55: =400*F55 -> 400 | O55: FALSE | P55: 脱贫户 | Q55: 龙口镇 | R55: =VLOOKUP(#REF!,整户取消!#REF!,1,FALSE) -> #REF!
A56: 8957 | B56: 360732170601 | C56: 芦溪村食乐坑组 | D56: 刘来香 | E56: 2 | F56: 2 | I56: A | J56: 2 | K56: =765*J56 -> 1530 | N56: =765*F56 -> 1530 | O56: TRUE | P56: 脱贫户 | Q56: 龙口镇 | R56: =VLOOKUP(#REF!,整户取消!#REF!,1,FALSE) -> #REF!
A57: 8958 | B57: 360732170804 | C57: 睦埠村富街组 | D57: 钟来英 | E57: 2 | F57: 2 | I57: A | J57: 2 | K57: =765*J57 -> 1530 | N57: =765*F57 -> 1530 | O57: TRUE | P57: 脱贫不稳定户 | Q57: 龙口镇 | R57: =VLOOKUP(#REF!,整户取消!#REF!,1,FALSE) -> #REF!
A58: 8959 | B58: 360732170813 | C58: 睦埠村富全组 | D58: 庄仁香 | E58: 4 | F58: 2 | I58: C | L58: 2 | M58: =400*L58 -> 800 | N58: =400*F58 -> 800 | O58: FALSE | P58: 脱贫户 | Q58: 龙口镇 | R58: =VLOOKUP(#REF!,整户取消!#REF!,1,FALSE) -> #REF!
A59: 8960 | B59: 360732170808 | C59: 睦埠村黄塘组 | D59: 温慧敏 | E59: 5 | F59: 3 | I59: C | L59: 3 | M59: =400*L59 -> 1200 | N59: =400*F59 -> 1200 | O59: FALSE | P59: 脱贫户 | Q59: 龙口镇 | R59: =VLOOKUP(#REF!,整户取消!#REF!,1,FALSE) -> #REF!
A60: 8961 | B60: 360732170806 | C60: 睦埠村星光组 | D60: 刘星平 | E60: 3 | F60: 2 | I60: C | L60: 2 | M60: =400*L60 -> 800 | N60: =400*F60 -> 800 | O60: TRUE | P60: 脱贫不稳定户 | Q60: 龙口镇 | R60: =VLOOKUP(#REF!,整户取消!#REF!,1,FALSE) -> #REF!
A61: 8962 | B61: 360732170806 | C61: 睦埠村星光组 | D61: 刘明宗 | E61: 4 | F61: 1 | I61: B | L61: 1 | M61: =565*L61 -> 565 | N61: =565*F61 -> 565 | O61: FALSE | P61: 脱贫户 | Q61: 龙口镇 | R61: =VLOOKUP(#REF!,整户取消!#REF!,1,FALSE) -> #REF!
A62: 8963 | B62: 360732170408 | C62: 嶂下村工农组 | D62: 刘罗宝 | E62: 5 | F62: 4 | I62: B | L62: 4 | M62: =565*L62 -> 2260 | N62: =565*F62 -> 2260 | O62: TRUE | P62: 脱贫不稳定户 | Q62: 龙口镇 | R62: =VLOOKUP(#REF!,整户取消!#REF!,1,FALSE) -> #REF!
A63: 8964 | B63: 360732170411 | C63: 嶂下村枧背组 | D63: 钟发 | E63: 1 | F63: 1 | I63: A | J63: 1 | K63: =765*J63 -> 765 | N63: =765*F63 -> 765 | O63: TRUE | P63: 脱贫户 | Q63: 龙口镇 | R63: =VLOOKUP(#REF!,整户取消!#REF!,1,FALSE) -> #REF!
A64: 8965 | B64: 360732170703 | C64: 留村赤土坑组 | D64: 刘财宝 | E64: 1 | F64: 1 | I64: C | L64: 1 | M64: =400*L64 -> 400 | N64: =400*F64 -> 400 | O64: TRUE | P64: 边缘易致贫户 | Q64: 龙口镇 | R64: =VLOOKUP(#REF!,整户取消!#REF!,1,FALSE) -> #REF!
A65: 8966 | B65: 360732170916 | C65: 中岭村柏二组 | D65: 周地凤 | E65: 4 | F65: 1 | I65: B | L65: 1 | M65: =565*L65 -> 565 | N65: =565*F65 -> 565 | O65: FALSE | P65: 脱贫户 | Q65: 龙口镇 | R65: =VLOOKUP(#REF!,整户取消!#REF!,1,FALSE) -> #REF!
A66: 8967 | B66: 360732170901 | C66: 中岭村大帮组 | D66: 邓经锡 | E66: 1 | F66: 1 | I66: A | J66: 1 | K66: =765*J66 -> 765 | N66: =765*F66 -> 765 | O66: TRUE | P66: 脱贫户 | Q66: 龙口镇 | R66: =VLOOKUP(#REF!,整户取消!#REF!,1,FALSE) -> #REF!
A67: 8968 | B67: 360732170702 | C67: 留村村新建组 | D67: 刘官明 | E67: 3 | F67: 3 | I67: A | J67: 3 | K67: =765*J67 -> 2295 | N67: =765*F67 -> 2295 | O67: TRUE | P67: 脱贫户 | Q67: 龙口镇 | R67: =VLOOKUP(#REF!,整户取消!#REF!,1,FALSE) -> #REF!
A68: 8969 | B68: 360732170709 | C68: 留村村新华组 | D68: 钟满香 | E68: 2 | F68: 1 | I68: B | L68: 1 | M68: =565*L68 -> 565 | N68: =565*F68 -> 565 | O68: FALSE | P68: 脱贫户 | Q68: 龙口镇 | R68: =VLOOKUP(#REF!,整户取消!#REF!,1,FALSE) -> #REF!
A69: 8970 | B69: 360732170911 | C69: 中岭村敬安组 | D69: 邓习坤 | E69: 5 | F69: 2 | I69: B | L69: 2 | M69: =565*L69 -> 1130 | N69: =565*F69 -> 1130 | O69: FALSE | P69: 脱贫户 | Q69: 龙口镇 | R69: =VLOOKUP(#REF!,整户取消!#REF!,1,FALSE) -> #REF!
A70: 8971 | B70: 360732170911 | C70: 中岭村敬安组 | D70: 钟元娇 | E70: 5 | F70: 3 | I70: C | L70: 3 | M70: =400*L70 -> 1200 | N70: =400*F70 -> 1200 | O70: FALSE | P70: 脱贫户 | Q70: 龙口镇 | R70: =VLOOKUP(#REF!,整户取消!#REF!,1,FALSE) -> #REF!
A71: 8972 | B71: 360732170505 | C71: 来溪村梅新组 | D71: 刘化彰 | E71: 2 | F71: 2 | I71: A | J71: 2 | K71: =765*J71 -> 1530 | N71: =765*F71 -> 1530 | O71: TRUE | P71: 脱贫户 | Q71: 龙口镇 | R71: =VLOOKUP(#REF!,整户取消!#REF!,1,FALSE) -> #REF!
A72: 8973 | B72: 360732170918 | C72: 中岭村溪背组 | D72: 邓福华 | E72: 2 | F72: 2 | I72: A | J72: 2 | K72: =765*J72 -> 1530 | N72: =765*F72 -> 1530 | O72: TRUE | P72: 脱贫户 | Q72: 龙口镇 | R72: =VLOOKUP(#REF!,整户取消!#REF!,1,FALSE) -> #REF!
A73: 8974 | B73: 360732170110 | C73: 都田村下都组 | D73: 刘景明 | E73: 5 | F73: 2 | I73: B | L73: 2 | M73: =565*L73 -> 1130 | N73: =565*F73 -> 1130 | O73: FALSE | P73: 脱贫户 | Q73: 龙口镇 | R73: =VLOOKUP(#REF!,整户取消!#REF!,1,FALSE) -> #REF!
A74: 8975 | B74: 360732170712 | C74: 留村新溪组 | D74: 邓经玉 | E74: 5 | F74: 2 | I74: B | L74: 2 | M74: =565*L74 -> 1130 | N74: =565*F74 -> 1130 | O74: FALSE | P74: 脱贫不稳定户 | Q74: 龙口镇 | R74: =VLOOKUP(#REF!,整户取消!#REF!,1,FALSE) -> #REF!
A75: 8976 | B75: 360732170203 | C75: 丰溪村寨背组 | D75: 陈名佐 | E75: 3 | F75: 2 | I75: B | L75: 2 | M75: =565*L75 -> 1130 | N75: =565*F75 -> 1130 | O75: FALSE | P75: 脱贫户 | Q75: 龙口镇 | R75: =VLOOKUP(#REF!,整户取消!#REF!,1,FALSE) -> #REF!
A76: 8977 | B76: 360732170605 | C76: 芦溪村芭蕉杏组 | D76: 蔡林清 | E76: 5 | F76: 3 | I76: B | L76: 3 | M76: =565*L76 -> 1695 | N76: =565*F76 -> 1695 | O76: FALSE | P76: 脱贫户 | Q76: 龙口镇 | R76: =VLOOKUP(#REF!,整户取消!#REF!,1,FALSE) -> #REF!
A77: 8978 | B77: 360732171005 | C77: 文院村新建组 | D77: 刘敏 | E77: 4 | F77: 2 | I77: B | L77: 2 | M77: =565*L77 -> 1130 | N77: =565*F77 -> 1130 | O77: FALSE | P77: 脱贫户 | Q77: 龙口镇 | R77: =VLOOKUP(#REF!,整户取消!#REF!,1,FALSE) -> #REF!
A78: 8979 | B78: 360732170516 | C78: 来溪村老屋组 | D78: 刘水发 | E78: 3 | F78: 2 | I78: C | L78: 2 | M78: =400*L78 -> 800 | N78: =400*F78 -> 800 | O78: FALSE | P78: 脱贫户 | Q78: 龙口镇 | R78: =VLOOKUP(#REF!,整户取消!#REF!,1,FALSE) -> #REF!
A79: 8980 | B79: 360732170106 | C79: 都田村新圹组 | D79: 钟新凤 | E79: 3 | F79: 1 | I79: C | L79: 1 | M79: =400*L79 -> 400 | N79: =400*F79 -> 400 | O79: FALSE | P79: 脱贫户 | Q79: 龙口镇 | R79: =VLOOKUP(#REF!,整户取消!#REF!,1,FALSE) -> #REF!
A80: 8981 | B80: 360732170109 | C80: 都田村上蔡组 | D80: 曾春兰 | E80: 6 | F80: 2 | I80: B | L80: 2 | M80: =565*L80 -> 1130 | N80: =565*F80 -> 1130 | O80: FALSE | P80: 脱贫户 | Q80: 龙口镇 | R80: =VLOOKUP(#REF!,整户取消!#REF!,1,FALSE) -> #REF!
A81: 8982 | B81: 360732170205 | C81: 丰溪村塘背组 | D81: 刘和茂 | E81: 7 | F81: 2 | I81: B | L81: 2 | M81: =565*L81 -> 1130 | N81: =565*F81 -> 1130 | O81: FALSE | P81: 脱贫不稳定户 | Q81: 龙口镇 | R81: =VLOOKUP(#REF!,整户取消!#REF!,1,FALSE) -> #REF!
A82: 8983 | B82: 360732170611 | C82: 芦溪村老屋场组 | D82: 邓九生 | E82: 1 | F82: 1 | I82: C | L82: 1 | M82: =400*L82 -> 400 | N82: =400*F82 -> 400 | O82: TRUE | P82: 脱贫户 | Q82: 龙口镇 | R82: =VLOOKUP(#REF!,整户取消!#REF!,1,FALSE) -> #REF!
A83: 8984 | B83: 360732170104 | C83: 都田村大田组 | D83: 刘德才 | E83: 2 | F83: 1 | I83: C | L83: 1 | M83: =400*L83 -> 400 | N83: =400*F83 -> 400 | O83: TRUE | P83: 脱贫户 | Q83: 龙口镇 | R83: =VLOOKUP(#REF!,整户取消!#REF!,1,FALSE) -> #REF!
A84: 8985 | B84: 360732170108 | C84: 都田村上都组 | D84: 刘金兰 | E84: 5 | F84: 4 | I84: B | L84: 4 | M84: =565*L84 -> 2260 | N84: =565*F84 -> 2260 | O84: TRUE | P84: 脱贫户 | Q84: 龙口镇 | R84: =VLOOKUP(#REF!,整户取消!#REF!,1,FALSE) -> #REF!
A85: 8986 | B85: 360732170118 | C85: 都田村桃坑组 | D85: 曾来基 | E85: 7 | F85: 3 | I85: D | L85: 3 | M85: =295*L85 -> 885 | N85: =295*F85 -> 885 | O85: FALSE | P85: 脱贫户 | Q85: 龙口镇 | R85: =VLOOKUP(#REF!,整户取消!#REF!,1,FALSE) -> #REF!
A86: 8987 | B86: 360732170607 | C86: 芦溪村老山下组 | D86: 刘志坤 | E86: 3 | F86: 2 | I86: B | L86: 2 | M86: =565*L86 -> 1130 | N86: =565*F86 -> 1130 | O86: FALSE | P86: 脱贫不稳定户 | Q86: 龙口镇 | R86: =VLOOKUP(#REF!,整户取消!#REF!,1,FALSE) -> #REF!
A87: 8988 | B87: 360732170708 | C87: 留村村麦笠组 | D87: 周兆丰 | E87: 4 | F87: 2 | I87: B | L87: 2 | M87: =565*L87 -> 1130 | N87: =565*F87 -> 1130 | O87: FALSE | P87: 脱贫户 | Q87: 龙口镇 | R87: =VLOOKUP(#REF!,整户取消!#REF!,1,FALSE) -> #REF!
A88: 8989 | B88: 360732170202 | C88: 丰溪村丰荣组 | D88: 陈元明 | E88: 6 | F88: 2 | I88: B | L88: 2 | M88: =565*L88 -> 1130 | N88: =565*F88 -> 1130 | O88: FALSE | P88: 脱贫户 | Q88: 龙口镇 | R88: =VLOOKUP(#REF!,整户取消!#REF!,1,FALSE) -> #REF!
A89: 8990 | B89: 360732170207 | C89: 丰溪村深山组 | D89: 刘芳 | E89: 4 | F89: 3 | I89: B | L89: 3 | M89: =565*L89 -> 1695 | N89: =565*F89 -> 1695 | O89: FALSE | P89: 脱贫户 | Q89: 龙口镇 | R89: =VLOOKUP(#REF!,整户取消!#REF!,1,FALSE) -> #REF!
A90: 8991 | B90: 360732170508 | C90: 来溪村大山组 | D90: 曾苏英 | E90: 7 | F90: 3 | I90: B | L90: 3 | M90: =565*L90 -> 1695 | N90: =565*F90 -> 1695 | O90: FALSE | P90: 脱贫户 | Q90: 龙口镇 | R90: =VLOOKUP(#REF!,整户取消!#REF!,1,FALSE) -> #REF!
A91: 8992 | B91: 360732170506 | C91: 来溪村良屋组 | D91: 刘化楷 | E91: 5 | F91: 4 | I91: B | L91: 4 | M91: =565*L91 -> 2260 | N91: =565*F91 -> 2260 | O91: FALSE | P91: 脱贫户 | Q91: 龙口镇 | R91: =VLOOKUP(#REF!,整户取消!#REF!,1,FALSE) -> #REF!
A92: 8993 | B92: 360732170506 | C92: 来溪村良屋组 | D92: 刘文华 | E92: 4 | F92: 3 | I92: C | L92: 3 | M92: =400*L92 -> 1200 | N92: =400*F92 -> 1200 | O92: FALSE | P92: 脱贫户 | Q92: 龙口镇 | R92: =VLOOKUP(#REF!,整户取消!#REF!,1,FALSE) -> #REF!
A93: 8994 | B93: 360732170512 | C93: 来溪村上村组 | D93: 王安飞 | E93: 8 | F93: 2 | I93: B | L93: 2 | M93: =565*L93 -> 1130 | N93: =565*F93 -> 1130 | O93: FALSE | P93: 脱贫户 | Q93: 龙口镇 | R93: =VLOOKUP(#REF!,整户取消!#REF!,1,FALSE) -> #REF!
A94: 8995 | B94: 360732170512 | C94: 来溪村上村组 | D94: 刘显沅 | E94: 3 | F94: 2 | I94: C | L94: 2 | M94: =400*L94 -> 800 | N94: =400*F94 -> 800 | O94: FALSE | P94: 脱贫户 | Q94: 龙口镇 | R94: =VLOOKUP(#REF!,整户取消!#REF!,1,FALSE) -> #REF!
A95: 8996 | B95: 360732170507 | C95: 来溪村小山组 | D95: 黄盛隆 | E95: 5 | F95: 4 | I95: B | L95: 4 | M95: =565*L95 -> 2260 | N95: =565*F95 -> 2260 | O95: FALSE | P95: 脱贫户 | Q95: 龙口镇 | R95: =VLOOKUP(#REF!,整户取消!#REF!,1,FALSE) -> #REF!
A96: 8997 | B96: 360732170501 | C96: 来溪村嶂下组 | D96: 钟春发 | E96: 5 | F96: 5 | I96: B | L96: 5 | M96: =565*L96 -> 2825 | N96: =565*F96 -> 2825 | O96: TRUE | P96: 脱贫不稳定户 | Q96: 龙口镇 | R96: =VLOOKUP(#REF!,整户取消!#REF!,1,FALSE) -> #REF!
A97: 8998 | B97: 360732170308 | C97: 龙口村八组 | D97: 周保山 | E97: 2 | F97: 1 | I97: D | L97: 1 | M97: =295*L97 -> 295 | N97: =295*F97 -> 295 | O97: TRUE | P97: 脱贫户 | Q97: 龙口镇 | R97: =VLOOKUP(#REF!,整户取消!#REF!,1,FALSE) -> #REF!
A98: 8999 | B98: 360732170306 | C98: 龙口村六组 | D98: 周燕 | E98: 5 | F98: 2 | I98: D | L98: 2 | M98: =295*L98 -> 590 | N98: =295*F98 -> 590 | O98: FALSE | P98: 脱贫户 | Q98: 龙口镇 | R98: =VLOOKUP(#REF!,整户取消!#REF!,1,FALSE) -> #REF!
A99: 9000 | B99: 360732170306 | C99: 龙口村六组 | D99: 周发林 | E99: 6 | F99: 4 | I99: C | L99: 4 | M99: =400*L99 -> 1600 | N99: =400*F99 -> 1600 | O99: FALSE | P99: 脱贫户 | Q99: 龙口镇 | R99: =VLOOKUP(#REF!,整户取消!#REF!,1,FALSE) -> #REF!
A100: 9001 | B100: 360732170306 | C100: 龙口村六组 | D100: 周兆文 | E100: 7 | F100: 4 | I100: C | L100: 4 | M100: =400*L100 -> 1600 | N100: =400*F100 -> 1600 | O100: FALSE | P100: 脱贫户 | Q100: 龙口镇 | R100: =VLOOKUP(#REF!,整户取消!#REF!,1,FALSE) -> #REF!
...

Sheet 家庭信息表
A1: 序号 | B1: 户主 | C1: 家庭人口 | D1: 享受人口 | E1: 姓名 | F1: 家庭关系 | G1: 人员详细住址 | H1: 乡镇 | I1: 年龄 | J1: 性别 | K1: 档次 | L1: 火化 | M1: 特困 | N1: 孤儿 | O1: 残障 | P1: 整户取消 | Q1: 户内调减 | R1: 脱贫户 | S1: 监测对象 | T1: 联系方式 | U1: 月份 | V1: 地址
A2: 18072 | B2: 蔡冬香 | C2: 3 | D2: 2 | E2: 蔡冬香 | F2: 本人 | G2: 芦溪村蕉坑组 | H2: 龙口镇 | I2: =YEAR(TODAY())-MID(#REF!,7,4) -> #REF! | J2: =IF(OR(LEN(#REF!)=15,LEN(#REF!)=18),IF(MOD(MID(#REF!,15,3)*1,2),"男","女"),#N/A) -> #REF! | K2: =VLOOKUP(#REF!,花名册!E:I,9,FALSE) -> #REF! | L2: =VLOOKUP(#REF!,[1]全部!$C:$C,1,FALSE) -> #REF! | M2: #N/A | N2: #N/A | O2: #N/A | P2: =VLOOKUP(#REF!,整户取消信息表!#REF!,1,FALSE) -> #REF! | Q2: =VLOOKUP(#REF!,#REF!,1,FALSE) -> #REF! | R2: 脱贫户 | S2: #N/A | T2: =VLOOKUP(#REF!,花名册!#REF!,2,FALSE) -> #REF! | U2: =MIDB(#REF!,11,2) -> #REF! | V2: =H2&G2 -> 龙口镇芦溪村蕉坑组 | W2: =VLOOKUP(#REF!,[2]分析1!$M:$M,1,FALSE) -> #REF!
A3: 18073 | B3: 蔡冬香 | E3: 邓通来 | F3: 子/婿 | G3: 芦溪村蕉坑组 | H3: 龙口镇 | I3: =YEAR(TODAY())-MID(#REF!,7,4) -> #REF! | J3: =IF(OR(LEN(#REF!)=15,LEN(#REF!)=18),IF(MOD(MID(#REF!,15,3)*1,2),"男","女"),#N/A) -> #REF! | K3: =VLOOKUP(#REF!,花名册!E:I,9,FALSE) -> #REF! | L3: =VLOOKUP(#REF!,[1]全部!$C:$C,1,FALSE) -> #REF! | M3: #N/A | N3: #N/A | O3: #N/A | P3: =VLOOKUP(#REF!,整户取消信息表!#REF!,1,FALSE) -> #REF! | Q3: =VLOOKUP(#REF!,#REF!,1,FALSE) -> #REF! | R3: 脱贫户 | S3: 突发严重困难户 | T3: =VLOOKUP(#REF!,花名册!#REF!,2,FALSE) -> #REF! | U3: =MIDB(#REF!,11,2) -> #REF! | V3: =H3&G3 -> 龙口镇芦溪村蕉坑组 | W3: =VLOOKUP(#REF!,[2]分析1!$M:$M,1,FALSE) -> #REF!
A4: 18074 | B4: 蔡林清 | C4: 5 | D4: 3 | E4: 蔡林清 | F4: 本人 | G4: 芦溪村芭蕉杏组 | H4: 龙口镇 | I4: =YEAR(TODAY())-MID(#REF!,7,4) -> #REF! | J4: =IF(OR(LEN(#REF!)=15,LEN(#REF!)=18),IF(MOD(MID(#REF!,15,3)*1,2),"男","女"),#N/A) -> #REF! | K4: =VLOOKUP(#REF!,花名册!E:I,9,FALSE) -> #REF! | L4: =VLOOKUP(#REF!,[1]全部!$C:$C,1,FALSE) -> #REF! | M4: #N/A | N4: #N/A | O4: #N/A | P4: =VLOOKUP(#REF!,整户取消信息表!#REF!,1,FALSE) -> #REF! | Q4: =VLOOKUP(#REF!,#REF!,1,FALSE) -> #REF! | R4: 脱贫户 | S4: 突发严重困难户 | T4: =VLOOKUP(#REF!,花名册!#REF!,2,FALSE) -> #REF! | U4: =MIDB(#REF!,11,2) -> #REF! | V4: =H4&G4 -> 龙口镇芦溪村芭蕉杏组 | W4: =VLOOKUP(#REF!,[2]分析1!$M:$M,1,FALSE) -> #REF!
A5: 18075 | B5: 蔡林清 | E5: 蔡秀山 | F5: 兄/弟/姐/妹 | G5: 芦溪村芭蕉杏组 | H5: 龙口镇 | I5: =YEAR(TODAY())-MID(#REF!,7,4) -> #REF! | J5: =IF(OR(LEN(#REF!)=15,LEN(#REF!)=18),IF(MOD(MID(#REF!,15,3)*1,2),"男","女"),#N/A) -> #REF! | K5: =VLOOKUP(#REF!,花名册!E:I,9,FALSE) -> #REF! | L5: =VLOOKUP(#REF!,[1]全部!$C:$C,1,FALSE) -> #REF! | M5: #N/A | N5: #N/A | O5: #N/A | P5: =VLOOKUP(#REF!,整户取消信息表!#REF!,1,FALSE) -> #REF! | Q5: =VLOOKUP(#REF!,#REF!,1,FALSE) -> #REF! | R5: 脱贫户 | S5: 突发严重困难户 | T5: =VLOOKUP(#REF!,花名册!#REF!,2,FALSE) -> #REF! | U5: =MIDB(#REF!,11,2) -> #REF! | V5: =H5&G5 -> 龙口镇芦溪村芭蕉杏组 | W5: =VLOOKUP(#REF!,[2]分析1!$M:$M,1,FALSE) -> #REF!
A6: 18076 | B6: 蔡林清 | E6: 蔡英峰 | F6: 父母/岳父母/公婆 | G6: 芦溪村芭蕉杏组 | H6: 龙口镇 | I6: =YEAR(TODAY())-MID(#REF!,7,4) -> #REF! | J6: =IF(OR(LEN(#REF!)=15,LEN(#REF!)=18),IF(MOD(MID(#REF!,15,3)*1,2),"男","女"),#N/A) -> #REF! | K6: =VLOOKUP(#REF!,花名册!E:I,9,FALSE) -> #REF! | L6: =VLOOKUP(#REF!,[1]全部!$C:$C,1,FALSE) -> #REF! | M6: #N/A | N6: #N/A | O6: #N/A | P6: =VLOOKUP(#REF!,整户取消信息表!#REF!,1,FALSE) -> #REF! | Q6: =VLOOKUP(#REF!,#REF!,1,FALSE) -> #REF! | R6: 脱贫户 | S6: #N/A | T6: =VLOOKUP(#REF!,花名册!#REF!,2,FALSE) -> #REF! | U6: =MIDB(#REF!,11,2) -> #REF! | V6: =H6&G6 -> 龙口镇芦溪村芭蕉杏组 | W6: =VLOOKUP(#REF!,[2]分析1!$M:$M,1,FALSE) -> #REF!
A7: 18077 | B7: 曾国忠 | C7: 3 | D7: 1 | E7: 曾国忠 | F7: 本人 | G7: 龙口村三组 | H7: 龙口镇 | I7: =YEAR(TODAY())-MID(#REF!,7,4) -> #REF! | J7: =IF(OR(LEN(#REF!)=15,LEN(#REF!)=18),IF(MOD(MID(#REF!,15,3)*1,2),"男","女"),#N/A) -> #REF! | K7: =VLOOKUP(#REF!,花名册!E:I,9,FALSE) -> #REF! | L7: =VLOOKUP(#REF!,[1]全部!$C:$C,1,FALSE) -> #REF! | M7: #N/A | N7: #N/A | O7: #N/A | P7: =VLOOKUP(#REF!,整户取消信息表!#REF!,1,FALSE) -> #REF! | Q7: =VLOOKUP(#REF!,#REF!,1,FALSE) -> #REF! | R7: 脱贫户 | S7: #N/A | T7: =VLOOKUP(#REF!,花名册!#REF!,2,FALSE) -> #REF! | U7: =MIDB(#REF!,11,2) -> #REF! | V7: =H7&G7 -> 龙口镇龙口村三组 | W7: =VLOOKUP(#REF!,[2]分析1!$M:$M,1,FALSE) -> #REF!
A8: 18078 | B8: 曾来基 | C8: 7 | D8: 3 | E8: 曾来基 | F8: 本人 | G8: 都田村桃坑组 | H8: 龙口镇 | I8: =YEAR(TODAY())-MID(#REF!,7,4) -> #REF! | J8: =IF(OR(LEN(#REF!)=15,LEN(#REF!)=18),IF(MOD(MID(#REF!,15,3)*1,2),"男","女"),#N/A) -> #REF! | K8: =VLOOKUP(#REF!,花名册!E:I,9,FALSE) -> #REF! | L8: =VLOOKUP(#REF!,[1]全部!$C:$C,1,FALSE) -> #REF! | M8: #N/A | N8: #N/A | O8: #N/A | P8: =VLOOKUP(#REF!,整户取消信息表!#REF!,1,FALSE) -> #REF! | Q8: =VLOOKUP(#REF!,#REF!,1,FALSE) -> #REF! | R8: 脱贫户 | S8: 脱贫不稳定户 | T8: =VLOOKUP(#REF!,花名册!#REF!,2,FALSE) -> #REF! | U8: =MIDB(#REF!,11,2) -> #REF! | V8: =H8&G8 -> 龙口镇都田村桃坑组 | W8: =VLOOKUP(#REF!,[2]分析1!$M:$M,1,FALSE) -> #REF!
A9: 18079 | B9: 曾来基 | E9: 曾志伟 | F9: 孙子女/外孙子女 | G9: 都田村桃坑组 | H9: 龙口镇 | I9: =YEAR(TODAY())-MID(#REF!,7,4) -> #REF! | J9: =IF(OR(LEN(#REF!)=15,LEN(#REF!)=18),IF(MOD(MID(#REF!,15,3)*1,2),"男","女"),#N/A) -> #REF! | K9: =VLOOKUP(#REF!,花名册!E:I,9,FALSE) -> #REF! | L9: =VLOOKUP(#REF!,[1]全部!$C:$C,1,FALSE) -> #REF! | M9: #N/A | N9: #N/A | O9: #N/A | P9: =VLOOKUP(#REF!,整户取消信息表!#REF!,1,FALSE) -> #REF! | Q9: =VLOOKUP(#REF!,#REF!,1,FALSE) -> #REF! | R9: 脱贫户 | S9: #N/A | T9: =VLOOKUP(#REF!,花名册!#REF!,2,FALSE) -> #REF! | U9: =MIDB(#REF!,11,2) -> #REF! | V9: =H9&G9 -> 龙口镇都田村桃坑组 | W9: =VLOOKUP(#REF!,[2]分析1!$M:$M,1,FALSE) -> #REF!
A10: 18080 | B10: 曾来基 | E10: 曾庆鸿 | F10: 孙子女/外孙子女 | G10: 都田村桃坑组 | H10: 龙口镇 | I10: =YEAR(TODAY())-MID(#REF!,7,4) -> #REF! | J10: =IF(OR(LEN(#REF!)=15,LEN(#REF!)=18),IF(MOD(MID(#REF!,15,3)*1,2),"男","女"),#N/A) -> #REF! | K10: =VLOOKUP(#REF!,花名册!E:I,9,FALSE) -> #REF! | L10: =VLOOKUP(#REF!,[1]全部!$C:$C,1,FALSE) -> #REF! | M10: #N/A | N10: #N/A | O10: #N/A | P10: =VLOOKUP(#REF!,整户取消信息表!#REF!,1,FALSE) -> #REF! | Q10: =VLOOKUP(#REF!,#REF!,1,FALSE) -> #REF! | R10: 脱贫户 | S10: #N/A | T10: =VLOOKUP(#REF!,花名册!#REF!,2,FALSE) -> #REF! | U10: =MIDB(#REF!,11,2) -> #REF! | V10: =H10&G10 -> 龙口镇都田村桃坑组 | W10: =VLOOKUP(#REF!,[2]分析1!$M:$M,1,FALSE) -> #REF!
A11: 18081 | B11: 曾方仁 | C11: 3 | D11: 2 | E11: 曾方仁 | F11: 本人 | G11: 文院村红二组 | H11: 龙口镇 | I11: =YEAR(TODAY())-MID(#REF!,7,4) -> #REF! | J11: =IF(OR(LEN(#REF!)=15,LEN(#REF!)=18),IF(MOD(MID(#REF!,15,3)*1,2),"男","女"),#N/A) -> #REF! | K11: =VLOOKUP(#REF!,花名册!E:I,9,FALSE) -> #REF! | L11: =VLOOKUP(#REF!,[1]全部!$C:$C,1,FALSE) -> #REF! | M11: #N/A | N11: #N/A | O11: #N/A | P11: =VLOOKUP(#REF!,整户取消信息表!#REF!,1,FALSE) -> #REF! | Q11: =VLOOKUP(#REF!,#REF!,1,FALSE) -> #REF! | R11: 脱贫户 | S11: #N/A | T11: =VLOOKUP(#REF!,花名册!#REF!,2,FALSE) -> #REF! | U11: =MIDB(#REF!,11,2) -> #REF! | V11: =H11&G11 -> 龙口镇文院村红二组 | W11: =VLOOKUP(#REF!,[2]分析1!$M:$M,1,FALSE) -> #REF!
A12: 18082 | B12: 曾方仁 | E12: 黄志华 | F12: 配偶 | G12: 文院村红二组 | H12: 龙口镇 | I12: =YEAR(TODAY())-MID(#REF!,7,4) -> #REF! | J12: =IF(OR(LEN(#REF!)=15,LEN(#REF!)=18),IF(MOD(MID(#REF!,15,3)*1,2),"男","女"),#N/A) -> #REF! | K12: =VLOOKUP(#REF!,花名册!E:I,9,FALSE) -> #REF! | L12: =VLOOKUP(#REF!,[1]全部!$C:$C,1,FALSE) -> #REF! | M12: #N/A | N12: #N/A | O12: #N/A | P12: =VLOOKUP(#REF!,整户取消信息表!#REF!,1,FALSE) -> #REF! | Q12: =VLOOKUP(#REF!,#REF!,1,FALSE) -> #REF! | R12: 脱贫户 | S12: #N/A | T12: =VLOOKUP(#REF!,花名册!#REF!,2,FALSE) -> #REF! | U12: =MIDB(#REF!,11,2) -> #REF! | V12: =H12&G12 -> 龙口镇文院村红二组 | W12: =VLOOKUP(#REF!,[2]分析1!$M:$M,1,FALSE) -> #REF!
A13: 18083 | B13: 曾苏英 | C13: 7 | D13: 3 | E13: 曾苏英 | F13: 本人 | G13: 来溪村大山组 | H13: 龙口镇 | I13: =YEAR(TODAY())-MID(#REF!,7,4) -> #REF! | J13: =IF(OR(LEN(#REF!)=15,LEN(#REF!)=18),IF(MOD(MID(#REF!,15,3)*1,2),"男","女"),#N/A) -> #REF! | K13: =VLOOKUP(#REF!,花名册!E:I,9,FALSE) -> #REF! | L13: =VLOOKUP(#REF!,[1]全部!$C:$C,1,FALSE) -> #REF! | M13: #N/A | N13: #N/A | O13: #N/A | P13: =VLOOKUP(#REF!,整户取消信息表!#REF!,1,FALSE) -> #REF! | Q13: =VLOOKUP(#REF!,#REF!,1,FALSE) -> #REF! | R13: 脱贫户 | S13: #N/A | T13: =VLOOKUP(#REF!,花名册!#REF!,2,FALSE) -> #REF! | U13: =MIDB(#REF!,11,2) -> #REF! | V13: =H13&G13 -> 龙口镇来溪村大山组 | W13: =VLOOKUP(#REF!,[2]分析1!$M:$M,1,FALSE) -> #REF!
A14: 18084 | B14: 曾苏英 | E14: 肖英煌 | F14: 孙子女/外孙子女 | G14: 来溪村大山组 | H14: 龙口镇 | I14: =YEAR(TODAY())-MID(#REF!,7,4) -> #REF! | J14: =IF(OR(LEN(#REF!)=15,LEN(#REF!)=18),IF(MOD(MID(#REF!,15,3)*1,2),"男","女"),#N/A) -> #REF! | K14: =VLOOKUP(#REF!,花名册!E:I,9,FALSE) -> #REF! | L14: =VLOOKUP(#REF!,[1]全部!$C:$C,1,FALSE) -> #REF! | M14: #N/A | N14: #N/A | O14: #N/A | P14: =VLOOKUP(#REF!,整户取消信息表!#REF!,1,FALSE) -> #REF! | Q14: =VLOOKUP(#REF!,#REF!,1,FALSE) -> #REF! | R14: 脱贫户 | S14: #N/A | T14: =VLOOKUP(#REF!,花名册!#REF!,2,FALSE) -> #REF! | U14: =MIDB(#REF!,11,2) -> #REF! | V14: =H14&G14 -> 龙口镇来溪村大山组 | W14: =VLOOKUP(#REF!,[2]分析1!$M:$M,1,FALSE) -> #REF!
A15: 18085 | B15: 曾苏英 | E15: 肖欣 | F15: 孙子女/外孙子女 | G15: 来溪村大山组 | H15: 龙口镇 | I15: =YEAR(TODAY())-MID(#REF!,7,4) -> #REF! | J15: =IF(OR(LEN(#REF!)=15,LEN(#REF!)=18),IF(MOD(MID(#REF!,15,3)*1,2),"男","女"),#N/A) -> #REF! | K15: =VLOOKUP(#REF!,花名册!E:I,9,FALSE) -> #REF! | L15: =VLOOKUP(#REF!,[1]全部!$C:$C,1,FALSE) -> #REF! | M15: #N/A | N15: #N/A | O15: #N/A | P15: =VLOOKUP(#REF!,整户取消信息表!#REF!,1,FALSE) -> #REF! | Q15: =VLOOKUP(#REF!,#REF!,1,FALSE) -> #REF! | R15: 脱贫户 | S15: #N/A | T15: =VLOOKUP(#REF!,花名册!#REF!,2,FALSE) -> #REF! | U15: =MIDB(#REF!,11,2) -> #REF! | V15: =H15&G15 -> 龙口镇来溪村大山组 | W15: =VLOOKUP(#REF!,[2]分析1!$M:$M,1,FALSE) -> #REF!
A16: 18086 | B16: 陈元明 | C16: 6 | D16: 2 | E16: 陈元明 | F16: 本人 | G16: 丰溪村丰荣组 | H16: 龙口镇 | I16: =YEAR(TODAY())-MID(#REF!,7,4) -> #REF! | J16: =IF(OR(LEN(#REF!)=15,LEN(#REF!)=18),IF(MOD(MID(#REF!,15,3)*1,2),"男","女"),#N/A) -> #REF! | K16: =VLOOKUP(#REF!,花名册!E:I,9,FALSE) -> #REF! | L16: =VLOOKUP(#REF!,[1]全部!$C:$C,1,FALSE) -> #REF! | M16: #N/A | N16: #N/A | O16: #N/A | P16: =VLOOKUP(#REF!,整户取消信息表!#REF!,1,FALSE) -> #REF! | Q16: =VLOOKUP(#REF!,#REF!,1,FALSE) -> #REF! | R16: 脱贫户 | S16: #N/A | T16: =VLOOKUP(#REF!,花名册!#REF!,2,FALSE) -> #REF! | U16: =MIDB(#REF!,11,2) -> #REF! | V16: =H16&G16 -> 龙口镇丰溪村丰荣组 | W16: =VLOOKUP(#REF!,[2]分析1!$M:$M,1,FALSE) -> #REF!
A17: 18087 | B17: 陈元明 | E17: 潘桂香 | F17: 祖父母/外祖父母 | G17: 丰溪村丰荣组 | H17: 龙口镇 | I17: =YEAR(TODAY())-MID(#REF!,7,4) -> #REF! | J17: =IF(OR(LEN(#REF!)=15,LEN(#REF!)=18),IF(MOD(MID(#REF!,15,3)*1,2),"男","女"),#N/A) -> #REF! | K17: =VLOOKUP(#REF!,花名册!E:I,9,FALSE) -> #REF! | L17: =VLOOKUP(#REF!,[1]全部!$C:$C,1,FALSE) -> #REF! | M17: #N/A | N17: #N/A | O17: #N/A | P17: =VLOOKUP(#REF!,整户取消信息表!#REF!,1,FALSE) -> #REF! | Q17: =VLOOKUP(#REF!,#REF!,1,FALSE) -> #REF! | R17: 脱贫户 | S17: #N/A | T17: =VLOOKUP(#REF!,花名册!#REF!,2,FALSE) -> #REF! | U17: =MIDB(#REF!,11,2) -> #REF! | V17: =H17&G17 -> 龙口镇丰溪村丰荣组 | W17: =VLOOKUP(#REF!,[2]分析1!$M:$M,1,FALSE) -> #REF!
A18: 18088 | B18: 陈六月 | C18: 3 | D18: 3 | E18: 陈六月 | F18: 本人 | G18: 丰溪村深山组 | H18: 龙口镇 | I18: =YEAR(TODAY())-MID(#REF!,7,4) -> #REF! | J18: =IF(OR(LEN(#REF!)=15,LEN(#REF!)=18),IF(MOD(MID(#REF!,15,3)*1,2),"男","女"),#N/A) -> #REF! | K18: =VLOOKUP(#REF!,花名册!E:I,9,FALSE) -> #REF! | L18: =VLOOKUP(#REF!,[1]全部!$C:$C,1,FALSE) -> #REF! | M18: #N/A | N18: #N/A | O18: #N/A | P18: =VLOOKUP(#REF!,整户取消信息表!#REF!,1,FALSE) -> #REF! | Q18: =VLOOKUP(#REF!,#REF!,1,FALSE) -> #REF! | R18: 脱贫户 | S18: #N/A | T18: =VLOOKUP(#REF!,花名册!#REF!,2,FALSE) -> #REF! | U18: =MIDB(#REF!,11,2) -> #REF! | V18: =H18&G18 -> 龙口镇丰溪村深山组 | W18: =VLOOKUP(#REF!,[2]分析1!$M:$M,1,FALSE) -> #REF!
A19: 18089 | B19: 陈六月 | E19: 刘检女 | F19: 父母/岳父母/公婆 | G19: 丰溪村深山组 | H19: 龙口镇 | I19: =YEAR(TODAY())-MID(#REF!,7,4) -> #REF! | J19: =IF(OR(LEN(#REF!)=15,LEN(#REF!)=18),IF(MOD(MID(#REF!,15,3)*1,2),"男","女"),#N/A) -> #REF! | K19: =VLOOKUP(#REF!,花名册!E:I,9,FALSE) -> #REF! | L19: =VLOOKUP(#REF!,[1]全部!$C:$C,1,FALSE) -> #REF! | M19: #N/A | N19: #N/A | O19: #N/A | P19: =VLOOKUP(#REF!,整户取消信息表!#REF!,1,FALSE) -> #REF! | Q19: =VLOOKUP(#REF!,#REF!,1,FALSE) -> #REF! | R19: 脱贫户 | S19: #N/A | T19: =VLOOKUP(#REF!,花名册!#REF!,2,FALSE) -> #REF! | U19: =MIDB(#REF!,11,2) -> #REF! | V19: =H19&G19 -> 龙口镇丰溪村深山组 | W19: =VLOOKUP(#REF!,[2]分析1!$M:$M,1,FALSE) -> #REF!
A20: 18090 | B20: 陈六月 | E20: 张满燕 | F20: 配偶 | G20: 丰溪村深山组 | H20: 龙口镇 | I20: =YEAR(TODAY())-MID(#REF!,7,4) -> #REF! | J20: =IF(OR(LEN(#REF!)=15,LEN(#REF!)=18),IF(MOD(MID(#REF!,15,3)*1,2),"男","女"),#N/A) -> #REF! | K20: =VLOOKUP(#REF!,花名册!E:I,9,FALSE) -> #REF! | L20: =VLOOKUP(#REF!,[1]全部!$C:$C,1,FALSE) -> #REF! | M20: #N/A | N20: #N/A | O20: #N/A | P20: =VLOOKUP(#REF!,整户取消信息表!#REF!,1,FALSE) -> #REF! | Q20: =VLOOKUP(#REF!,#REF!,1,FALSE) -> #REF! | R20: 脱贫户 | S20: #N/A | T20: =VLOOKUP(#REF!,花名册!#REF!,2,FALSE) -> #REF! | U20: =MIDB(#REF!,11,2) -> #REF! | V20: =H20&G20 -> 龙口镇丰溪村深山组 | W20: =VLOOKUP(#REF!,[2]分析1!$M:$M,1,FALSE) -> #REF!
A21: 18091 | B21: 陈名佐 | C21: 3 | D21: 2 | E21: 陈名佐 | F21: 本人 | G21: 丰溪村寨背组 | H21: 龙口镇 | I21: =YEAR(TODAY())-MID(#REF!,7,4) -> #REF! | J21: =IF(OR(LEN(#REF!)=15,LEN(#REF!)=18),IF(MOD(MID(#REF!,15,3)*1,2),"男","女"),#N/A) -> #REF! | K21: =VLOOKUP(#REF!,花名册!E:I,9,FALSE) -> #REF! | L21: =VLOOKUP(#REF!,[1]全部!$C:$C,1,FALSE) -> #REF! | M21: #N/A | N21: #N/A | O21: #N/A | P21: =VLOOKUP(#REF!,整户取消信息表!#REF!,1,FALSE) -> #REF! | Q21: =VLOOKUP(#REF!,#REF!,1,FALSE) -> #REF! | R21: 脱贫户 | S21: 脱贫不稳定户 | T21: =VLOOKUP(#REF!,花名册!#REF!,2,FALSE) -> #REF! | U21: =MIDB(#REF!,11,2) -> #REF! | V21: =H21&G21 -> 龙口镇丰溪村寨背组 | W21: =VLOOKUP(#REF!,[2]分析1!$M:$M,1,FALSE) -> #REF!
A22: 18092 | B22: 陈名佐 | E22: 邓习兰 | F22: 配偶 | G22: 丰溪村寨背组 | H22: 龙口镇 | I22: =YEAR(TODAY())-MID(#REF!,7,4) -> #REF! | J22: =IF(OR(LEN(#REF!)=15,LEN(#REF!)=18),IF(MOD(MID(#REF!,15,3)*1,2),"男","女"),#N/A) -> #REF! | K22: =VLOOKUP(#REF!,花名册!E:I,9,FALSE) -> #REF! | L22: =VLOOKUP(#REF!,[1]全部!$C:$C,1,FALSE) -> #REF! | M22: #N/A | N22: #N/A | O22: #N/A | P22: =VLOOKUP(#REF!,整户取消信息表!#REF!,1,FALSE) -> #REF! | Q22: =VLOOKUP(#REF!,#REF!,1,FALSE) -> #REF! | R22: 脱贫户 | S22: 脱贫不稳定户 | T22: =VLOOKUP(#REF!,花名册!#REF!,2,FALSE) -> #REF! | U22: =MIDB(#REF!,11,2) -> #REF! | V22: =H22&G22 -> 龙口镇丰溪村寨背组 | W22: =VLOOKUP(#REF!,[2]分析1!$M:$M,1,FALSE) -> #REF!
A23: 18093 | B23: 陈平 | C23: 1 | D23: 1 | E23: 陈平 | F23: 本人 | G23: 丰溪村丰荣组 | H23: 龙口镇 | I23: =YEAR(TODAY())-MID(#REF!,7,4) -> #REF! | J23: =IF(OR(LEN(#REF!)=15,LEN(#REF!)=18),IF(MOD(MID(#REF!,15,3)*1,2),"男","女"),#N/A) -> #REF! | K23: =VLOOKUP(#REF!,花名册!E:I,9,FALSE) -> #REF! | L23: =VLOOKUP(#REF!,[1]全部!$C:$C,1,FALSE) -> #REF! | M23: #N/A | N23: #N/A | O23: #N/A | P23: =VLOOKUP(#REF!,整户取消信息表!#REF!,1,FALSE) -> #REF! | Q23: =VLOOKUP(#REF!,#REF!,1,FALSE) -> #REF! | R23: 脱贫户 | S23: 脱贫不稳定户 | T23: =VLOOKUP(#REF!,花名册!#REF!,2,FALSE) -> #REF! | U23: =MIDB(#REF!,11,2) -> #REF! | V23: =H23&G23 -> 龙口镇丰溪村丰荣组 | W23: =VLOOKUP(#REF!,[2]分析1!$M:$M,1,FALSE) -> #REF!
A24: 18094 | B24: 陈素兰 | C24: 4 | D24: 1 | E24: 陈素兰 | F24: 本人 | G24: 嶂下村嶂下组 | H24: 龙口镇 | I24: =YEAR(TODAY())-MID(#REF!,7,4) -> #REF! | J24: =IF(OR(LEN(#REF!)=15,LEN(#REF!)=18),IF(MOD(MID(#REF!,15,3)*1,2),"男","女"),#N/A) -> #REF! | K24: =VLOOKUP(#REF!,花名册!E:I,9,FALSE) -> #REF! | L24: =VLOOKUP(#REF!,[1]全部!$C:$C,1,FALSE) -> #REF! | M24: #N/A | N24: #N/A | O24: #N/A | P24: =VLOOKUP(#REF!,整户取消信息表!#REF!,1,FALSE) -> #REF! | Q24: =VLOOKUP(#REF!,#REF!,1,FALSE) -> #REF! | R24: 脱贫户 | S24: 脱贫不稳定户 | T24: =VLOOKUP(#REF!,花名册!#REF!,2,FALSE) -> #REF! | U24: =MIDB(#REF!,11,2) -> #REF! | V24: =H24&G24 -> 龙口镇嶂下村嶂下组 | W24: =VLOOKUP(#REF!,[2]分析1!$M:$M,1,FALSE) -> #REF!
A25: 18095 | B25: 邓春香 | C25: 2 | D25: 1 | E25: 邓春香 | F25: 本人 | G25: 嶂下村告头组 | H25: 龙口镇 | I25: =YEAR(TODAY())-MID(#REF!,7,4) -> #REF! | J25: =IF(OR(LEN(#REF!)=15,LEN(#REF!)=18),IF(MOD(MID(#REF!,15,3)*1,2),"男","女"),#N/A) -> #REF! | K25: =VLOOKUP(#REF!,花名册!E:I,9,FALSE) -> #REF! | L25: =VLOOKUP(#REF!,[1]全部!$C:$C,1,FALSE) -> #REF! | M25: #N/A | N25: #N/A | O25: #N/A | P25: =VLOOKUP(#REF!,整户取消信息表!#REF!,1,FALSE) -> #REF! | Q25: =VLOOKUP(#REF!,#REF!,1,FALSE) -> #REF! | R25: 脱贫户 | S25: 脱贫不稳定户 | T25: =VLOOKUP(#REF!,花名册!#REF!,2,FALSE) -> #REF! | U25: =MIDB(#REF!,11,2) -> #REF! | V25: =H25&G25 -> 龙口镇嶂下村告头组 | W25: =VLOOKUP(#REF!,[2]分析1!$M:$M,1,FALSE) -> #REF!
A26: 18096 | B26: 邓福华 | C26: 3 | D26: 3 | E26: 邓福华 | F26: 本人 | G26: 芦溪村蕉坑组 | H26: 龙口镇 | I26: =YEAR(TODAY())-MID(#REF!,7,4) -> #REF! | J26: =IF(OR(LEN(#REF!)=15,LEN(#REF!)=18),IF(MOD(MID(#REF!,15,3)*1,2),"男","女"),#N/A) -> #REF! | K26: =VLOOKUP(#REF!,花名册!E:I,9,FALSE) -> #REF! | L26: =VLOOKUP(#REF!,[1]全部!$C:$C,1,FALSE) -> #REF! | M26: #N/A | N26: #N/A | O26: #N/A | P26: =VLOOKUP(#REF!,整户取消信息表!#REF!,1,FALSE) -> #REF! | Q26: =VLOOKUP(#REF!,#REF!,1,FALSE) -> #REF! | R26: 脱贫户 | S26: #N/A | T26: =VLOOKUP(#REF!,花名册!#REF!,2,FALSE) -> #REF! | U26: =MIDB(#REF!,11,2) -> #REF! | V26: =H26&G26 -> 龙口镇芦溪村蕉坑组 | W26: =VLOOKUP(#REF!,[2]分析1!$M:$M,1,FALSE) -> #REF!
A27: 18097 | B27: 邓福华 | E27: 邓优 | F27: 女/媳 | G27: 芦溪村蕉坑组 | H27: 龙口镇 | I27: =YEAR(TODAY())-MID(#REF!,7,4) -> #REF! | J27: =IF(OR(LEN(#REF!)=15,LEN(#REF!)=18),IF(MOD(MID(#REF!,15,3)*1,2),"男","女"),#N/A) -> #REF! | K27: =VLOOKUP(#REF!,花名册!E:I,9,FALSE) -> #REF! | L27: =VLOOKUP(#REF!,[1]全部!$C:$C,1,FALSE) -> #REF! | M27: #N/A | N27: #N/A | O27: #N/A | P27: =VLOOKUP(#REF!,整户取消信息表!#REF!,1,FALSE) -> #REF! | Q27: =VLOOKUP(#REF!,#REF!,1,FALSE) -> #REF! | R27: 脱贫户 | S27: #N/A | T27: =VLOOKUP(#REF!,花名册!#REF!,2,FALSE) -> #REF! | U27: =MIDB(#REF!,11,2) -> #REF! | V27: =H27&G27 -> 龙口镇芦溪村蕉坑组 | W27: =VLOOKUP(#REF!,[2]分析1!$M:$M,1,FALSE) -> #REF!
A28: 18098 | B28: 邓福华 | E28: 钟云兰 | F28: 配偶 | G28: 芦溪村蕉坑组 | H28: 龙口镇 | I28: =YEAR(TODAY())-MID(#REF!,7,4) -> #REF! | J28: =IF(OR(LEN(#REF!)=15,LEN(#REF!)=18),IF(MOD(MID(#REF!,15,3)*1,2),"男","女"),#N/A) -> #REF! | K28: =VLOOKUP(#REF!,花名册!E:I,9,FALSE) -> #REF! | L28: =VLOOKUP(#REF!,[1]全部!$C:$C,1,FALSE) -> #REF! | M28: #N/A | N28: #N/A | O28: #N/A | P28: =VLOOKUP(#REF!,整户取消信息表!#REF!,1,FALSE) -> #REF! | Q28: =VLOOKUP(#REF!,#REF!,1,FALSE) -> #REF! | R28: 脱贫户 | S28: #N/A | T28: =VLOOKUP(#REF!,花名册!#REF!,2,FALSE) -> #REF! | U28: =MIDB(#REF!,11,2) -> #REF! | V28: =H28&G28 -> 龙口镇芦溪村蕉坑组 | W28: =VLOOKUP(#REF!,[2]分析1!$M:$M,1,FALSE) -> #REF!
A29: 18099 | B29: 邓福华 | C29: 2 | D29: 2 | E29: 邓福华 | F29: 本人 | G29: 中岭村溪背组 | H29: 龙口镇 | I29: =YEAR(TODAY())-MID(#REF!,7,4) -> #REF! | J29: =IF(OR(LEN(#REF!)=15,LEN(#REF!)=18),IF(MOD(MID(#REF!,15,3)*1,2),"男","女"),#N/A) -> #REF! | K29: =VLOOKUP(#REF!,花名册!E:I,9,FALSE) -> #REF! | L29: =VLOOKUP(#REF!,[1]全部!$C:$C,1,FALSE) -> #REF! | M29: #N/A | N29: #N/A | O29: #N/A | P29: =VLOOKUP(#REF!,整户取消信息表!#REF!,1,FALSE) -> #REF! | Q29: =VLOOKUP(#REF!,#REF!,1,FALSE) -> #REF! | R29: 脱贫户 | S29: #N/A | T29: =VLOOKUP(#REF!,花名册!#REF!,2,FALSE) -> #REF! | U29: =MIDB(#REF!,11,2) -> #REF! | V29: =H29&G29 -> 龙口镇中岭村溪背组 | W29: =VLOOKUP(#REF!,[2]分析1!$M:$M,1,FALSE) -> #REF!
A30: 18100 | B30: 邓福华 | E30: 汤倍英 | F30: 其他 | G30: 中岭村溪背组 | H30: 龙口镇 | I30: =YEAR(TODAY())-MID(#REF!,7,4) -> #REF! | J30: =IF(OR(LEN(#REF!)=15,LEN(#REF!)=18),IF(MOD(MID(#REF!,15,3)*1,2),"男","女"),#N/A) -> #REF! | K30: =VLOOKUP(#REF!,花名册!E:I,9,FALSE) -> #REF! | L30: =VLOOKUP(#REF!,[1]全部!$C:$C,1,FALSE) -> #REF! | M30: #N/A | N30: #N/A | O30: #N/A | P30: =VLOOKUP(#REF!,整户取消信息表!#REF!,1,FALSE) -> #REF! | Q30: =VLOOKUP(#REF!,#REF!,1,FALSE) -> #REF! | R30: 脱贫户 | S30: #N/A | T30: =VLOOKUP(#REF!,花名册!#REF!,2,FALSE) -> #REF! | U30: =MIDB(#REF!,11,2) -> #REF! | V30: =H30&G30 -> 龙口镇中岭村溪背组 | W30: =VLOOKUP(#REF!,[2]分析1!$M:$M,1,FALSE) -> #REF!
A31: 18101 | B31: 邓华明 | C31: 3 | D31: 2 | E31: 邓华明 | F31: 本人 | G31: 文院村新建组 | H31: 龙口镇 | I31: =YEAR(TODAY())-MID(#REF!,7,4) -> #REF! | J31: =IF(OR(LEN(#REF!)=15,LEN(#REF!)=18),IF(MOD(MID(#REF!,15,3)*1,2),"男","女"),#N/A) -> #REF! | K31: =VLOOKUP(#REF!,花名册!E:I,9,FALSE) -> #REF! | L31: =VLOOKUP(#REF!,[1]全部!$C:$C,1,FALSE) -> #REF! | M31: #N/A | N31: #N/A | O31: #N/A | P31: =VLOOKUP(#REF!,整户取消信息表!#REF!,1,FALSE) -> #REF! | Q31: =VLOOKUP(#REF!,#REF!,1,FALSE) -> #REF! | R31: 脱贫户 | S31: 脱贫不稳定户 | T31: =VLOOKUP(#REF!,花名册!#REF!,2,FALSE) -> #REF! | U31: =MIDB(#REF!,11,2) -> #REF! | V31: =H31&G31 -> 龙口镇文院村新建组 | W31: =VLOOKUP(#REF!,[2]分析1!$M:$M,1,FALSE) -> #REF!
A32: 18102 | B32: 邓华明 | E32: 刘忠鹏 | F32: 子/婿 | G32: 文院村新建组 | H32: 龙口镇 | I32: =YEAR(TODAY())-MID(#REF!,7,4) -> #REF! | J32: =IF(OR(LEN(#REF!)=15,LEN(#REF!)=18),IF(MOD(MID(#REF!,15,3)*1,2),"男","女"),#N/A) -> #REF! | K32: =VLOOKUP(#REF!,花名册!E:I,9,FALSE) -> #REF! | L32: =VLOOKUP(#REF!,[1]全部!$C:$C,1,FALSE) -> #REF! | M32: #N/A | N32: #N/A | O32: #N/A | P32: =VLOOKUP(#REF!,整户取消信息表!#REF!,1,FALSE) -> #REF! | Q32: =VLOOKUP(#REF!,#REF!,1,FALSE) -> #REF! | R32: 脱贫户 | S32: 脱贫不稳定户 | T32: =VLOOKUP(#REF!,花名册!#REF!,2,FALSE) -> #REF! | U32: =MIDB(#REF!,11,2) -> #REF! | V32: =H32&G32 -> 龙口镇文院村新建组 | W32: =VLOOKUP(#REF!,[2]分析1!$M:$M,1,FALSE) -> #REF!
A33: 18103 | B33: 邓焕民 | C33: 4 | D33: 1 | E33: 邓焕民 | F33: 本人 | G33: 芦溪村老屋场组 | H33: 龙口镇 | I33: =YEAR(TODAY())-MID(#REF!,7,4) -> #REF! | J33: =IF(OR(LEN(#REF!)=15,LEN(#REF!)=18),IF(MOD(MID(#REF!,15,3)*1,2),"男","女"),#N/A) -> #REF! | K33: =VLOOKUP(#REF!,花名册!E:I,9,FALSE) -> #REF! | L33: =VLOOKUP(#REF!,[1]全部!$C:$C,1,FALSE) -> #REF! | M33: #N/A | N33: #N/A | O33: #N/A | P33: =VLOOKUP(#REF!,整户取消信息表!#REF!,1,FALSE) -> #REF! | Q33: =VLOOKUP(#REF!,#REF!,1,FALSE) -> #REF! | R33: 脱贫户 | S33: 脱贫不稳定户 | T33: =VLOOKUP(#REF!,花名册!#REF!,2,FALSE) -> #REF! | U33: =MIDB(#REF!,11,2) -> #REF! | V33: =H33&G33 -> 龙口镇芦溪村老屋场组 | W33: =VLOOKUP(#REF!,[2]分析1!$M:$M,1,FALSE) -> #REF!
A34: 18104 | B34: 邓经东 | C34: 5 | D34: 3 | E34: 邓经东 | F34: 本人 | G34: 中岭村合顺组 | H34: 龙口镇 | I34: =YEAR(TODAY())-MID(#REF!,7,4) -> #REF! | J34: =IF(OR(LEN(#REF!)=15,LEN(#REF!)=18),IF(MOD(MID(#REF!,15,3)*1,2),"男","女"),#N/A) -> #REF! | K34: =VLOOKUP(#REF!,花名册!E:I,9,FALSE) -> #REF! | L34: =VLOOKUP(#REF!,[1]全部!$C:$C,1,FALSE) -> #REF! | M34: #N/A | N34: #N/A | O34: #N/A | P34: =VLOOKUP(#REF!,整户取消信息表!#REF!,1,FALSE) -> #REF! | Q34: =VLOOKUP(#REF!,#REF!,1,FALSE) -> #REF! | R34: 脱贫户 | S34: #N/A | T34: =VLOOKUP(#REF!,花名册!#REF!,2,FALSE) -> #REF! | U34: =MIDB(#REF!,11,2) -> #REF! | V34: =H34&G34 -> 龙口镇中岭村合顺组 | W34: =VLOOKUP(#REF!,[2]分析1!$M:$M,1,FALSE) -> #REF!
A35: 18105 | B35: 邓经东 | E35: 邓经辉 | F35: 兄/弟/姐/妹 | G35: 中岭村合顺组 | H35: 龙口镇 | I35: =YEAR(TODAY())-MID(#REF!,7,4) -> #REF! | J35: =IF(OR(LEN(#REF!)=15,LEN(#REF!)=18),IF(MOD(MID(#REF!,15,3)*1,2),"男","女"),#N/A) -> #REF! | K35: =VLOOKUP(#REF!,花名册!E:I,9,FALSE) -> #REF! | L35: =VLOOKUP(#REF!,[1]全部!$C:$C,1,FALSE) -> #REF! | M35: #N/A | N35: #N/A | O35: #N/A | P35: =VLOOKUP(#REF!,整户取消信息表!#REF!,1,FALSE) -> #REF! | Q35: =VLOOKUP(#REF!,#REF!,1,FALSE) -> #REF! | R35: 脱贫户 | S35: 脱贫不稳定户 | T35: =VLOOKUP(#REF!,花名册!#REF!,2,FALSE) -> #REF! | U35: =MIDB(#REF!,11,2) -> #REF! | V35: =H35&G35 -> 龙口镇中岭村合顺组 | W35: =VLOOKUP(#REF!,[2]分析1!$M:$M,1,FALSE) -> #REF!
A36: 18106 | B36: 邓经东 | E36: 邓子清 | F36: 子/婿 | G36: 中岭村合顺组 | H36: 龙口镇 | I36: =YEAR(TODAY())-MID(#REF!,7,4) -> #REF! | J36: =IF(OR(LEN(#REF!)=15,LEN(#REF!)=18),IF(MOD(MID(#REF!,15,3)*1,2),"男","女"),#N/A) -> #REF! | K36: =VLOOKUP(#REF!,花名册!E:I,9,FALSE) -> #REF! | L36: =VLOOKUP(#REF!,[1]全部!$C:$C,1,FALSE) -> #REF! | M36: #N/A | N36: #N/A | O36: #N/A | P36: =VLOOKUP(#REF!,整户取消信息表!#REF!,1,FALSE) -> #REF! | Q36: =VLOOKUP(#REF!,#REF!,1,FALSE) -> #REF! | R36: 脱贫户 | S36: 脱贫不稳定户 | T36: =VLOOKUP(#REF!,花名册!#REF!,2,FALSE) -> #REF! | U36: =MIDB(#REF!,11,2) -> #REF! | V36: =H36&G36 -> 龙口镇中岭村合顺组 | W36: =VLOOKUP(#REF!,[2]分析1!$M:$M,1,FALSE) -> #REF!
A37: 18107 | B37: 邓习洋 | C37: 5 | D37: 4 | E37: 邓习洋 | F37: 本人 | G37: 中岭村存敬组 | H37: 龙口镇 | I37: =YEAR(TODAY())-MID(#REF!,7,4) -> #REF! | J37: =IF(OR(LEN(#REF!)=15,LEN(#REF!)=18),IF(MOD(MID(#REF!,15,3)*1,2),"男","女"),#N/A) -> #REF! | K37: =VLOOKUP(#REF!,花名册!E:I,9,FALSE) -> #REF! | L37: =VLOOKUP(#REF!,[1]全部!$C:$C,1,FALSE) -> #REF! | M37: #N/A | N37: #N/A | O37: #N/A | P37: =VLOOKUP(#REF!,整户取消信息表!#REF!,1,FALSE) -> #REF! | Q37: =VLOOKUP(#REF!,#REF!,1,FALSE) -> #REF! | R37: 脱贫户 | S37: 脱贫不稳定户 | T37: =VLOOKUP(#REF!,花名册!#REF!,2,FALSE) -> #REF! | U37: =MIDB(#REF!,11,2) -> #REF! | V37: =H37&G37 -> 龙口镇中岭村存敬组 | W37: =VLOOKUP(#REF!,[2]分析1!$M:$M,1,FALSE) -> #REF!
A38: 18108 | B38: 邓习洋 | E38: 邓雅琪 | F38: 孙子女/外孙子女 | G38: 中岭村存敬组 | H38: 龙口镇 | I38: =YEAR(TODAY())-MID(#REF!,7,4) -> #REF! | J38: =IF(OR(LEN(#REF!)=15,LEN(#REF!)=18),IF(MOD(MID(#REF!,15,3)*1,2),"男","女"),#N/A) -> #REF! | K38: =VLOOKUP(#REF!,花名册!E:I,9,FALSE) -> #REF! | L38: =VLOOKUP(#REF!,[1]全部!$C:$C,1,FALSE) -> #REF! | M38: #N/A | N38: #N/A | O38: #N/A | P38: =VLOOKUP(#REF!,整户取消信息表!#REF!,1,FALSE) -> #REF! | Q38: =VLOOKUP(#REF!,#REF!,1,FALSE) -> #REF! | R38: 脱贫户 | S38: 脱贫不稳定户 | T38: =VLOOKUP(#REF!,花名册!#REF!,2,FALSE) -> #REF! | U38: =MIDB(#REF!,11,2) -> #REF! | V38: =H38&G38 -> 龙口镇中岭村存敬组 | W38: =VLOOKUP(#REF!,[2]分析1!$M:$M,1,FALSE) -> #REF!
A39: 18109 | B39: 邓习洋 | E39: 邓晓慧 | F39: 孙子女/外孙子女 | G39: 中岭村存敬组 | H39: 龙口镇 | I39: =YEAR(TODAY())-MID(#REF!,7,4) -> #REF! | J39: =IF(OR(LEN(#REF!)=15,LEN(#REF!)=18),IF(MOD(MID(#REF!,15,3)*1,2),"男","女"),#N/A) -> #REF! | K39: =VLOOKUP(#REF!,花名册!E:I,9,FALSE) -> #REF! | L39: =VLOOKUP(#REF!,[1]全部!$C:$C,1,FALSE) -> #REF! | M39: #N/A | N39: #N/A | O39: #N/A | P39: =VLOOKUP(#REF!,整户取消信息表!#REF!,1,FALSE) -> #REF! | Q39: =VLOOKUP(#REF!,#REF!,1,FALSE) -> #REF! | R39: 脱贫户 | S39: 脱贫不稳定户 | T39: =VLOOKUP(#REF!,花名册!#REF!,2,FALSE) -> #REF! | U39: =MIDB(#REF!,11,2) -> #REF! | V39: =H39&G39 -> 龙口镇中岭村存敬组 | W39: =VLOOKUP(#REF!,[2]分析1!$M:$M,1,FALSE) -> #REF!
A40: 18110 | B40: 邓习洋 | E40: 邓瑞谦 | F40: 孙子女/外孙子女 | G40: 中岭村存敬组 | H40: 龙口镇 | I40: =YEAR(TODAY())-MID(#REF!,7,4) -> #REF! | J40: =IF(OR(LEN(#REF!)=15,LEN(#REF!)=18),IF(MOD(MID(#REF!,15,3)*1,2),"男","女"),#N/A) -> #REF! | K40: =VLOOKUP(#REF!,花名册!E:I,9,FALSE) -> #REF! | L40: =VLOOKUP(#REF!,[1]全部!$C:$C,1,FALSE) -> #REF! | M40: #N/A | N40: #N/A | O40: #N/A | P40: =VLOOKUP(#REF!,整户取消信息表!#REF!,1,FALSE) -> #REF! | Q40: =VLOOKUP(#REF!,#REF!,1,FALSE) -> #REF! | R40: 脱贫户 | S40: 脱贫不稳定户 | T40: =VLOOKUP(#REF!,花名册!#REF!,2,FALSE) -> #REF! | U40: =MIDB(#REF!,11,2) -> #REF! | V40: =H40&G40 -> 龙口镇中岭村存敬组 | W40: =VLOOKUP(#REF!,[2]分析1!$M:$M,1,FALSE) -> #REF!
A41: 18111 | B41: 邓通来 | C41: 8 | D41: 5 | E41: 邓通来 | F41: 本人 | G41: 芦溪村春丘组 | H41: 龙口镇 | I41: =YEAR(TODAY())-MID(#REF!,7,4) -> #REF! | J41: =IF(OR(LEN(#REF!)=15,LEN(#REF!)=18),IF(MOD(MID(#REF!,15,3)*1,2),"男","女"),#N/A) -> #REF! | K41: =VLOOKUP(#REF!,花名册!E:I,9,FALSE) -> #REF! | L41: =VLOOKUP(#REF!,[1]全部!$C:$C,1,FALSE) -> #REF! | M41: #N/A | N41: #N/A | O41: #N/A | P41: =VLOOKUP(#REF!,整户取消信息表!#REF!,1,FALSE) -> #REF! | Q41: =VLOOKUP(#REF!,#REF!,1,FALSE) -> #REF! | R41: 脱贫户 | S41: #N/A | T41: =VLOOKUP(#REF!,花名册!#REF!,2,FALSE) -> #REF! | U41: =MIDB(#REF!,11,2) -> #REF! | V41: =H41&G41 -> 龙口镇芦溪村春丘组 | W41: =VLOOKUP(#REF!,[2]分析1!$M:$M,1,FALSE) -> #REF!
A42: 18112 | B42: 邓通来 | E42: 邱德英 | F42: 父母/岳父母/公婆 | G42: 芦溪村春丘组 | H42: 龙口镇 | I42: =YEAR(TODAY())-MID(#REF!,7,4) -> #REF! | J42: =IF(OR(LEN(#REF!)=15,LEN(#REF!)=18),IF(MOD(MID(#REF!,15,3)*1,2),"男","女"),#N/A) -> #REF! | K42: =VLOOKUP(#REF!,花名册!E:I,9,FALSE) -> #REF! | L42: =VLOOKUP(#REF!,[1]全部!$C:$C,1,FALSE) -> #REF! | M42: #N/A | N42: #N/A | O42: #N/A | P42: =VLOOKUP(#REF!,整户取消信息表!#REF!,1,FALSE) -> #REF! | Q42: =VLOOKUP(#REF!,#REF!,1,FALSE) -> #REF! | R42: 脱贫户 | S42: #N/A | T42: =VLOOKUP(#REF!,花名册!#REF!,2,FALSE) -> #REF! | U42: =MIDB(#REF!,11,2) -> #REF! | V42: =H42&G42 -> 龙口镇芦溪村春丘组 | W42: =VLOOKUP(#REF!,[2]分析1!$M:$M,1,FALSE) -> #REF!
A43: 18113 | B43: 邓通来 | E43: 邓建清 | F43: 子/婿 | G43: 芦溪村春丘组 | H43: 龙口镇 | I43: =YEAR(TODAY())-MID(#REF!,7,4) -> #REF! | J43: =IF(OR(LEN(#REF!)=15,LEN(#REF!)=18),IF(MOD(MID(#REF!,15,3)*1,2),"男","女"),#N/A) -> #REF! | K43: =VLOOKUP(#REF!,花名册!E:I,9,FALSE) -> #REF! | L43: =VLOOKUP(#REF!,[1]全部!$C:$C,1,FALSE) -> #REF! | M43: #N/A | N43: #N/A | O43: #N/A | P43: =VLOOKUP(#REF!,整户取消信息表!#REF!,1,FALSE) -> #REF! | Q43: =VLOOKUP(#REF!,#REF!,1,FALSE) -> #REF! | R43: 脱贫户 | S43: #N/A | T43: =VLOOKUP(#REF!,花名册!#REF!,2,FALSE) -> #REF! | U43: =MIDB(#REF!,11,2) -> #REF! | V43: =H43&G43 -> 龙口镇芦溪村春丘组 | W43: =VLOOKUP(#REF!,[2]分析1!$M:$M,1,FALSE) -> #REF!
A44: 18114 | B44: 邓通来 | E44: 邓地凤 | F44: 女/媳 | G44: 芦溪村春丘组 | H44: 龙口镇 | I44: =YEAR(TODAY())-MID(#REF!,7,4) -> #REF! | J44: =IF(OR(LEN(#REF!)=15,LEN(#REF!)=18),IF(MOD(MID(#REF!,15,3)*1,2),"男","女"),#N/A) -> #REF! | K44: =VLOOKUP(#REF!,花名册!E:I,9,FALSE) -> #REF! | L44: =VLOOKUP(#REF!,[1]全部!$C:$C,1,FALSE) -> #REF! | M44: #N/A | N44: #N/A | O44: #N/A | P44: =VLOOKUP(#REF!,整户取消信息表!#REF!,1,FALSE) -> #REF! | Q44: =VLOOKUP(#REF!,#REF!,1,FALSE) -> #REF! | R44: 脱贫户 | S44: #N/A | T44: =VLOOKUP(#REF!,花名册!#REF!,2,FALSE) -> #REF! | U44: =MIDB(#REF!,11,2) -> #REF! | V44: =H44&G44 -> 龙口镇芦溪村春丘组 | W44: =VLOOKUP(#REF!,[2]分析1!$M:$M,1,FALSE) -> #REF!
A45: 18115 | B45: 邓通来 | E45: 邓经华 | F45: 父母/岳父母/公婆 | G45: 芦溪村春丘组 | H45: 龙口镇 | I45: =YEAR(TODAY())-MID(#REF!,7,4) -> #REF! | J45: =IF(OR(LEN(#REF!)=15,LEN(#REF!)=18),IF(MOD(MID(#REF!,15,3)*1,2),"男","女"),#N/A) -> #REF! | K45: =VLOOKUP(#REF!,花名册!E:I,9,FALSE) -> #REF! | L45: =VLOOKUP(#REF!,[1]全部!$C:$C,1,FALSE) -> #REF! | M45: #N/A | N45: #N/A | O45: #N/A | P45: =VLOOKUP(#REF!,整户取消信息表!#REF!,1,FALSE) -> #REF! | Q45: =VLOOKUP(#REF!,#REF!,1,FALSE) -> #REF! | R45: 脱贫户 | S45: #N/A | T45: =VLOOKUP(#REF!,花名册!#REF!,2,FALSE) -> #REF! | U45: =MIDB(#REF!,11,2) -> #REF! | V45: =H45&G45 -> 龙口镇芦溪村春丘组 | W45: =VLOOKUP(#REF!,[2]分析1!$M:$M,1,FALSE) -> #REF!
A46: 18116 | B46: 邓经华 | C46: 6 | D46: 5 | E46: 邓经华 | F46: 本人 | G46: 中岭村大帮组 | H46: 龙口镇 | I46: =YEAR(TODAY())-MID(#REF!,7,4) -> #REF! | J46: =IF(OR(LEN(#REF!)=15,LEN(#REF!)=18),IF(MOD(MID(#REF!,15,3)*1,2),"男","女"),#N/A) -> #REF! | K46: =VLOOKUP(#REF!,花名册!E:I,9,FALSE) -> #REF! | L46: =VLOOKUP(#REF!,[1]全部!$C:$C,1,FALSE) -> #REF! | M46: #N/A | N46: #N/A | O46: #N/A | P46: =VLOOKUP(#REF!,整户取消信息表!#REF!,1,FALSE) -> #REF! | Q46: =VLOOKUP(#REF!,#REF!,1,FALSE) -> #REF! | R46: 脱贫户 | S46: #N/A | T46: =VLOOKUP(#REF!,花名册!#REF!,2,FALSE) -> #REF! | U46: =MIDB(#REF!,11,2) -> #REF! | V46: =H46&G46 -> 龙口镇中岭村大帮组 | W46: =VLOOKUP(#REF!,[2]分析1!$M:$M,1,FALSE) -> #REF!
A47: 18117 | B47: 邓经华 | E47: 邓倩 | F47: 孙子女/外孙子女 | G47: 中岭村大帮组 | H47: 龙口镇 | I47: =YEAR(TODAY())-MID(#REF!,7,4) -> #REF! | J47: =IF(OR(LEN(#REF!)=15,LEN(#REF!)=18),IF(MOD(MID(#REF!,15,3)*1,2),"男","女"),#N/A) -> #REF! | K47: =VLOOKUP(#REF!,花名册!E:I,9,FALSE) -> #REF! | L47: =VLOOKUP(#REF!,[1]全部!$C:$C,1,FALSE) -> #REF! | M47: #N/A | N47: #N/A | O47: #N/A | P47: =VLOOKUP(#REF!,整户取消信息表!#REF!,1,FALSE) -> #REF! | Q47: =VLOOKUP(#REF!,#REF!,1,FALSE) -> #REF! | R47: 脱贫户 | S47: #N/A | T47: =VLOOKUP(#REF!,花名册!#REF!,2,FALSE) -> #REF! | U47: =MIDB(#REF!,11,2) -> #REF! | V47: =H47&G47 -> 龙口镇中岭村大帮组 | W47: =VLOOKUP(#REF!,[2]分析1!$M:$M,1,FALSE) -> #REF!
A48: 18118 | B48: 邓经华 | E48: 邓通伟 | F48: 子/婿 | G48: 中岭村大帮组 | H48: 龙口镇 | I48: =YEAR(TODAY())-MID(#REF!,7,4) -> #REF! | J48: =IF(OR(LEN(#REF!)=15,LEN(#REF!)=18),IF(MOD(MID(#REF!,15,3)*1,2),"男","女"),#N/A) -> #REF! | K48: =VLOOKUP(#REF!,花名册!E:I,9,FALSE) -> #REF! | L48: =VLOOKUP(#REF!,[1]全部!$C:$C,1,FALSE) -> #REF! | M48: #N/A | N48: #N/A | O48: #N/A | P48: =VLOOKUP(#REF!,整户取消信息表!#REF!,1,FALSE) -> #REF! | Q48: =VLOOKUP(#REF!,#REF!,1,FALSE) -> #REF! | R48: 脱贫户 | S48: 脱贫不稳定户 | T48: =VLOOKUP(#REF!,花名册!#REF!,2,FALSE) -> #REF! | U48: =MIDB(#REF!,11,2) -> #REF! | V48: =H48&G48 -> 龙口镇中岭村大帮组 | W48: =VLOOKUP(#REF!,[2]分析1!$M:$M,1,FALSE) -> #REF!
A49: 18119 | B49: 邓经华 | E49: 邓建兴 | F49: 孙子女/外孙子女 | G49: 中岭村大帮组 | H49: 龙口镇 | I49: =YEAR(TODAY())-MID(#REF!,7,4) -> #REF! | J49: =IF(OR(LEN(#REF!)=15,LEN(#REF!)=18),IF(MOD(MID(#REF!,15,3)*1,2),"男","女"),#N/A) -> #REF! | K49: =VLOOKUP(#REF!,花名册!E:I,9,FALSE) -> #REF! | L49: =VLOOKUP(#REF!,[1]全部!$C:$C,1,FALSE) -> #REF! | M49: #N/A | N49: #N/A | O49: #N/A | P49: =VLOOKUP(#REF!,整户取消信息表!#REF!,1,FALSE) -> #REF! | Q49: =VLOOKUP(#REF!,#REF!,1,FALSE) -> #REF! | R49: 脱贫户 | S49: 脱贫不稳定户 | T49: =VLOOKUP(#REF!,花名册!#REF!,2,FALSE) -> #REF! | U49: =MIDB(#REF!,11,2) -> #REF! | V49: =H49&G49 -> 龙口镇中岭村大帮组 | W49: =VLOOKUP(#REF!,[2]分析1!$M:$M,1,FALSE) -> #REF!
A50: 18120 | B50: 邓经华 | E50: 邓娟 | F50: 孙子女/外孙子女 | G50: 中岭村大帮组 | H50: 龙口镇 | I50: =YEAR(TODAY())-MID(#REF!,7,4) -> #REF! | J50: =IF(OR(LEN(#REF!)=15,LEN(#REF!)=18),IF(MOD(MID(#REF!,15,3)*1,2),"男","女"),#N/A) -> #REF! | K50: =VLOOKUP(#REF!,花名册!E:I,9,FALSE) -> #REF! | L50: =VLOOKUP(#REF!,[1]全部!$C:$C,1,FALSE) -> #REF! | M50: #N/A | N50: #N/A | O50: #N/A | P50: =VLOOKUP(#REF!,整户取消信息表!#REF!,1,FALSE) -> #REF! | Q50: =VLOOKUP(#REF!,#REF!,1,FALSE) -> #REF! | R50: 脱贫户 | S50: 脱贫不稳定户 | T50: =VLOOKUP(#REF!,花名册!#REF!,2,FALSE) -> #REF! | U50: =MIDB(#REF!,11,2) -> #REF! | V50: =H50&G50 -> 龙口镇中岭村大帮组 | W50: =VLOOKUP(#REF!,[2]分析1!$M:$M,1,FALSE) -> #REF!
A51: 18121 | B51: 邓经满 | C51: 1 | D51: 1 | E51: 邓经满 | F51: 本人 | G51: 都田村上都组 | H51: 龙口镇 | I51: =YEAR(TODAY())-MID(#REF!,7,4) -> #REF! | J51: =IF(OR(LEN(#REF!)=15,LEN(#REF!)=18),IF(MOD(MID(#REF!,15,3)*1,2),"男","女"),#N/A) -> #REF! | K51: =VLOOKUP(#REF!,花名册!E:I,9,FALSE) -> #REF! | L51: =VLOOKUP(#REF!,[1]全部!$C:$C,1,FALSE) -> #REF! | M51: #N/A | N51: #N/A | O51: #N/A | P51: =VLOOKUP(#REF!,整户取消信息表!#REF!,1,FALSE) -> #REF! | Q51: =VLOOKUP(#REF!,#REF!,1,FALSE) -> #REF! | R51: 脱贫户 | S51: #N/A | T51: =VLOOKUP(#REF!,花名册!#REF!,2,FALSE) -> #REF! | U51: =MIDB(#REF!,11,2) -> #REF! | V51: =H51&G51 -> 龙口镇都田村上都组 | W51: =VLOOKUP(#REF!,[2]分析1!$M:$M,1,FALSE) -> #REF!
A52: 18122 | B52: 邓经泮 | C52: 2 | D52: 2 | E52: 邓经泮 | F52: 本人 | G52: 中岭村岭脑组 | H52: 龙口镇 | I52: =YEAR(TODAY())-MID(#REF!,7,4) -> #REF! | J52: =IF(OR(LEN(#REF!)=15,LEN(#REF!)=18),IF(MOD(MID(#REF!,15,3)*1,2),"男","女"),#N/A) -> #REF! | K52: =VLOOKUP(#REF!,花名册!E:I,9,FALSE) -> #REF! | L52: =VLOOKUP(#REF!,[1]全部!$C:$C,1,FALSE) -> #REF! | M52: #N/A | N52: #N/A | O52: #N/A | P52: =VLOOKUP(#REF!,整户取消信息表!#REF!,1,FALSE) -> #REF! | Q52: =VLOOKUP(#REF!,#REF!,1,FALSE) -> #REF! | R52: 脱贫户 | S52: #N/A | T52: =VLOOKUP(#REF!,花名册!#REF!,2,FALSE) -> #REF! | U52: =MIDB(#REF!,11,2) -> #REF! | V52: =H52&G52 -> 龙口镇中岭村岭脑组 | W52: =VLOOKUP(#REF!,[2]分析1!$M:$M,1,FALSE) -> #REF!
A53: 18123 | B53: 邓经泮 | E53: 刘带凤 | F53: 其他 | G53: 中岭村岭脑组 | H53: 龙口镇 | I53: =YEAR(TODAY())-MID(#REF!,7,4) -> #REF! | J53: =IF(OR(LEN(#REF!)=15,LEN(#REF!)=18),IF(MOD(MID(#REF!,15,3)*1,2),"男","女"),#N/A) -> #REF! | K53: =VLOOKUP(#REF!,花名册!E:I,9,FALSE) -> #REF! | L53: =VLOOKUP(#REF!,[1]全部!$C:$C,1,FALSE) -> #REF! | M53: #N/A | N53: #N/A | O53: #N/A | P53: =VLOOKUP(#REF!,整户取消信息表!#REF!,1,FALSE) -> #REF! | Q53: =VLOOKUP(#REF!,#REF!,1,FALSE) -> #REF! | R53: 脱贫户 | S53: #N/A | T53: =VLOOKUP(#REF!,花名册!#REF!,2,FALSE) -> #REF! | U53: =MIDB(#REF!,11,2) -> #REF! | V53: =H53&G53 -> 龙口镇中岭村岭脑组 | W53: =VLOOKUP(#REF!,[2]分析1!$M:$M,1,FALSE) -> #REF!
A54: 18124 | B54: 邓经荣 | C54: 4 | D54: 4 | E54: 邓经荣 | F54: 本人 | G54: 中岭村石角组 | H54: 龙口镇 | I54: =YEAR(TODAY())-MID(#REF!,7,4) -> #REF! | J54: =IF(OR(LEN(#REF!)=15,LEN(#REF!)=18),IF(MOD(MID(#REF!,15,3)*1,2),"男","女"),#N/A) -> #REF! | K54: =VLOOKUP(#REF!,花名册!E:I,9,FALSE) -> #REF! | L54: =VLOOKUP(#REF!,[1]全部!$C:$C,1,FALSE) -> #REF! | M54: #N/A | N54: #N/A | O54: #N/A | P54: =VLOOKUP(#REF!,整户取消信息表!#REF!,1,FALSE) -> #REF! | Q54: =VLOOKUP(#REF!,#REF!,1,FALSE) -> #REF! | R54: 脱贫户 | S54: #N/A | T54: =VLOOKUP(#REF!,花名册!#REF!,2,FALSE) -> #REF! | U54: =MIDB(#REF!,11,2) -> #REF! | V54: =H54&G54 -> 龙口镇中岭村石角组 | W54: =VLOOKUP(#REF!,[2]分析1!$M:$M,1,FALSE) -> #REF!
A55: 18125 | B55: 邓经荣 | E55: 刘桂英 | F55: 配偶 | G55: 中岭村石角组 | H55: 龙口镇 | I55: =YEAR(TODAY())-MID(#REF!,7,4) -> #REF! | J55: =IF(OR(LEN(#REF!)=15,LEN(#REF!)=18),IF(MOD(MID(#REF!,15,3)*1,2),"男","女"),#N/A) -> #REF! | K55: =VLOOKUP(#REF!,花名册!E:I,9,FALSE) -> #REF! | L55: =VLOOKUP(#REF!,[1]全部!$C:$C,1,FALSE) -> #REF! | M55: #N/A | N55: #N/A | O55: #N/A | P55: =VLOOKUP(#REF!,整户取消信息表!#REF!,1,FALSE) -> #REF! | Q55: =VLOOKUP(#REF!,#REF!,1,FALSE) -> #REF! | R55: 脱贫户 | S55: #N/A | T55: =VLOOKUP(#REF!,花名册!#REF!,2,FALSE) -> #REF! | U55: =MIDB(#REF!,11,2) -> #REF! | V55: =H55&G55 -> 龙口镇中岭村石角组 | W55: =VLOOKUP(#REF!,[2]分析1!$M:$M,1,FALSE) -> #REF!
A56: 18126 | B56: 邓经荣 | E56: 邓通升 | F56: 子/婿 | G56: 中岭村石角组 | H56: 龙口镇 | I56: =YEAR(TODAY())-MID(#REF!,7,4) -> #REF! | J56: =IF(OR(LEN(#REF!)=15,LEN(#REF!)=18),IF(MOD(MID(#REF!,15,3)*1,2),"男","女"),#N/A) -> #REF! | K56: =VLOOKUP(#REF!,花名册!E:I,9,FALSE) -> #REF! | L56: =VLOOKUP(#REF!,[1]全部!$C:$C,1,FALSE) -> #REF! | M56: #N/A | N56: #N/A | O56: #N/A | P56: =VLOOKUP(#REF!,整户取消信息表!#REF!,1,FALSE) -> #REF! | Q56: =VLOOKUP(#REF!,#REF!,1,FALSE) -> #REF! | R56: 脱贫户 | S56: #N/A | T56: =VLOOKUP(#REF!,花名册!#REF!,2,FALSE) -> #REF! | U56: =MIDB(#REF!,11,2) -> #REF! | V56: =H56&G56 -> 龙口镇中岭村石角组 | W56: =VLOOKUP(#REF!,[2]分析1!$M:$M,1,FALSE) -> #REF!
A57: 18127 | B57: 邓经荣 | E57: 邓伟涵 | F57: 子/婿 | G57: 中岭村石角组 | H57: 龙口镇 | I57: =YEAR(TODAY())-MID(#REF!,7,4) -> #REF! | J57: =IF(OR(LEN(#REF!)=15,LEN(#REF!)=18),IF(MOD(MID(#REF!,15,3)*1,2),"男","女"),#N/A) -> #REF! | K57: =VLOOKUP(#REF!,花名册!E:I,9,FALSE) -> #REF! | L57: =VLOOKUP(#REF!,[1]全部!$C:$C,1,FALSE) -> #REF! | M57: #N/A | N57: #N/A | O57: #N/A | P57: =VLOOKUP(#REF!,整户取消信息表!#REF!,1,FALSE) -> #REF! | Q57: =VLOOKUP(#REF!,#REF!,1,FALSE) -> #REF! | R57: 脱贫户 | S57: #N/A | T57: =VLOOKUP(#REF!,花名册!#REF!,2,FALSE) -> #REF! | U57: =MIDB(#REF!,11,2) -> #REF! | V57: =H57&G57 -> 龙口镇中岭村石角组 | W57: =VLOOKUP(#REF!,[2]分析1!$M:$M,1,FALSE) -> #REF!
A58: 18128 | B58: 邓经锡 | C58: 1 | D58: 1 | E58: 邓经锡 | F58: 本人 | G58: 中岭村大帮组 | H58: 龙口镇 | I58: =YEAR(TODAY())-MID(#REF!,7,4) -> #REF! | J58: =IF(OR(LEN(#REF!)=15,LEN(#REF!)=18),IF(MOD(MID(#REF!,15,3)*1,2),"男","女"),#N/A) -> #REF! | K58: =VLOOKUP(#REF!,花名册!E:I,9,FALSE) -> #REF! | L58: =VLOOKUP(#REF!,[1]全部!$C:$C,1,FALSE) -> #REF! | M58: #N/A | N58: #N/A | O58: #N/A | P58: =VLOOKUP(#REF!,整户取消信息表!#REF!,1,FALSE) -> #REF! | Q58: =VLOOKUP(#REF!,#REF!,1,FALSE) -> #REF! | R58: 脱贫户 | S58: 突发严重困难户 | T58: =VLOOKUP(#REF!,花名册!#REF!,2,FALSE) -> #REF! | U58: =MIDB(#REF!,11,2) -> #REF! | V58: =H58&G58 -> 龙口镇中岭村大帮组 | W58: =VLOOKUP(#REF!,[2]分析1!$M:$M,1,FALSE) -> #REF!
A59: 18129 | B59: 邓溱财 | C59: 3 | D59: 2 | E59: 邓溱财 | F59: 本人 | G59: 中岭村合顺组 | H59: 龙口镇 | I59: =YEAR(TODAY())-MID(#REF!,7,4) -> #REF! | J59: =IF(OR(LEN(#REF!)=15,LEN(#REF!)=18),IF(MOD(MID(#REF!,15,3)*1,2),"男","女"),#N/A) -> #REF! | K59: =VLOOKUP(#REF!,花名册!E:I,9,FALSE) -> #REF! | L59: =VLOOKUP(#REF!,[1]全部!$C:$C,1,FALSE) -> #REF! | M59: #N/A | N59: #N/A | O59: #N/A | P59: =VLOOKUP(#REF!,整户取消信息表!#REF!,1,FALSE) -> #REF! | Q59: =VLOOKUP(#REF!,#REF!,1,FALSE) -> #REF! | R59: 脱贫户 | S59: 突发严重困难户 | T59: =VLOOKUP(#REF!,花名册!#REF!,2,FALSE) -> #REF! | U59: =MIDB(#REF!,11,2) -> #REF! | V59: =H59&G59 -> 龙口镇中岭村合顺组 | W59: =VLOOKUP(#REF!,[2]分析1!$M:$M,1,FALSE) -> #REF!
A60: 18130 | B60: 邓溱财 | E60: 邓宜海 | F60: 父母/岳父母/公婆 | G60: 中岭村合顺组 | H60: 龙口镇 | I60: =YEAR(TODAY())-MID(#REF!,7,4) -> #REF! | J60: =IF(OR(LEN(#REF!)=15,LEN(#REF!)=18),IF(MOD(MID(#REF!,15,3)*1,2),"男","女"),#N/A) -> #REF! | K60: =VLOOKUP(#REF!,花名册!E:I,9,FALSE) -> #REF! | L60: =VLOOKUP(#REF!,[1]全部!$C:$C,1,FALSE) -> #REF! | M60: #N/A | N60: #N/A | O60: #N/A | P60: =VLOOKUP(#REF!,整户取消信息表!#REF!,1,FALSE) -> #REF! | Q60: =VLOOKUP(#REF!,#REF!,1,FALSE) -> #REF! | R60: 脱贫户 | S60: 突发严重困难户 | T60: =VLOOKUP(#REF!,花名册!#REF!,2,FALSE) -> #REF! | U60: =MIDB(#REF!,11,2) -> #REF! | V60: =H60&G60 -> 龙口镇中岭村合顺组 | W60: =VLOOKUP(#REF!,[2]分析1!$M:$M,1,FALSE) -> #REF!
A61: 18131 | B61: 曾春梅 | C61: 6 | D61: 5 | E61: 曾春梅 | F61: 本人 | G61: 中岭村大屋组 | H61: 龙口镇 | I61: =YEAR(TODAY())-MID(#REF!,7,4) -> #REF! | J61: =IF(OR(LEN(#REF!)=15,LEN(#REF!)=18),IF(MOD(MID(#REF!,15,3)*1,2),"男","女"),#N/A) -> #REF! | K61: =VLOOKUP(#REF!,花名册!E:I,9,FALSE) -> #REF! | L61: =VLOOKUP(#REF!,[1]全部!$C:$C,1,FALSE) -> #REF! | M61: #N/A | N61: #N/A | O61: #N/A | P61: =VLOOKUP(#REF!,整户取消信息表!#REF!,1,FALSE) -> #REF! | Q61: =VLOOKUP(#REF!,#REF!,1,FALSE) -> #REF! | R61: 脱贫户 | S61: 突发严重困难户 | T61: =VLOOKUP(#REF!,花名册!#REF!,2,FALSE) -> #REF! | U61: =MIDB(#REF!,11,2) -> #REF! | V61: =H61&G61 -> 龙口镇中岭村大屋组 | W61: =VLOOKUP(#REF!,[2]分析1!$M:$M,1,FALSE) -> #REF!
A62: 18132 | B62: 曾春梅 | E62: 曾发香 | F62: 父母/岳父母/公婆 | G62: 中岭村大屋组 | H62: 龙口镇 | I62: =YEAR(TODAY())-MID(#REF!,7,4) -> #REF! | J62: =IF(OR(LEN(#REF!)=15,LEN(#REF!)=18),IF(MOD(MID(#REF!,15,3)*1,2),"男","女"),#N/A) -> #REF! | K62: =VLOOKUP(#REF!,花名册!E:I,9,FALSE) -> #REF! | L62: =VLOOKUP(#REF!,[1]全部!$C:$C,1,FALSE) -> #REF! | M62: #N/A | N62: #N/A | O62: #N/A | P62: =VLOOKUP(#REF!,整户取消信息表!#REF!,1,FALSE) -> #REF! | Q62: =VLOOKUP(#REF!,#REF!,1,FALSE) -> #REF! | R62: 脱贫户 | S62: 脱贫不稳定户 | T62: =VLOOKUP(#REF!,花名册!#REF!,2,FALSE) -> #REF! | U62: =MIDB(#REF!,11,2) -> #REF! | V62: =H62&G62 -> 龙口镇中岭村大屋组 | W62: =VLOOKUP(#REF!,[2]分析1!$M:$M,1,FALSE) -> #REF!
A63: 18133 | B63: 曾春梅 | E63: 邓良焙 | F63: 父母/岳父母/公婆 | G63: 中岭村大屋组 | H63: 龙口镇 | I63: =YEAR(TODAY())-MID(#REF!,7,4) -> #REF! | J63: =IF(OR(LEN(#REF!)=15,LEN(#REF!)=18),IF(MOD(MID(#REF!,15,3)*1,2),"男","女"),#N/A) -> #REF! | K63: =VLOOKUP(#REF!,花名册!E:I,9,FALSE) -> #REF! | L63: =VLOOKUP(#REF!,[1]全部!$C:$C,1,FALSE) -> #REF! | M63: #N/A | N63: #N/A | O63: #N/A | P63: =VLOOKUP(#REF!,整户取消信息表!#REF!,1,FALSE) -> #REF! | Q63: =VLOOKUP(#REF!,#REF!,1,FALSE) -> #REF! | R63: 脱贫户 | S63: 脱贫不稳定户 | T63: =VLOOKUP(#REF!,花名册!#REF!,2,FALSE) -> #REF! | U63: =MIDB(#REF!,11,2) -> #REF! | V63: =H63&G63 -> 龙口镇中岭村大屋组 | W63: =VLOOKUP(#REF!,[2]分析1!$M:$M,1,FALSE) -> #REF!
A64: 18134 | B64: 曾春梅 | E64: 邓艳萍 | F64: 女/媳 | G64: 中岭村大屋组 | H64: 龙口镇 | I64: =YEAR(TODAY())-MID(#REF!,7,4) -> #REF! | J64: =IF(OR(LEN(#REF!)=15,LEN(#REF!)=18),IF(MOD(MID(#REF!,15,3)*1,2),"男","女"),#N/A) -> #REF! | K64: =VLOOKUP(#REF!,花名册!E:I,9,FALSE) -> #REF! | L64: =VLOOKUP(#REF!,[1]全部!$C:$C,1,FALSE) -> #REF! | M64: #N/A | N64: #N/A | O64: #N/A | P64: =VLOOKUP(#REF!,整户取消信息表!#REF!,1,FALSE) -> #REF! | Q64: =VLOOKUP(#REF!,#REF!,1,FALSE) -> #REF! | R64: 脱贫户 | S64: 脱贫不稳定户 | T64: =VLOOKUP(#REF!,花名册!#REF!,2,FALSE) -> #REF! | U64: =MIDB(#REF!,11,2) -> #REF! | V64: =H64&G64 -> 龙口镇中岭村大屋组 | W64: =VLOOKUP(#REF!,[2]分析1!$M:$M,1,FALSE) -> #REF!
A65: 18135 | B65: 曾春梅 | E65: 邓勇 | F65: 子/婿 | G65: 中岭村大屋组 | H65: 龙口镇 | I65: =YEAR(TODAY())-MID(#REF!,7,4) -> #REF! | J65: =IF(OR(LEN(#REF!)=15,LEN(#REF!)=18),IF(MOD(MID(#REF!,15,3)*1,2),"男","女"),#N/A) -> #REF! | K65: =VLOOKUP(#REF!,花名册!E:I,9,FALSE) -> #REF! | L65: =VLOOKUP(#REF!,[1]全部!$C:$C,1,FALSE) -> #REF! | M65: #N/A | N65: #N/A | O65: #N/A | P65: =VLOOKUP(#REF!,整户取消信息表!#REF!,1,FALSE) -> #REF! | Q65: =VLOOKUP(#REF!,#REF!,1,FALSE) -> #REF! | R65: 脱贫户 | S65: 脱贫不稳定户 | T65: =VLOOKUP(#REF!,花名册!#REF!,2,FALSE) -> #REF! | U65: =MIDB(#REF!,11,2) -> #REF! | V65: =H65&G65 -> 龙口镇中岭村大屋组 | W65: =VLOOKUP(#REF!,[2]分析1!$M:$M,1,FALSE) -> #REF!
A66: 18136 | B66: 刘来香 | C66: 2 | D66: 2 | E66: 刘来香 | F66: 本人 | G66: 芦溪村食乐坑组 | H66: 龙口镇 | I66: =YEAR(TODAY())-MID(#REF!,7,4) -> #REF! | J66: =IF(OR(LEN(#REF!)=15,LEN(#REF!)=18),IF(MOD(MID(#REF!,15,3)*1,2),"男","女"),#N/A) -> #REF! | K66: =VLOOKUP(#REF!,花名册!E:I,9,FALSE) -> #REF! | L66: =VLOOKUP(#REF!,[1]全部!$C:$C,1,FALSE) -> #REF! | M66: #N/A | N66: #N/A | O66: #N/A | P66: =VLOOKUP(#REF!,整户取消信息表!#REF!,1,FALSE) -> #REF! | Q66: =VLOOKUP(#REF!,#REF!,1,FALSE) -> #REF! | R66: 脱贫户 | S66: 脱贫不稳定户 | T66: =VLOOKUP(#REF!,花名册!#REF!,2,FALSE) -> #REF! | U66: =MIDB(#REF!,11,2) -> #REF! | V66: =H66&G66 -> 龙口镇芦溪村食乐坑组 | W66: =VLOOKUP(#REF!,[2]分析1!$M:$M,1,FALSE) -> #REF!
A67: 18137 | B67: 刘来香 | E67: 邓燕清 | F67: 女/媳 | G67: 芦溪村食乐坑组 | H67: 龙口镇 | I67: =YEAR(TODAY())-MID(#REF!,7,4) -> #REF! | J67: =IF(OR(LEN(#REF!)=15,LEN(#REF!)=18),IF(MOD(MID(#REF!,15,3)*1,2),"男","女"),#N/A) -> #REF! | K67: =VLOOKUP(#REF!,花名册!E:I,9,FALSE) -> #REF! | L67: =VLOOKUP(#REF!,[1]全部!$C:$C,1,FALSE) -> #REF! | M67: #N/A | N67: #N/A | O67: #N/A | P67: =VLOOKUP(#REF!,整户取消信息表!#REF!,1,FALSE) -> #REF! | Q67: =VLOOKUP(#REF!,#REF!,1,FALSE) -> #REF! | R67: 脱贫户 | S67: 脱贫不稳定户 | T67: =VLOOKUP(#REF!,花名册!#REF!,2,FALSE) -> #REF! | U67: =MIDB(#REF!,11,2) -> #REF! | V67: =H67&G67 -> 龙口镇芦溪村食乐坑组 | W67: =VLOOKUP(#REF!,[2]分析1!$M:$M,1,FALSE) -> #REF!
A68: 18138 | B68: 邓通伟 | C68: 4 | D68: 3 | E68: 邓通伟 | F68: 本人 | G68: 芦溪村蕉坑组 | H68: 龙口镇 | I68: =YEAR(TODAY())-MID(#REF!,7,4) -> #REF! | J68: =IF(OR(LEN(#REF!)=15,LEN(#REF!)=18),IF(MOD(MID(#REF!,15,3)*1,2),"男","女"),#N/A) -> #REF! | K68: =VLOOKUP(#REF!,花名册!E:I,9,FALSE) -> #REF! | L68: =VLOOKUP(#REF!,[1]全部!$C:$C,1,FALSE) -> #REF! | M68: #N/A | N68: #N/A | O68: #N/A | P68: =VLOOKUP(#REF!,整户取消信息表!#REF!,1,FALSE) -> #REF! | Q68: =VLOOKUP(#REF!,#REF!,1,FALSE) -> #REF! | R68: 脱贫户 | S68: #N/A | T68: =VLOOKUP(#REF!,花名册!#REF!,2,FALSE) -> #REF! | U68: =MIDB(#REF!,11,2) -> #REF! | V68: =H68&G68 -> 龙口镇芦溪村蕉坑组 | W68: =VLOOKUP(#REF!,[2]分析1!$M:$M,1,FALSE) -> #REF!
A69: 18139 | B69: 邓通伟 | E69: 钟永辉 | F69: 配偶 | G69: 芦溪村蕉坑组 | H69: 龙口镇 | I69: =YEAR(TODAY())-MID(#REF!,7,4) -> #REF! | J69: =IF(OR(LEN(#REF!)=15,LEN(#REF!)=18),IF(MOD(MID(#REF!,15,3)*1,2),"男","女"),#N/A) -> #REF! | K69: =VLOOKUP(#REF!,花名册!E:I,9,FALSE) -> #REF! | L69: =VLOOKUP(#REF!,[1]全部!$C:$C,1,FALSE) -> #REF! | M69: #N/A | N69: #N/A | O69: #N/A | P69: =VLOOKUP(#REF!,整户取消信息表!#REF!,1,FALSE) -> #REF! | Q69: =VLOOKUP(#REF!,#REF!,1,FALSE) -> #REF! | R69: 脱贫户 | S69: #N/A | T69: =VLOOKUP(#REF!,花名册!#REF!,2,FALSE) -> #REF! | U69: =MIDB(#REF!,11,2) -> #REF! | V69: =H69&G69 -> 龙口镇芦溪村蕉坑组 | W69: =VLOOKUP(#REF!,[2]分析1!$M:$M,1,FALSE) -> #REF!
A70: 18140 | B70: 邓通伟 | E70: 邓见顺 | F70: 子/婿 | G70: 芦溪村蕉坑组 | H70: 龙口镇 | I70: =YEAR(TODAY())-MID(#REF!,7,4) -> #REF! | J70: =IF(OR(LEN(#REF!)=15,LEN(#REF!)=18),IF(MOD(MID(#REF!,15,3)*1,2),"男","女"),#N/A) -> #REF! | K70: =VLOOKUP(#REF!,花名册!E:I,9,FALSE) -> #REF! | L70: =VLOOKUP(#REF!,[1]全部!$C:$C,1,FALSE) -> #REF! | M70: #N/A | N70: #N/A | O70: #N/A | P70: =VLOOKUP(#REF!,整户取消信息表!#REF!,1,FALSE) -> #REF! | Q70: =VLOOKUP(#REF!,#REF!,1,FALSE) -> #REF! | R70: 脱贫户 | S70: #N/A | T70: =VLOOKUP(#REF!,花名册!#REF!,2,FALSE) -> #REF! | U70: =MIDB(#REF!,11,2) -> #REF! | V70: =H70&G70 -> 龙口镇芦溪村蕉坑组 | W70: =VLOOKUP(#REF!,[2]分析1!$M:$M,1,FALSE) -> #REF!
A71: 18141 | B71: 邓春明 | C71: 6 | D71: 2 | E71: 邓春明 | F71: 本人 | G71: 中岭村柏二组 | H71: 龙口镇 | I71: =YEAR(TODAY())-MID(#REF!,7,4) -> #REF! | J71: =IF(OR(LEN(#REF!)=15,LEN(#REF!)=18),IF(MOD(MID(#REF!,15,3)*1,2),"男","女"),#N/A) -> #REF! | K71: =VLOOKUP(#REF!,花名册!E:I,9,FALSE) -> #REF! | L71: =VLOOKUP(#REF!,[1]全部!$C:$C,1,FALSE) -> #REF! | M71: #N/A | N71: #N/A | O71: #N/A | P71: =VLOOKUP(#REF!,整户取消信息表!#REF!,1,FALSE) -> #REF! | Q71: =VLOOKUP(#REF!,#REF!,1,FALSE) -> #REF! | R71: 脱贫户 | S71: #N/A | T71: =VLOOKUP(#REF!,花名册!#REF!,2,FALSE) -> #REF! | U71: =MIDB(#REF!,11,2) -> #REF! | V71: =H71&G71 -> 龙口镇中岭村柏二组 | W71: =VLOOKUP(#REF!,[2]分析1!$M:$M,1,FALSE) -> #REF!
A72: 18142 | B72: 邓春明 | E72: 毛桥英 | F72: 配偶 | G72: 中岭村柏二组 | H72: 龙口镇 | I72: =YEAR(TODAY())-MID(#REF!,7,4) -> #REF! | J72: =IF(OR(LEN(#REF!)=15,LEN(#REF!)=18),IF(MOD(MID(#REF!,15,3)*1,2),"男","女"),#N/A) -> #REF! | K72: =VLOOKUP(#REF!,花名册!E:I,9,FALSE) -> #REF! | L72: =VLOOKUP(#REF!,[1]全部!$C:$C,1,FALSE) -> #REF! | M72: #N/A | N72: #N/A | O72: #N/A | P72: =VLOOKUP(#REF!,整户取消信息表!#REF!,1,FALSE) -> #REF! | Q72: =VLOOKUP(#REF!,#REF!,1,FALSE) -> #REF! | R72: 脱贫户 | S72: #N/A | T72: =VLOOKUP(#REF!,花名册!#REF!,2,FALSE) -> #REF! | U72: =MIDB(#REF!,11,2) -> #REF! | V72: =H72&G72 -> 龙口镇中岭村柏二组 | W72: =VLOOKUP(#REF!,[2]分析1!$M:$M,1,FALSE) -> #REF!
A73: 18143 | B73: 邓习坤 | C73: 5 | D73: 2 | E73: 邓习坤 | F73: 本人 | G73: 中岭村敬安组 | H73: 龙口镇 | I73: =YEAR(TODAY())-MID(#REF!,7,4) -> #REF! | J73: =IF(OR(LEN(#REF!)=15,LEN(#REF!)=18),IF(MOD(MID(#REF!,15,3)*1,2),"男","女"),#N/A) -> #REF! | K73: =VLOOKUP(#REF!,花名册!E:I,9,FALSE) -> #REF! | L73: =VLOOKUP(#REF!,[1]全部!$C:$C,1,FALSE) -> #REF! | M73: #N/A | N73: #N/A | O73: #N/A | P73: =VLOOKUP(#REF!,整户取消信息表!#REF!,1,FALSE) -> #REF! | Q73: =VLOOKUP(#REF!,#REF!,1,FALSE) -> #REF! | R73: 脱贫户 | S73: #N/A | T73: =VLOOKUP(#REF!,花名册!#REF!,2,FALSE) -> #REF! | U73: =MIDB(#REF!,11,2) -> #REF! | V73: =H73&G73 -> 龙口镇中岭村敬安组 | W73: =VLOOKUP(#REF!,[2]分析1!$M:$M,1,FALSE) -> #REF!
A74: 18144 | B74: 邓习坤 | E74: 钟秋元 | F74: 配偶 | G74: 中岭村敬安组 | H74: 龙口镇 | I74: =YEAR(TODAY())-MID(#REF!,7,4) -> #REF! | J74: =IF(OR(LEN(#REF!)=15,LEN(#REF!)=18),IF(MOD(MID(#REF!,15,3)*1,2),"男","女"),#N/A) -> #REF! | K74: =VLOOKUP(#REF!,花名册!E:I,9,FALSE) -> #REF! | L74: =VLOOKUP(#REF!,[1]全部!$C:$C,1,FALSE) -> #REF! | M74: #N/A | N74: #N/A | O74: #N/A | P74: =VLOOKUP(#REF!,整户取消信息表!#REF!,1,FALSE) -> #REF! | Q74: =VLOOKUP(#REF!,#REF!,1,FALSE) -> #REF! | R74: 脱贫户 | S74: #N/A | T74: =VLOOKUP(#REF!,花名册!#REF!,2,FALSE) -> #REF! | U74: =MIDB(#REF!,11,2) -> #REF! | V74: =H74&G74 -> 龙口镇中岭村敬安组 | W74: =VLOOKUP(#REF!,[2]分析1!$M:$M,1,FALSE) -> #REF!
A75: 18145 | B75: 邓习意 | C75: 3 | D75: 2 | E75: 邓习意 | F75: 本人 | G75: 芦溪村春丘组 | H75: 龙口镇 | I75: =YEAR(TODAY())-MID(#REF!,7,4) -> #REF! | J75: =IF(OR(LEN(#REF!)=15,LEN(#REF!)=18),IF(MOD(MID(#REF!,15,3)*1,2),"男","女"),#N/A) -> #REF! | K75: =VLOOKUP(#REF!,花名册!E:I,9,FALSE) -> #REF! | L75: =VLOOKUP(#REF!,[1]全部!$C:$C,1,FALSE) -> #REF! | M75: #N/A | N75: #N/A | O75: #N/A | P75: =VLOOKUP(#REF!,整户取消信息表!#REF!,1,FALSE) -> #REF! | Q75: =VLOOKUP(#REF!,#REF!,1,FALSE) -> #REF! | R75: 脱贫户 | S75: #N/A | T75: =VLOOKUP(#REF!,花名册!#REF!,2,FALSE) -> #REF! | U75: =MIDB(#REF!,11,2) -> #REF! | V75: =H75&G75 -> 龙口镇芦溪村春丘组 | W75: =VLOOKUP(#REF!,[2]分析1!$M:$M,1,FALSE) -> #REF!
A76: 18146 | B76: 邓习意 | E76: 刘福女 | F76: 配偶 | G76: 芦溪村春丘组 | H76: 龙口镇 | I76: =YEAR(TODAY())-MID(#REF!,7,4) -> #REF! | J76: =IF(OR(LEN(#REF!)=15,LEN(#REF!)=18),IF(MOD(MID(#REF!,15,3)*1,2),"男","女"),#N/A) -> #REF! | K76: =VLOOKUP(#REF!,花名册!E:I,9,FALSE) -> #REF! | L76: =VLOOKUP(#REF!,[1]全部!$C:$C,1,FALSE) -> #REF! | M76: #N/A | N76: #N/A | O76: #N/A | P76: =VLOOKUP(#REF!,整户取消信息表!#REF!,1,FALSE) -> #REF! | Q76: =VLOOKUP(#REF!,#REF!,1,FALSE) -> #REF! | R76: 脱贫户 | S76: #N/A | T76: =VLOOKUP(#REF!,花名册!#REF!,2,FALSE) -> #REF! | U76: =MIDB(#REF!,11,2) -> #REF! | V76: =H76&G76 -> 龙口镇芦溪村春丘组 | W76: =VLOOKUP(#REF!,[2]分析1!$M:$M,1,FALSE) -> #REF!
A77: 18147 | B77: 邓习银 | C77: 5 | D77: 3 | E77: 邓习银 | F77: 本人 | G77: 中岭村合顺组 | H77: 龙口镇 | I77: =YEAR(TODAY())-MID(#REF!,7,4) -> #REF! | J77: =IF(OR(LEN(#REF!)=15,LEN(#REF!)=18),IF(MOD(MID(#REF!,15,3)*1,2),"男","女"),#N/A) -> #REF! | K77: =VLOOKUP(#REF!,花名册!E:I,9,FALSE) -> #REF! | L77: =VLOOKUP(#REF!,[1]全部!$C:$C,1,FALSE) -> #REF! | M77: #N/A | N77: #N/A | O77: #N/A | P77: =VLOOKUP(#REF!,整户取消信息表!#REF!,1,FALSE) -> #REF! | Q77: =VLOOKUP(#REF!,#REF!,1,FALSE) -> #REF! | R77: 脱贫户 | S77: #N/A | T77: =VLOOKUP(#REF!,花名册!#REF!,2,FALSE) -> #REF! | U77: =MIDB(#REF!,11,2) -> #REF! | V77: =H77&G77 -> 龙口镇中岭村合顺组 | W77: =VLOOKUP(#REF!,[2]分析1!$M:$M,1,FALSE) -> #REF!
A78: 18148 | B78: 邓习银 | E78: 邓芸馨 | F78: 孙子女/外孙子女 | G78: 中岭村合顺组 | H78: 龙口镇 | I78: =YEAR(TODAY())-MID(#REF!,7,4) -> #REF! | J78: =IF(OR(LEN(#REF!)=15,LEN(#REF!)=18),IF(MOD(MID(#REF!,15,3)*1,2),"男","女"),#N/A) -> #REF! | K78: =VLOOKUP(#REF!,花名册!E:I,9,FALSE) -> #REF! | L78: =VLOOKUP(#REF!,[1]全部!$C:$C,1,FALSE) -> #REF! | M78: #N/A | N78: #N/A | O78: #N/A | P78: =VLOOKUP(#REF!,整户取消信息表!#REF!,1,FALSE) -> #REF! | Q78: =VLOOKUP(#REF!,#REF!,1,FALSE) -> #REF! | R78: 脱贫户 | S78: 脱贫不稳定户 | T78: =VLOOKUP(#REF!,花名册!#REF!,2,FALSE) -> #REF! | U78: =MIDB(#REF!,11,2) -> #REF! | V78: =H78&G78 -> 龙口镇中岭村合顺组 | W78: =VLOOKUP(#REF!,[2]分析1!$M:$M,1,FALSE) -> #REF!
A79: 18149 | B79: 邓习银 | E79: 邓睿 | F79: 孙子女/外孙子女 | G79: 中岭村合顺组 | H79: 龙口镇 | I79: =YEAR(TODAY())-MID(#REF!,7,4) -> #REF! | J79: =IF(OR(LEN(#REF!)=15,LEN(#REF!)=18),IF(MOD(MID(#REF!,15,3)*1,2),"男","女"),#N/A) -> #REF! | K79: =VLOOKUP(#REF!,花名册!E:I,9,FALSE) -> #REF! | L79: =VLOOKUP(#REF!,[1]全部!$C:$C,1,FALSE) -> #REF! | M79: #N/A | N79: #N/A | O79: #N/A | P79: =VLOOKUP(#REF!,整户取消信息表!#REF!,1,FALSE) -> #REF! | Q79: =VLOOKUP(#REF!,#REF!,1,FALSE) -> #REF! | R79: 脱贫户 | S79: 脱贫不稳定户 | T79: =VLOOKUP(#REF!,花名册!#REF!,2,FALSE) -> #REF! | U79: =MIDB(#REF!,11,2) -> #REF! | V79: =H79&G79 -> 龙口镇中岭村合顺组 | W79: =VLOOKUP(#REF!,[2]分析1!$M:$M,1,FALSE) -> #REF!
A80: 18150 | B80: 邓宜标 | C80: 7 | D80: 4 | E80: 邓宜标 | F80: 本人 | G80: 中岭村岭丰组 | H80: 龙口镇 | I80: =YEAR(TODAY())-MID(#REF!,7,4) -> #REF! | J80: =IF(OR(LEN(#REF!)=15,LEN(#REF!)=18),IF(MOD(MID(#REF!,15,3)*1,2),"男","女"),#N/A) -> #REF! | K80: =VLOOKUP(#REF!,花名册!E:I,9,FALSE) -> #REF! | L80: =VLOOKUP(#REF!,[1]全部!$C:$C,1,FALSE) -> #REF! | M80: #N/A | N80: #N/A | O80: #N/A | P80: =VLOOKUP(#REF!,整户取消信息表!#REF!,1,FALSE) -> #REF! | Q80: =VLOOKUP(#REF!,#REF!,1,FALSE) -> #REF! | R80: 脱贫户 | S80: #N/A | T80: =VLOOKUP(#REF!,花名册!#REF!,2,FALSE) -> #REF! | U80: =MIDB(#REF!,11,2) -> #REF! | V80: =H80&G80 -> 龙口镇中岭村岭丰组 | W80: =VLOOKUP(#REF!,[2]分析1!$M:$M,1,FALSE) -> #REF!
A81: 18151 | B81: 邓宜标 | E81: 胡艳英 | F81: 女/媳 | G81: 中岭村岭丰组 | H81: 龙口镇 | I81: =YEAR(TODAY())-MID(#REF!,7,4) -> #REF! | J81: =IF(OR(LEN(#REF!)=15,LEN(#REF!)=18),IF(MOD(MID(#REF!,15,3)*1,2),"男","女"),#N/A) -> #REF! | K81: =VLOOKUP(#REF!,花名册!E:I,9,FALSE) -> #REF! | L81: =VLOOKUP(#REF!,[1]全部!$C:$C,1,FALSE) -> #REF! | M81: #N/A | N81: #N/A | O81: #N/A | P81: =VLOOKUP(#REF!,整户取消信息表!#REF!,1,FALSE) -> #REF! | Q81: =VLOOKUP(#REF!,#REF!,1,FALSE) -> #REF! | R81: 脱贫户 | S81: #N/A | T81: =VLOOKUP(#REF!,花名册!#REF!,2,FALSE) -> #REF! | U81: =MIDB(#REF!,11,2) -> #REF! | V81: =H81&G81 -> 龙口镇中岭村岭丰组 | W81: =VLOOKUP(#REF!,[2]分析1!$M:$M,1,FALSE) -> #REF!
A82: 18152 | B82: 邓宜标 | E82: 邓习银 | F82: 子/婿 | G82: 中岭村岭丰组 | H82: 龙口镇 | I82: =YEAR(TODAY())-MID(#REF!,7,4) -> #REF! | J82: =IF(OR(LEN(#REF!)=15,LEN(#REF!)=18),IF(MOD(MID(#REF!,15,3)*1,2),"男","女"),#N/A) -> #REF! | K82: =VLOOKUP(#REF!,花名册!E:I,9,FALSE) -> #REF! | L82: =VLOOKUP(#REF!,[1]全部!$C:$C,1,FALSE) -> #REF! | M82: #N/A | N82: #N/A | O82: #N/A | P82: =VLOOKUP(#REF!,整户取消信息表!#REF!,1,FALSE) -> #REF! | Q82: =VLOOKUP(#REF!,#REF!,1,FALSE) -> #REF! | R82: 脱贫户 | S82: #N/A | T82: =VLOOKUP(#REF!,花名册!#REF!,2,FALSE) -> #REF! | U82: =MIDB(#REF!,11,2) -> #REF! | V82: =H82&G82 -> 龙口镇中岭村岭丰组 | W82: =VLOOKUP(#REF!,[2]分析1!$M:$M,1,FALSE) -> #REF!
A83: 18153 | B83: 邓宜标 | E83: 钟伟香 | F83: 配偶 | G83: 中岭村岭丰组 | H83: 龙口镇 | I83: =YEAR(TODAY())-MID(#REF!,7,4) -> #REF! | J83: =IF(OR(LEN(#REF!)=15,LEN(#REF!)=18),IF(MOD(MID(#REF!,15,3)*1,2),"男","女"),#N/A) -> #REF! | K83: =VLOOKUP(#REF!,花名册!E:I,9,FALSE) -> #REF! | L83: =VLOOKUP(#REF!,[1]全部!$C:$C,1,FALSE) -> #REF! | M83: #N/A | N83: #N/A | O83: #N/A | P83: =VLOOKUP(#REF!,整户取消信息表!#REF!,1,FALSE) -> #REF! | Q83: =VLOOKUP(#REF!,#REF!,1,FALSE) -> #REF! | R83: 脱贫户 | S83: #N/A | T83: =VLOOKUP(#REF!,花名册!#REF!,2,FALSE) -> #REF! | U83: =MIDB(#REF!,11,2) -> #REF! | V83: =H83&G83 -> 龙口镇中岭村岭丰组 | W83: =VLOOKUP(#REF!,[2]分析1!$M:$M,1,FALSE) -> #REF!
A84: 18154 | B84: 邓宜汉 | C84: 4 | D84: 2 | E84: 邓宜汉 | F84: 本人 | G84: 芦溪村打古石组 | H84: 龙口镇 | I84: =YEAR(TODAY())-MID(#REF!,7,4) -> #REF! | J84: =IF(OR(LEN(#REF!)=15,LEN(#REF!)=18),IF(MOD(MID(#REF!,15,3)*1,2),"男","女"),#N/A) -> #REF! | K84: =VLOOKUP(#REF!,花名册!E:I,9,FALSE) -> #REF! | L84: =VLOOKUP(#REF!,[1]全部!$C:$C,1,FALSE) -> #REF! | M84: #N/A | N84: #N/A | O84: #N/A | P84: =VLOOKUP(#REF!,整户取消信息表!#REF!,1,FALSE) -> #REF! | Q84: =VLOOKUP(#REF!,#REF!,1,FALSE) -> #REF! | R84: 脱贫户 | S84: #N/A | T84: =VLOOKUP(#REF!,花名册!#REF!,2,FALSE) -> #REF! | U84: =MIDB(#REF!,11,2) -> #REF! | V84: =H84&G84 -> 龙口镇芦溪村打古石组 | W84: =VLOOKUP(#REF!,[2]分析1!$M:$M,1,FALSE) -> #REF!
A85: 18155 | B85: 邓宜汉 | E85: 邓嘉旺 | F85: 其他 | G85: 芦溪村打古石组 | H85: 龙口镇 | I85: =YEAR(TODAY())-MID(#REF!,7,4) -> #REF! | J85: =IF(OR(LEN(#REF!)=15,LEN(#REF!)=18),IF(MOD(MID(#REF!,15,3)*1,2),"男","女"),#N/A) -> #REF! | K85: =VLOOKUP(#REF!,花名册!E:I,9,FALSE) -> #REF! | L85: =VLOOKUP(#REF!,[1]全部!$C:$C,1,FALSE) -> #REF! | M85: #N/A | N85: #N/A | O85: #N/A | P85: =VLOOKUP(#REF!,整户取消信息表!#REF!,1,FALSE) -> #REF! | Q85: =VLOOKUP(#REF!,#REF!,1,FALSE) -> #REF! | R85: 脱贫户 | S85: #N/A | T85: =VLOOKUP(#REF!,花名册!#REF!,2,FALSE) -> #REF! | U85: =MIDB(#REF!,11,2) -> #REF! | V85: =H85&G85 -> 龙口镇芦溪村打古石组 | W85: =VLOOKUP(#REF!,[2]分析1!$M:$M,1,FALSE) -> #REF!
A86: 18156 | B86: 邓宜佳 | C86: 3 | D86: 1 | E86: 邓宜佳 | F86: 本人 | G86: 芦溪村打古石组 | H86: 龙口镇 | I86: =YEAR(TODAY())-MID(#REF!,7,4) -> #REF! | J86: =IF(OR(LEN(#REF!)=15,LEN(#REF!)=18),IF(MOD(MID(#REF!,15,3)*1,2),"男","女"),#N/A) -> #REF! | K86: =VLOOKUP(#REF!,花名册!E:I,9,FALSE) -> #REF! | L86: =VLOOKUP(#REF!,[1]全部!$C:$C,1,FALSE) -> #REF! | M86: #N/A | N86: #N/A | O86: #N/A | P86: =VLOOKUP(#REF!,整户取消信息表!#REF!,1,FALSE) -> #REF! | Q86: =VLOOKUP(#REF!,#REF!,1,FALSE) -> #REF! | R86: 脱贫户 | S86: #N/A | T86: =VLOOKUP(#REF!,花名册!#REF!,2,FALSE) -> #REF! | U86: =MIDB(#REF!,11,2) -> #REF! | V86: =H86&G86 -> 龙口镇芦溪村打古石组 | W86: =VLOOKUP(#REF!,[2]分析1!$M:$M,1,FALSE) -> #REF!
A87: 18157 | B87: 钟地香 | C87: 2 | D87: 1 | E87: 钟地香 | F87: 本人 | G87: 中岭村新财组 | H87: 龙口镇 | I87: =YEAR(TODAY())-MID(#REF!,7,4) -> #REF! | J87: =IF(OR(LEN(#REF!)=15,LEN(#REF!)=18),IF(MOD(MID(#REF!,15,3)*1,2),"男","女"),#N/A) -> #REF! | K87: =VLOOKUP(#REF!,花名册!E:I,9,FALSE) -> #REF! | L87: =VLOOKUP(#REF!,[1]全部!$C:$C,1,FALSE) -> #REF! | M87: #N/A | N87: #N/A | O87: #N/A | P87: =VLOOKUP(#REF!,整户取消信息表!#REF!,1,FALSE) -> #REF! | Q87: =VLOOKUP(#REF!,#REF!,1,FALSE) -> #REF! | R87: 脱贫户 | S87: #N/A | T87: =VLOOKUP(#REF!,花名册!#REF!,2,FALSE) -> #REF! | U87: =MIDB(#REF!,11,2) -> #REF! | V87: =H87&G87 -> 龙口镇中岭村新财组 | W87: =VLOOKUP(#REF!,[2]分析1!$M:$M,1,FALSE) -> #REF!
A88: 18158 | B88: 邓正元 | C88: 1 | D88: 1 | E88: 邓正元 | F88: 本人 | G88: 都田村上都组 | H88: 龙口镇 | I88: =YEAR(TODAY())-MID(#REF!,7,4) -> #REF! | J88: =IF(OR(LEN(#REF!)=15,LEN(#REF!)=18),IF(MOD(MID(#REF!,15,3)*1,2),"男","女"),#N/A) -> #REF! | K88: =VLOOKUP(#REF!,花名册!E:I,9,FALSE) -> #REF! | L88: =VLOOKUP(#REF!,[1]全部!$C:$C,1,FALSE) -> #REF! | M88: #N/A | N88: #N/A | O88: #N/A | P88: =VLOOKUP(#REF!,整户取消信息表!#REF!,1,FALSE) -> #REF! | Q88: =VLOOKUP(#REF!,#REF!,1,FALSE) -> #REF! | R88: #N/A | S88: #N/A | T88: =VLOOKUP(#REF!,花名册!#REF!,2,FALSE) -> #REF! | U88: =MIDB(#REF!,11,2) -> #REF! | V88: =H88&G88 -> 龙口镇都田村上都组 | W88: =VLOOKUP(#REF!,[2]分析1!$M:$M,1,FALSE) -> #REF!
A89: 18159 | B89: 胡世衍 | C89: 4 | D89: 3 | E89: 胡世衍 | F89: 本人 | G89: 文院村红星组 | H89: 龙口镇 | I89: =YEAR(TODAY())-MID(#REF!,7,4) -> #REF! | J89: =IF(OR(LEN(#REF!)=15,LEN(#REF!)=18),IF(MOD(MID(#REF!,15,3)*1,2),"男","女"),#N/A) -> #REF! | K89: =VLOOKUP(#REF!,花名册!E:I,9,FALSE) -> #REF! | L89: =VLOOKUP(#REF!,[1]全部!$C:$C,1,FALSE) -> #REF! | M89: #N/A | N89: #N/A | O89: #N/A | P89: =VLOOKUP(#REF!,整户取消信息表!#REF!,1,FALSE) -> #REF! | Q89: =VLOOKUP(#REF!,#REF!,1,FALSE) -> #REF! | R89: 脱贫户 | S89: #N/A | T89: =VLOOKUP(#REF!,花名册!#REF!,2,FALSE) -> #REF! | U89: =MIDB(#REF!,11,2) -> #REF! | V89: =H89&G89 -> 龙口镇文院村红星组 | W89: =VLOOKUP(#REF!,[2]分析1!$M:$M,1,FALSE) -> #REF!
A90: 18160 | B90: 胡世衍 | E90: 胡美云 | F90: 女/媳 | G90: 文院村红星组 | H90: 龙口镇 | I90: =YEAR(TODAY())-MID(#REF!,7,4) -> #REF! | J90: =IF(OR(LEN(#REF!)=15,LEN(#REF!)=18),IF(MOD(MID(#REF!,15,3)*1,2),"男","女"),#N/A) -> #REF! | K90: =VLOOKUP(#REF!,花名册!E:I,9,FALSE) -> #REF! | L90: =VLOOKUP(#REF!,[1]全部!$C:$C,1,FALSE) -> #REF! | M90: #N/A | N90: #N/A | O90: #N/A | P90: =VLOOKUP(#REF!,整户取消信息表!#REF!,1,FALSE) -> #REF! | Q90: =VLOOKUP(#REF!,#REF!,1,FALSE) -> #REF! | R90: 脱贫户 | S90: #N/A | T90: =VLOOKUP(#REF!,花名册!#REF!,2,FALSE) -> #REF! | U90: =MIDB(#REF!,11,2) -> #REF! | V90: =H90&G90 -> 龙口镇文院村红星组 | W90: =VLOOKUP(#REF!,[2]分析1!$M:$M,1,FALSE) -> #REF!
A91: 18161 | B91: 胡世衍 | E91: 钟树花 | F91: 配偶 | G91: 文院村红星组 | H91: 龙口镇 | I91: =YEAR(TODAY())-MID(#REF!,7,4) -> #REF! | J91: =IF(OR(LEN(#REF!)=15,LEN(#REF!)=18),IF(MOD(MID(#REF!,15,3)*1,2),"男","女"),#N/A) -> #REF! | K91: =VLOOKUP(#REF!,花名册!E:I,9,FALSE) -> #REF! | L91: =VLOOKUP(#REF!,[1]全部!$C:$C,1,FALSE) -> #REF! | M91: #N/A | N91: #N/A | O91: #N/A | P91: =VLOOKUP(#REF!,整户取消信息表!#REF!,1,FALSE) -> #REF! | Q91: =VLOOKUP(#REF!,#REF!,1,FALSE) -> #REF! | R91: 脱贫户 | S91: #N/A | T91: =VLOOKUP(#REF!,花名册!#REF!,2,FALSE) -> #REF! | U91: =MIDB(#REF!,11,2) -> #REF! | V91: =H91&G91 -> 龙口镇文院村红星组 | W91: =VLOOKUP(#REF!,[2]分析1!$M:$M,1,FALSE) -> #REF!
A92: 18162 | B92: 黄盛隆 | C92: 5 | D92: 4 | E92: 黄盛隆 | F92: 本人 | G92: 来溪村小山组 | H92: 龙口镇 | I92: =YEAR(TODAY())-MID(#REF!,7,4) -> #REF! | J92: =IF(OR(LEN(#REF!)=15,LEN(#REF!)=18),IF(MOD(MID(#REF!,15,3)*1,2),"男","女"),#N/A) -> #REF! | K92: =VLOOKUP(#REF!,花名册!E:I,9,FALSE) -> #REF! | L92: =VLOOKUP(#REF!,[1]全部!$C:$C,1,FALSE) -> #REF! | M92: #N/A | N92: #N/A | O92: #N/A | P92: =VLOOKUP(#REF!,整户取消信息表!#REF!,1,FALSE) -> #REF! | Q92: =VLOOKUP(#REF!,#REF!,1,FALSE) -> #REF! | R92: 脱贫户 | S92: #N/A | T92: =VLOOKUP(#REF!,花名册!#REF!,2,FALSE) -> #REF! | U92: =MIDB(#REF!,11,2) -> #REF! | V92: =H92&G92 -> 龙口镇来溪村小山组 | W92: =VLOOKUP(#REF!,[2]分析1!$M:$M,1,FALSE) -> #REF!
A93: 18163 | B93: 黄盛隆 | E93: 黄代清 | F93: 孙子女/外孙子女 | G93: 来溪村小山组 | H93: 龙口镇 | I93: =YEAR(TODAY())-MID(#REF!,7,4) -> #REF! | J93: =IF(OR(LEN(#REF!)=15,LEN(#REF!)=18),IF(MOD(MID(#REF!,15,3)*1,2),"男","女"),#N/A) -> #REF! | K93: =VLOOKUP(#REF!,花名册!E:I,9,FALSE) -> #REF! | L93: =VLOOKUP(#REF!,[1]全部!$C:$C,1,FALSE) -> #REF! | M93: #N/A | N93: #N/A | O93: #N/A | P93: =VLOOKUP(#REF!,整户取消信息表!#REF!,1,FALSE) -> #REF! | Q93: =VLOOKUP(#REF!,#REF!,1,FALSE) -> #REF! | R93: 脱贫户 | S93: #N/A | T93: =VLOOKUP(#REF!,花名册!#REF!,2,FALSE) -> #REF! | U93: =MIDB(#REF!,11,2) -> #REF! | V93: =H93&G93 -> 龙口镇来溪村小山组 | W93: =VLOOKUP(#REF!,[2]分析1!$M:$M,1,FALSE) -> #REF!
A94: 18164 | B94: 黄盛隆 | E94: 钟冬华 | F94: 配偶 | G94: 来溪村小山组 | H94: 龙口镇 | I94: =YEAR(TODAY())-MID(#REF!,7,4) -> #REF! | J94: =IF(OR(LEN(#REF!)=15,LEN(#REF!)=18),IF(MOD(MID(#REF!,15,3)*1,2),"男","女"),#N/A) -> #REF! | K94: =VLOOKUP(#REF!,花名册!E:I,9,FALSE) -> #REF! | L94: =VLOOKUP(#REF!,[1]全部!$C:$C,1,FALSE) -> #REF! | M94: #N/A | N94: #N/A | O94: #N/A | P94: =VLOOKUP(#REF!,整户取消信息表!#REF!,1,FALSE) -> #REF! | Q94: =VLOOKUP(#REF!,#REF!,1,FALSE) -> #REF! | R94: 脱贫户 | S94: #N/A | T94: =VLOOKUP(#REF!,花名册!#REF!,2,FALSE) -> #REF! | U94: =MIDB(#REF!,11,2) -> #REF! | V94: =H94&G94 -> 龙口镇来溪村小山组 | W94: =VLOOKUP(#REF!,[2]分析1!$M:$M,1,FALSE) -> #REF!
A95: 18165 | B95: 黄盛隆 | E95: 黄华清 | F95: 孙子女/外孙子女 | G95: 来溪村小山组 | H95: 龙口镇 | I95: =YEAR(TODAY())-MID(#REF!,7,4) -> #REF! | J95: =IF(OR(LEN(#REF!)=15,LEN(#REF!)=18),IF(MOD(MID(#REF!,15,3)*1,2),"男","女"),#N/A) -> #REF! | K95: =VLOOKUP(#REF!,花名册!E:I,9,FALSE) -> #REF! | L95: =VLOOKUP(#REF!,[1]全部!$C:$C,1,FALSE) -> #REF! | M95: #N/A | N95: #N/A | O95: #N/A | P95: =VLOOKUP(#REF!,整户取消信息表!#REF!,1,FALSE) -> #REF! | Q95: =VLOOKUP(#REF!,#REF!,1,FALSE) -> #REF! | R95: 脱贫户 | S95: #N/A | T95: =VLOOKUP(#REF!,花名册!#REF!,2,FALSE) -> #REF! | U95: =MIDB(#REF!,11,2) -> #REF! | V95: =H95&G95 -> 龙口镇来溪村小山组 | W95: =VLOOKUP(#REF!,[2]分析1!$M:$M,1,FALSE) -> #REF!
A96: 18166 | B96: 刘金兰 | C96: 5 | D96: 4 | E96: 刘金兰 | F96: 本人 | G96: 都田村上都组 | H96: 龙口镇 | I96: =YEAR(TODAY())-MID(#REF!,7,4) -> #REF! | J96: =IF(OR(LEN(#REF!)=15,LEN(#REF!)=18),IF(MOD(MID(#REF!,15,3)*1,2),"男","女"),#N/A) -> #REF! | K96: =VLOOKUP(#REF!,花名册!E:I,9,FALSE) -> #REF! | L96: =VLOOKUP(#REF!,[1]全部!$C:$C,1,FALSE) -> #REF! | M96: #N/A | N96: #N/A | O96: #N/A | P96: =VLOOKUP(#REF!,整户取消信息表!#REF!,1,FALSE) -> #REF! | Q96: =VLOOKUP(#REF!,#REF!,1,FALSE) -> #REF! | R96: 脱贫户 | S96: #N/A | T96: =VLOOKUP(#REF!,花名册!#REF!,2,FALSE) -> #REF! | U96: =MIDB(#REF!,11,2) -> #REF! | V96: =H96&G96 -> 龙口镇都田村上都组 | W96: =VLOOKUP(#REF!,[2]分析1!$M:$M,1,FALSE) -> #REF!
A97: 18167 | B97: 刘金兰 | E97: 李成梁 | F97: 孙子女/外孙子女 | G97: 都田村上都组 | H97: 龙口镇 | I97: =YEAR(TODAY())-MID(#REF!,7,4) -> #REF! | J97: =IF(OR(LEN(#REF!)=15,LEN(#REF!)=18),IF(MOD(MID(#REF!,15,3)*1,2),"男","女"),#N/A) -> #REF! | K97: =VLOOKUP(#REF!,花名册!E:I,9,FALSE) -> #REF! | L97: =VLOOKUP(#REF!,[1]全部!$C:$C,1,FALSE) -> #REF! | M97: #N/A | N97: #N/A | O97: #N/A | P97: =VLOOKUP(#REF!,整户取消信息表!#REF!,1,FALSE) -> #REF! | Q97: =VLOOKUP(#REF!,#REF!,1,FALSE) -> #REF! | R97: 脱贫户 | S97: #N/A | T97: =VLOOKUP(#REF!,花名册!#REF!,2,FALSE) -> #REF! | U97: =MIDB(#REF!,11,2) -> #REF! | V97: =H97&G97 -> 龙口镇都田村上都组 | W97: =VLOOKUP(#REF!,[2]分析1!$M:$M,1,FALSE) -> #REF!
A98: 18168 | B98: 刘金兰 | E98: 李婷 | F98: 孙子女/外孙子女 | G98: 都田村上都组 | H98: 龙口镇 | I98: =YEAR(TODAY())-MID(#REF!,7,4) -> #REF! | J98: =IF(OR(LEN(#REF!)=15,LEN(#REF!)=18),IF(MOD(MID(#REF!,15,3)*1,2),"男","女"),#N/A) -> #REF! | K98: =VLOOKUP(#REF!,花名册!E:I,9,FALSE) -> #REF! | L98: =VLOOKUP(#REF!,[1]全部!$C:$C,1,FALSE) -> #REF! | M98: #N/A | N98: #N/A | O98: #N/A | P98: =VLOOKUP(#REF!,整户取消信息表!#REF!,1,FALSE) -> #REF! | Q98: =VLOOKUP(#REF!,#REF!,1,FALSE) -> #REF! | R98: 脱贫户 | S98: 脱贫不稳定户 | T98: =VLOOKUP(#REF!,花名册!#REF!,2,FALSE) -> #REF! | U98: =MIDB(#REF!,11,2) -> #REF! | V98: =H98&G98 -> 龙口镇都田村上都组 | W98: =VLOOKUP(#REF!,[2]分析1!$M:$M,1,FALSE) -> #REF!
A99: 18169 | B99: 刘金兰 | E99: 李娉 | F99: 孙子女/外孙子女 | G99: 都田村上都组 | H99: 龙口镇 | I99: =YEAR(TODAY())-MID(#REF!,7,4) -> #REF! | J99: =IF(OR(LEN(#REF!)=15,LEN(#REF!)=18),IF(MOD(MID(#REF!,15,3)*1,2),"男","女"),#N/A) -> #REF! | K99: =VLOOKUP(#REF!,花名册!E:I,9,FALSE) -> #REF! | L99: =VLOOKUP(#REF!,[1]全部!$C:$C,1,FALSE) -> #REF! | M99: #N/A | N99: #N/A | O99: #N/A | P99: =VLOOKUP(#REF!,整户取消信息表!#REF!,1,FALSE) -> #REF! | Q99: =VLOOKUP(#REF!,#REF!,1,FALSE) -> #REF! | R99: 脱贫户 | S99: 脱贫不稳定户 | T99: =VLOOKUP(#REF!,花名册!#REF!,2,FALSE) -> #REF! | U99: =MIDB(#REF!,11,2) -> #REF! | V99: =H99&G99 -> 龙口镇都田村上都组 | W99: =VLOOKUP(#REF!,[2]分析1!$M:$M,1,FALSE) -> #REF!
A100: 18170 | B100: 廖乐英 | C100: 2 | D100: 2 | E100: 廖乐英 | F100: 本人 | G100: 留村洞兴组 | H100: 龙口镇 | I100: =YEAR(TODAY())-MID(#REF!,7,4) -> #REF! | J100: =IF(OR(LEN(#REF!)=15,LEN(#REF!)=18),IF(MOD(MID(#REF!,15,3)*1,2),"男","女"),#N/A) -> #REF! | K100: =VLOOKUP(#REF!,花名册!E:I,9,FALSE) -> #REF! | L100: =VLOOKUP(#REF!,[1]全部!$C:$C,1,FALSE) -> #REF! | M100: #N/A | N100: #N/A | O100: #N/A | P100: =VLOOKUP(#REF!,整户取消信息表!#REF!,1,FALSE) -> #REF! | Q100: =VLOOKUP(#REF!,#REF!,1,FALSE) -> #REF! | R100: 脱贫户 | S100: 脱贫不稳定户 | T100: =VLOOKUP(#REF!,花名册!#REF!,2,FALSE) -> #REF! | U100: =MIDB(#REF!,11,2) -> #REF! | V100: =H100&G100 -> 龙口镇留村洞兴组 | W100: =VLOOKUP(#REF!,[2]分析1!$M:$M,1,FALSE) -> #REF!
...

Sheet 核对稿
A1: 兴国县农村低保2025年8月份拨款明细表
A2: 兴国县民政局 2025年8月
A3: 资金拨入：收款人名称：兴国县民政局 账号：1440801262206020010002 开户行：兴国农商行
A4: 行政区划 | B4: 农户数 | C4: 补助人数 | D4: 常年补助人口数 | E4: 非常年补助人口数 | F4: 常年补助金额 | G4: 非常年补助金额 | H4: 实发合计 | I4: 取消户数 | J4: 取消人数 | K4: 新增户数 | L4: 新增人数 | M4: 调减 | N4: 调增 | O4: 常补对象人数占比 | P4: 45839 | T4: 户数 | U4: 人数 | Z4: 人均补差
A5: 潋江镇 | B5: 574 | C5: 1091 | D5: 120 | E5: =C5-D5 -> 971 | F5: =765*D5 -> 91800 | G5: 441338 | H5: =G5+F5 -> 533138 | I5: 1 | J5: 1 | K5: 4 | L5: 5 | M5: 0 | N5: 1 | O5: =D5/Q5 -> 0.11049724 | P5: 571 | Q5: 1086 | R5: =P5-I5+K5 -> 574 | S5: =Q5-J5+L5-M5+N5 -> 1091 | T5: =B5=R5 -> TRUE | U5: =C5=S5 -> TRUE | V5: =F5/D5 -> 765 | W5: =D5+E5 -> 1091 | X5: =F5+G5 -> 533138 | Y5: =X5=H5 -> TRUE | Z5: =H5/C5 -> 488.66911
A6: 长冈乡 | B6: 899 | C6: 1606 | D6: 238 | E6: =C6-D6 -> 1368 | F6: =765*D6 -> 182070 | G6: 660264 | H6: =G6+F6 -> 842334 | I6: 0 | J6: 0 | K6: 10 | L6: 13 | M6: 4 | N6: 1 | O6: =D6/Q6 -> 0.14912281 | P6: 889 | Q6: 1596 | R6: =P6-I6+K6 -> 899 | S6: =Q6-J6+L6-M6+N6 -> 1606 | T6: =B6=R6 -> TRUE | U6: =C6=S6 -> TRUE | V6: =F6/D6 -> 765 | W6: =D6+E6 -> 1606 | X6: =F6+G6 -> 842334 | Y6: =X6=H6 -> TRUE | Z6: =H6/C6 -> 524.49191
A7: 鼎龙乡 | B7: 693 | C7: 1414 | D7: 256 | E7: =C7-D7 -> 1158 | F7: =765*D7 -> 195840 | G7: 547206 | H7: =G7+F7 -> 743046 | I7: 1 | J7: 1 | K7: 5 | L7: 10 | M7: 2 | N7: 1 | O7: =D7/Q7 -> 0.18207681 | P7: 689 | Q7: 1406 | R7: =P7-I7+K7 -> 693 | S7: =Q7-J7+L7-M7+N7 -> 1414 | T7: =B7=R7 -> TRUE | U7: =C7=S7 -> TRUE | V7: =F7/D7 -> 765 | W7: =D7+E7 -> 1414 | X7: =F7+G7 -> 743046 | Y7: =X7=H7 -> TRUE | Z7: =H7/C7 -> 525.49222
A8: 城岗镇 | B8: 940 | C8: 1793 | D8: 318 | E8: =C8-D8 -> 1475 | F8: =765*D8 -> 243270 | G8: 684098 | H8: =G8+F8 -> 927368 | I8: 1 | J8: 1 | K8: 6 | L8: 9 | M8: 3 | N8: 2 | O8: =D8/Q8 -> 0.17805151 | P8: 935 | Q8: 1786 | R8: =P8-I8+K8 -> 940 | S8: =Q8-J8+L8-M8+N8 -> 1793 | T8: =B8=R8 -> TRUE | U8: =C8=S8 -> TRUE | V8: =F8/D8 -> 765 | W8: =D8+E8 -> 1793 | X8: =F8+G8 -> 927368 | Y8: =X8=H8 -> TRUE | Z8: =H8/C8 -> 517.21584
A9: 良村镇 | B9: 769 | C9: 1541 | D9: 205 | E9: =C9-D9 -> 1336 | F9: =765*D9 -> 156825 | G9: 647029 | H9: =G9+F9 -> 803854 | I9: 2 | J9: 2 | K9: 7 | L9: 7 | M9: 2 | N9: 2 | O9: =D9/Q9 -> 0.13346354 | P9: 764 | Q9: 1536 | R9: =P9-I9+K9 -> 769 | S9: =Q9-J9+L9-M9+N9 -> 1541 | T9: =B9=R9 -> TRUE | U9: =C9=S9 -> TRUE | V9: =F9/D9 -> 765 | W9: =D9+E9 -> 1541 | X9: =F9+G9 -> 803854 | Y9: =X9=H9 -> TRUE | Z9: =H9/C9 -> 521.64439
A10: 南坑乡 | B10: 276 | C10: 520 | D10: 73 | E10: =C10-D10 -> 447 | F10: =765*D10 -> 55845 | G10: 212052 | H10: =G10+F10 -> 267897 | I10: 0 | J10: 0 | K10: 1 | L10: 3 | M10: 0 | N10: 0 | O10: =D10/Q10 -> 0.14119923 | P10: 275 | Q10: 517 | R10: =P10-I10+K10 -> 276 | S10: =Q10-J10+L10-M10+N10 -> 520 | T10: =B10=R10 -> TRUE | U10: =C10=S10 -> TRUE | V10: =F10/D10 -> 765 | W10: =D10+E10 -> 520 | X10: =F10+G10 -> 267897 | Y10: =X10=H10 -> TRUE | Z10: =H10/C10 -> 515.18654
A11: 枫边乡 | B11: 407 | C11: 840 | D11: 153 | E11: =C11-D11 -> 687 | F11: =765*D11 -> 117045 | G11: 331527 | H11: =G11+F11 -> 448572 | I11: 0 | J11: 0 | K11: 5 | L11: 7 | M11: 0 | N11: 0 | O11: =D11/Q11 -> 0.18367347 | P11: 402 | Q11: 833 | R11: =P11-I11+K11 -> 407 | S11: =Q11-J11+L11-M11+N11 -> 840 | T11: =B11=R11 -> TRUE | U11: =C11=S11 -> TRUE | V11: =F11/D11 -> 765 | W11: =D11+E11 -> 840 | X11: =F11+G11 -> 448572 | Y11: =X11=H11 -> TRUE | Z11: =H11/C11 -> 534.01429
A12: 崇贤乡 | B12: 477 | C12: 986 | D12: 187 | E12: =C12-D12 -> 799 | F12: =765*D12 -> 143055 | G12: 368023 | H12: =G12+F12 -> 511078 | I12: 1 | J12: 1 | K12: 5 | L12: 6 | M12: 2 | N12: 0 | O12: =D12/Q12 -> 0.19023398 | P12: 473 | Q12: 983 | R12: =P12-I12+K12 -> 477 | S12: =Q12-J12+L12-M12+N12 -> 986 | T12: =B12=R12 -> TRUE | U12: =C12=S12 -> TRUE | V12: =F12/D12 -> 765 | W12: =D12+E12 -> 986 | X12: =F12+G12 -> 511078 | Y12: =X12=H12 -> TRUE | Z12: =H12/C12 -> 518.33469
A13: 方太乡 | B13: 317 | C13: 681 | D13: 80 | E13: =C13-D13 -> 601 | F13: =765*D13 -> 61200 | G13: 272365 | H13: =G13+F13 -> 333565 | I13: 2 | J13: 2 | K13: 0 | L13: 0 | M13: 2 | N13: 0 | O13: =D13/Q13 -> 0.11678832 | P13: 319 | Q13: 685 | R13: =P13-I13+K13 -> 317 | S13: =Q13-J13+L13-M13+N13 -> 681 | T13: =B13=R13 -> TRUE | U13: =C13=S13 -> TRUE | V13: =F13/D13 -> 765 | W13: =D13+E13 -> 681 | X13: =F13+G13 -> 333565 | Y13: =X13=H13 -> TRUE | Z13: =H13/C13 -> 489.81645
A14: 高兴镇 | B14: 1159 | C14: 2144 | D14: 317 | E14: =C14-D14 -> 1827 | F14: =765*D14 -> 242505 | G14: 835377 | H14: =G14+F14 -> 1077882 | I14: 6 | J14: 6 | K14: 4 | L14: 6 | M14: 4 | N14: 0 | O14: =D14/Q14 -> 0.14757914 | P14: 1161 | Q14: 2148 | R14: =P14-I14+K14 -> 1159 | S14: =Q14-J14+L14-M14+N14 -> 2144 | T14: =B14=R14 -> TRUE | U14: =C14=S14 -> TRUE | V14: =F14/D14 -> 765 | W14: =D14+E14 -> 2144 | X14: =F14+G14 -> 1077882 | Y14: =X14=H14 -> TRUE | Z14: =H14/C14 -> 502.74347
A15: 茶园乡 | B15: 494 | C15: 905 | D15: 123 | E15: =C15-D15 -> 782 | F15: =765*D15 -> 94095 | G15: 373850 | H15: =G15+F15 -> 467945 | I15: 3 | J15: 3 | K15: 1 | L15: 1 | M15: 5 | N15: 0 | O15: =D15/Q15 -> 0.13486842 | P15: 496 | Q15: 912 | R15: =P15-I15+K15 -> 494 | S15: =Q15-J15+L15-M15+N15 -> 905 | T15: =B15=R15 -> TRUE | U15: =C15=S15 -> TRUE | V15: =F15/D15 -> 765 | W15: =D15+E15 -> 905 | X15: =F15+G15 -> 467945 | Y15: =X15=H15 -> TRUE | Z15: =H15/C15 -> 517.0663
A16: 均村乡 | B16: 949 | C16: 1928 | D16: 285 | E16: =C16-D16 -> 1643 | F16: =765*D16 -> 218025 | G16: 752099 | H16: =G16+F16 -> 970124 | I16: 3 | J16: 3 | K16: 3 | L16: 3 | M16: 3 | N16: 0 | O16: =D16/Q16 -> 0.14759192 | P16: 949 | Q16: 1931 | R16: =P16-I16+K16 -> 949 | S16: =Q16-J16+L16-M16+N16 -> 1928 | T16: =B16=R16 -> TRUE | U16: =C16=S16 -> TRUE | V16: =F16/D16 -> 765 | W16: =D16+E16 -> 1928 | X16: =F16+G16 -> 970124 | Y16: =X16=H16 -> TRUE | Z16: =H16/C16 -> 503.17635
... A29: 兴江乡 | B29: 689 | C29: 1338 | D29: 165 | E29: =C29-D29 -> 1173 | F29: =765*D29 -> 126225 | G29: 567900 | H29: =G29+F29 -> 694125 | I29: 2 | J29: 2 | K29: 4 | L29: 9 | M29: 2 | N29: 4 | O29: =D29/Q29 -> 0.1241535 | P29: 687 | Q29: 1329 | R29: =P29-I29+K29 -> 689 | S29: =Q29-J29+L29-M29+N29 -> 1338 | T29: =B29=R29 -> TRUE | U29: =C29=S29 -> TRUE | V29: =F29/D29 -> 765 | W29: =D29+E29 -> 1338 | X29: =F29+G29 -> 694125 | Y29: =X29=H29 -> TRUE | Z29: =H29/C29 -> 518.77803
A30: 合 计 | B30: =SUM(B5:B29) -> 15267 | C30: =SUM(C5:C29) -> 31008 | D30: =SUM(D5:D29) -> 4517 | E30: =SUM(E5:E29) -> 26491 | F30: =SUM(F5:F29) -> 3455505 | G30: =SUM(G5:G29) -> 12377251 | H30: =SUM(H5:H29) -> 15832756 | I30: =SUM(I5:I29) -> 47 | ... N30: =SUM(N5:N29) -> 19 | O30: =D30/Q30 -> 0.14584611 | P30: 15213 | Q30: 30971 | R30: =P30-I30+K30 -> 15267 | S30: =Q30-J30+L30-M30+N30 -> 31008 | T30: =B30=R30 -> TRUE | U30: =C30=S30 -> TRUE | V30: =F30/D30 -> 765 | W30: =D30+E30 -> 31008 | X30: =F30+G30 -> 15832756 | Y30: =X30=H30 -> TRUE | Z30: =H30/C30 -> 510.6023
A32: 经办人： | I32: 股室负责人： | O32: =J30+M30 -> 132 | P32: =B30-9 -> 15258 | Q32: =C30-10 -> 30998
A33: 分管领导审核： | F33: 局长审核： | J33: 签拨人：
O34: =L30+N30 -> 169 | P34: =J30+M30 -> 132 | Q34: =O34-P34 -> 37

Sheet 整户取消
A1: 序号 | B1: 行政区划代码 | C1: 行政区划名称 | D1: 农户姓名 | E1: 家庭人数 | F1: 补助人数 | G1: 家庭中重度残疾人数 | H1: 家庭中重大疾病人数 | I1: 救助档次 | J1: 常年补助家庭人口数 | K1: 常年补助金额 | L1: 非常年补助家庭人口数 | M1: 非常年补助金额 | N1: 实发 合计 | O1: 是否整户保 | P1: 是否纳入精准扶贫建档立卡 | Q1: 备注（必须填写取消原因） | R1: 是否通过乡镇党政联席会议讨论 | S1: 乡镇 | U1: 一、因人情保关系保取消 | V1: 二、因劳动力多错保 | W1: 三、因有赡养抚养扶养能力取消 | X1: 四、因人员死亡，户口外迁外嫁、失联取消 | Y1: 五、因违反七不保四从严取消 | Z1: 六、因转为特困人员(孤儿)待遇取消 | AA1: 七、因服刑人员取消 | AB1: 八、因不符合单人保条件取消 | AC1: 合计
A2: 1 | B2: 360732170902 | C2: 中岭村大告组 | D2: 刘仁香 | E2: 1 | H2: B | K2: 1 | L2: 565 | M2: 565 | N2: FALSE | O2: 是 | P2: 家庭人口2人，儿子在外务工，家庭财产超标，无费用支出。 | S2: 龙口镇 | T2: =VLOOKUP(#REF!,花名册!#REF!,1,FALSE) -> #REF!
A3: 2 | C3: 来溪村社背组 | D3: 钟文英 | E3: 4 | F3: 1 | I3: D | L3: 1 | M3: 295 | N3: 295 | O3: 否 | P3: 否 | Q3: 死亡 | S3: 龙口镇 | T3: =VLOOKUP(#REF!,花名册!#REF!,1,FALSE) -> #REF!
A4: 3 | B4: 360732170608 | C4: 芦溪村芦一组 | D4: 刘满秀 | E4: 2 | F4: 1 | I4: C | L4: 1 | M4: 400 | N4: 400 | O4: FALSE | P4: 是 | Q4: 死亡 | S4: 龙口镇 | T4: =VLOOKUP(#REF!,花名册!#REF!,1,FALSE) -> #REF!

Sheet 整户取消信息表
A1: 序号 | B1: 户主 | C1: 家庭人口 | D1: 享受人口 | E1: 姓名 | F1: 家庭关系 | G1: 人员详细住址 | H1: 乡镇
A2: 1 | B2: 刘仁香 | C2: 2 | D2: 1 | E2: 刘仁香 | F2: 户主/本人 | G2: 中岭村大告组 | H2: 龙口镇 | I2: =VLOOKUP(#REF!,家庭信息表!#REF!,1,FALSE) -> #REF!
A3: 2 | B3: 钟文英 | C3: 4 | D3: 1 | E3: 钟文英 | F3: 本人 | G3: 来溪村社背组 | H3: 龙口镇 | I3: =VLOOKUP(#REF!,家庭信息表!#REF!,1,FALSE) -> #REF!
A4: 33 | B4: 刘满秀 | C4: 2 | D4: 1 | E4: 刘满秀 | F4: 户主/本人 | G4: 芦溪村芦一组 | H4: 龙口镇 | I4: =VLOOKUP(#REF!,家庭信息表!#REF!,1,FALSE) -> #REF!

Sheet 整户新增
A1: 序号 | B1: 行政区划代码 | C1: 行政区划名称 | D1: 农户 姓名 | E1: 家庭人数 | F1: 补助人数 | G1: 家庭中重度残疾人数（一级，二级为重度残疾） | H1: 家庭中重大疾病人数（自费部分两万元以上为重大疾病） | I1: 救助档次 | J1: 常年补助家庭人口数 | K1: 常年补助金额 | L1: 非常年补助家庭人口数 | M1: 非常年补助金额 | N1: 实发 合计 | O1: 是否整户保 | P1: 是否精准扶贫 | Q1: （新增）原因 | R1: 乡镇
A2: 1 | C2: 来溪村良屋组 | D2: 刘新才 | E2: 6 | F2: 3 | H2: 1 | I2: C | L2: 3 | M2: 1200 | N2: 1200 | O2: 否 | P2: 否 | Q2: 家庭人口6人，本人患肝癌晚期，妻子在家务农，偶尔打零工，儿子在广东务工，儿媳有轻微智障，在家带小孩，两个孙女均在来溪小学上学；儿子也常年没有钱寄回家，全靠妻子在家务家农和打零工维持生活。 | R2: 龙口镇 | S2: =VLOOKUP(#REF!,花名册!#REF!,1,FALSE) -> #REF!
A3: 2 | C3: 龙口村十组 | D3: 周炜 | E3: 2 | F3: 1 | H3: 1 | I3: C | L3: 1 | M3: 400 | N3: 400 | O3: 否 | P3: 否 | Q3: 家庭人口2人，本人在均村奶奶娘家就读中学八年级，父亲今年因病死亡，母亲在外务工，不常与其联系。 | R3: 龙口镇 | S3: =VLOOKUP(#REF!,花名册!#REF!,1,FALSE) -> #REF!
A4: 3 | C4: 留村村上一组 | D4: 刘田村佬 | E4: 4 | F4: 3 | I4: B | L4: 3 | M4: 1695 | N4: 1695 | O4: 否 | P4: 否 | Q4: 家庭人口4人，本人年老，患多种慢性病，妻子患有多发性恶性骨髓瘤，多次住院，医疗自费已花2万余元，儿子常年手抖，现也在医院照顾妻子，全靠养女一人在赣州务工维持生活。 | R4: 龙口镇 | S4: =VLOOKUP(#REF!,花名册!#REF!,1,FALSE) -> #REF!
A5: 4 | C5: 留村村新华组 | D5: 刘才香 | E5: 1 | F5: 1 | I5: B | L5: 1 | M5: 565 | N5: 565 | O5: 是 | P5: 否 | Q5: 家庭人口1人，九几年从赣县三溪乡嫁留村刘世权家，生活十余年后离婚，离婚后户口没有迁走，挂靠在新华组，一直在外流浪与几个男人生活过，2014年与东村乡坝子上黄才森办理结婚，在红门烟花爆竹厂生活了几年，而后一直一人在城西街靠当保姆维持生活；亲生儿子和留村继子都不愿意赡养她，东村乡黄才森的儿子都不认识她。现因年老无劳力而申请救助。 | R5: 龙口镇 | S5: =VLOOKUP(#REF!,花名册!#REF!,1,FALSE) -> #REF!

Sheet 整户新增信息表
A1: 序号 | B1: 户主 | C1: 家庭人口 | D1: 享受人口 | E1: 姓名 | F1: 家庭关系 | G1: 人员详细住址 | H1: 乡镇
A2: 1 | B2: 刘新才 | C2: 6 | D2: 3 | E2: 刘新才 | F2: 本人 | G2: 来溪村良屋组 | H2: 龙口镇 | I2: =VLOOKUP(#REF!,家庭信息表!#REF!,1,FALSE) -> #REF!
A3: 2 | B3: 刘新才 | E3: 刘美燕 | F3: 孙女 | G3: 来溪村良屋组 | H3: 龙口镇 | I3: =VLOOKUP(#REF!,家庭信息表!#REF!,1,FALSE) -> #REF!
A4: 3 | B4: 刘新才 | E4: 刘美金 | F4: 孙女 | G4: 来溪村良屋组 | H4: 龙口镇 | I4: =VLOOKUP(#REF!,家庭信息表!#REF!,1,FALSE) -> #REF!
A5: 4 | B5: 周炜 | C5: 2 | D5: 1 | E5: 周炜 | F5: 本人 | G5: 龙口村十组 | H5: 龙口镇 | I5: =VLOOKUP(#REF!,家庭信息表!#REF!,1,FALSE) -> #REF!
A6: 5 | B6: 刘田村佬 | C6: 4 | D6: 3 | E6: 刘田村佬 | F6: 本人 | G6: 留村村上一组 | H6: 龙口镇 | I6: =VLOOKUP(#REF!,家庭信息表!#REF!,1,FALSE) -> #REF!
A7: 6 | B7: 刘田村佬 | E7: 李招兰 | F7: 配偶 | G7: 留村村上一组 | H7: 龙口镇 | I7: =VLOOKUP(#REF!,家庭信息表!#REF!,1,FALSE) -> #REF!
A8: 7 | B8: 刘田村佬 | E8: 刘建武 | F8: 儿子 | G8: 留村村上一组 | H8: 龙口镇 | I8: =VLOOKUP(#REF!,家庭信息表!#REF!,1,FALSE) -> #REF!
A9: 8 | B9: 刘才香 | C9: 1 | D9: 1 | E9: 刘才香 | F9: 本人 | G9: 留村村新华组 | H9: 龙口镇 | I9: =VLOOKUP(#REF!,家庭信息表!#REF!,1,FALSE) -> #REF!

Sheet 打印稿
A1: 兴国县农村低保2025年8月份拨款明细表
A2: 兴国县民政局 2025年8月
A3: 资金拨入：收款人名称：兴国县民政局 账号：1440801262206020010002 开户行：兴国农商行
A4: 行政区划 | B4: 上月户数 | C4: 本月户数 | D4: 较上月户数增减 | E4: 上月人数 | F4: 本月人数 | G4: 较上月人数数增减 | H4: 上月发放金额 | I4: 本月应发金额 | J4: 较上月金额增减
A5: 潋江镇 | B5: 571 | C5: 574 | D5: =C5-B5 -> 3 | E5: 1086 | F5: 1091 | G5: =F5-E5 -> 5 | H5: 531348 | I5: 533138 | J5: =I5-H5 -> 1790
A6: 长冈乡 | B6: 889 | C6: 899 | D6: =C6-B6 -> 10 | E6: 1596 | F6: 1606 | G6: =F6-E6 -> 10 | H6: 838477 | I6: 842334 | J6: =I6-H6 -> 3857
A7: 鼎龙乡 | B7: 689 | C7: 693 | D7: =C7-B7 -> 4 | E7: 1406 | F7: 1414 | G7: =F7-E7 -> 8 | H7: 740846 | I7: 743046 | J7: =I7-H7 -> 2200
A8: 城岗镇 | B8: 935 | C8: 940 | D8: =C8-B8 -> 5 | E8: 1786 | F8: 1793 | G8: =F8-E8 -> 7 | H8: 924022 | I8: 927368 | J8: =I8-H8 -> 3346
A9: 良村镇 | B9: 764 | C9: 769 | D9: =C9-B9 -> 5 | E9: 1536 | F9: 1541 | G9: =F9-E9 -> 5 | H9: 802169 | I9: 803854 | J9: =I9-H9 -> 1685
A10: 南坑乡 | B10: 275 | C10: 276 | D10: =C10-B10 -> 1 | E10: 517 | F10: 520 | G10: =F10-E10 -> 3 | H10: 266202 | I10: 267897 | J10: =I10-H10 -> 1695
A11: 枫边乡 | B11: 402 | C11: 407 | D11: =C11-B11 -> 5 | E11: 833 | F11: 840 | G11: =F11-E11 -> 7 | H11: 443617 | I11: 448572 | J11: =I11-H11 -> 4955
A12: 崇贤乡 | B12: 473 | C12: 477 | D12: =C12-B12 -> 4 | E12: 983 | F12: 986 | G12: =F12-E12 -> 3 | H12: 509896 | I12: 511078 | J12: =I12-H12 -> 1182
A13: 方太乡 | B13: 319 | C13: 317 | D13: =C13-B13 -> -2 | E13: 685 | F13: 681 | G13: =F13-E13 -> -4 | H13: 335495 | I13: 333565 | J13: =I13-H13 -> -1930
A14: 高兴镇 | B14: 1161 | C14: 1159 | D14: =C14-B14 -> -2 | E14: 2148 | F14: 2144 | G14: =F14-E14 -> -4 | H14: 1080707 | I14: 1077882 | J14: =I14-H14 -> -2825
A15: 茶园乡 | B15: 496 | C15: 494 | D15: =C15-B15 -> -2 | E15: 912 | F15: 905 | G15: =F15-E15 -> -7 | H15: 471222 | I15: 467945 | J15: =I15-H15 -> -3277
A16: 均村乡 | B16: 949 | C16: 949 | D16: =C16-B16 -> 0 | E16: 1931 | F16: 1928 | G16: =F16-E16 -> -3 | H16: 971255 | I16: 970124 | J16: =I16-H16 -> -1131
... A29: 兴江乡 | B29: 687 | C29: 689 | D29: =C29-B29 -> 2 | E29: 1329 | F29: 1338 | G29: =F29-E29 -> 9 | H29: 689352 | I29: 694125 | J29: =I29-H29 -> 4773
A30: 合 计 | B30: 15213 | C30: 15267 | D30: =SUM(D5:D29) -> 54 | E30: 30971 | F30: 31008 | G30: =SUM(G5:G29) -> 37 | H30: 15825972 | I30: 15832756 | J30: =SUM(J5:J29) -> 6784
A32: 经办人： | H32: 股室负责人：
A33: 分管领导审核： | F33: 局长审核： | I33: 签拨人：

Sheet 2025年8月补发7月农村低保打印稿 
A1: 兴国县农村低保2025年8月补发7月拨款明细表
A2: 兴国县民政局 2025年8月
A3: 资金拨入：收款人名称：兴国县民政局 账号：1440801262206020010002 开户行：兴国农商行
A4: 行政区划 | B4: 本月户数 | C4: 本月人数 | D4: 本月应发金额
A5: 潋江镇 | B5: 4 | C5: 5 | D5: 1685
A6: 长冈乡 | B6: 10 | C6: 13 | D6: 5422
A7: 鼎龙乡 | B7: 5 | C7: 10 | D7: 3895
A8: 城岗镇 | B8: 6 | C8: 9 | D8: 4206
A9: 良村镇 | B9: 7 | C9: 7 | D9: 2650
A10: 南坑乡 | B10: 1 | C10: 3 | D10: 1695
A11: 枫边乡 | B11: 1 | C11: 2 | D11: 1130
A12: 崇贤乡 | B12: 5 | C12: 6 | D12: 2547
A13: 方太乡 | B13: 0 | C13: 0 | D13: 0
A14: 高兴镇 | B14: 4 | C14: 6 | D14: 2295
A15: 茶园乡 | B15: 1 | C15: 1 | D15: 382
A16: 均村乡 | B16: 4 | C16: 4 | D16: 1894
... A29: 兴江乡 | B29: 4 | C29: 9 | D29: 4425
A30: 合 计 | B30: =SUM(B5:B29) -> 97 | C30: =SUM(C5:C29) -> 145 | D30: =SUM(D5:D29) -> 63017
A32: 经办人： | C32: 股室负责人：
A33: 分管领导审核： | B33: 局长审核： 签拨人：

Sheet 2025年8月补发7月农村低保花名册
A1: 江西省赣州市兴国县最低生活保障资金发放表
A4: 序号 | B4: 乡镇名称 | C4: 村委名称 | D4: 低保户主 | E4: 开户银行 | F4: 开户人 | G4: 家庭人数 | H4: 保障人数 | I4: 是否建档立卡户 | J4: 常补/非常补 | K4: 月保障金 | L4: 发放时间 | M4: 领取人
A5: 15 | B5: 龙口镇 | C5: 龙口村委会 | D5: 周炜 | E5: 江西农信 | F5: 周炜 | G5: 2 | H5: 1 | I5: 否 | J5: 非常补对象 | K5: 400 | L5: 2025-07 | M5: 周炜 | N5: =VLOOKUP(#REF!,整户新增!#REF!,1,FALSE) -> #REF!
A6: 16 | B6: 龙口镇 | C6: 来溪村委会 | D6: 刘新才 | E6: 江西农信 | F6: 刘新才 | G6: 6 | H6: 3 | I6: 否 | J6: 非常补对象 | K6: 1200 | L6: 2025-07 | M6: 刘新才 | N6: =VLOOKUP(#REF!,整户新增!#REF!,1,FALSE) -> #REF!
A7: 20 | B7: 龙口镇 | C7: 留村村委会 | D7: 刘田村佬 | E7: 江西农信 | F7: 刘田村佬 | G7: 4 | H7: 3 | I7: 否 | J7: 非常补对象 | K7: 1695 | L7: 2025-07 | M7: 刘田村佬 | N7: =VLOOKUP(#REF!,整户新增!#REF!,1,FALSE) -> #REF!
A8: 36 | B8: 龙口镇 | C8: 留村村委会 | D8: 刘才香 | E8: 江西农信 | F8: 刘才香 | G8: 1 | H8: 1 | I8: 否 | J8: 非常补对象 | K8: 565 | L8: 2025-07 | M8: 刘才香 | N8: =VLOOKUP(#REF!,整户新增!#REF!,1,FALSE) -> #REF!

Sheet 2025年8月补发7月家庭信息表
A1: 序号 | B1: 户主 | C1: 家庭人口 | D1: 享受人口 | E1: 姓名 | F1: 身份证验证 | G1: 家庭关系 | H1: 人员详细住址 | I1: 乡镇
A2: 1 | B2: 刘新才 | C2: 6 | D2: 3 | E2: 刘新才 | F2: =IF(LEFT(#REF!,17)&MID("10X98765432",MOD(SUM(MID(#REF!,1,1)*2^17,MID(#REF!,2,1)*2^16,MID(#REF!,3,1)*2^15,MID(#REF!,4,1)*2^14,MID(#REF!,5,1)*2^13,MID(#REF!,6,1)*2^12,MID(#REF!,7,1)*2^11,MID(#REF!,8,1)*2^10,MID(#REF!,9,1)*2^9,MID(#REF!,10,1)*2^8,MID(#REF!,11,1)*2^7,MID(#REF!,12,1)*2^6,MID(#REF!,13,1)*2^5,MID(#REF!,14,1)*2^4,MID(#REF!,15,1)*2^3,MID(#REF!,16,1)*2^2,MID(#REF!,17,1)*2^1),11)+1,1)=#REF!,"真实","此身份证号码为错") -> #REF! | G2: 本人 | H2: 来溪村良屋组 | I2: 龙口镇 | J2: =VLOOKUP(#REF!,家庭信息表!#REF!,1,FALSE) -> #REF!
A3: 2 | B3: 刘新才 | E3: 刘美燕 | F3: =IF(LEFT(#REF!,17)&MID("10X98765432",MOD(SUM(MID(#REF!,1,1)*2^17,MID(#REF!,2,1)*2^16,MID(#REF!,3,1)*2^15,MID(#REF!,4,1)*2^14,MID(#REF!,5,1)*2^13,MID(#REF!,6,1)*2^12,MID(#REF!,7,1)*2^11,MID(#REF!,8,1)*2^10,MID(#REF!,9,1)*2^9,MID(#REF!,10,1)*2^8,MID(#REF!,11,1)*2^7,MID(#REF!,12,1)*2^6,MID(#REF!,13,1)*2^5,MID(#REF!,14,1)*2^4,MID(#REF!,15,1)*2^3,MID(#REF!,16,1)*2^2,MID(#REF!,17,1)*2^1),11)+1,1)=#REF!,"真实","此身份证号码为错") -> #REF! | G3: 孙女 | H3: 来溪村良屋组 | I3: 龙口镇 | J3: =VLOOKUP(#REF!,家庭信息表!#REF!,1,FALSE) -> #REF!
A4: 3 | B4: 刘新才 | E4: 刘美金 | F4: =IF(LEFT(#REF!,17)&MID("10X98765432",MOD(SUM(MID(#REF!,1,1)*2^17,MID(#REF!,2,1)*2^16,MID(#REF!,3,1)*2^15,MID(#REF!,4,1)*2^14,MID(#REF!,5,1)*2^13,MID(#REF!,6,1)*2^12,MID(#REF!,7,1)*2^11,MID(#REF!,8,1)*2^10,MID(#REF!,9,1)*2^9,MID(#REF!,10,1)*2^8,MID(#REF!,11,1)*2^7,MID(#REF!,12,1)*2^6,MID(#REF!,13,1)*2^5,MID(#REF!,14,1)*2^4,MID(#REF!,15,1)*2^3,MID(#REF!,16,1)*2^2,MID(#REF!,17,1)*2^1),11)+1,1)=#REF!,"真实","此身份证号码为错") -> #REF! | G4: 孙女 | H4: 来溪村良屋组 | I4: 龙口镇 | J4: =VLOOKUP(#REF!,家庭信息表!#REF!,1,FALSE) -> #REF!
A5: 4 | B5: 周炜 | C5: 2 | D5: 1 | E5: 周炜 | F5: =IF(LEFT(#REF!,17)&MID("10X98765432",MOD(SUM(MID(#REF!,1,1)*2^17,MID(#REF!,2,1)*2^16,MID(#REF!,3,1)*2^15,MID(#REF!,4,1)*2^14,MID(#REF!,5,1)*2^13,MID(#REF!,6,1)*2^12,MID(#REF!,7,1)*2^11,MID(#REF!,8,1)*2^10,MID(#REF!,9,1)*2^9,MID(#REF!,10,1)*2^8,MID(#REF!,11,1)*2^7,MID(#REF!,12,1)*2^6,MID(#REF!,13,1)*2^5,MID(#REF!,14,1)*2^4,MID(#REF!,15,1)*2^3,MID(#REF!,16,1)*2^2,MID(#REF!,17,1)*2^1),11)+1,1)=#REF!,"真实","此身份证号码为错") -> #REF! | G5: 本人 | H5: 龙口村十组 | I5: 龙口镇 | J5: =VLOOKUP(#REF!,家庭信息表!#REF!,1,FALSE) -> #REF!
A6: 5 | B6: 刘田村佬 | C6: 4 | D6: 3 | E6: 刘田村佬 | F6: =IF(LEFT(#REF!,17)&MID("10X98765432",MOD(SUM(MID(#REF!,1,1)*2^17,MID(#REF!,2,1)*2^16,MID(#REF!,3,1)*2^15,MID(#REF!,4,1)*2^14,MID(#REF!,5,1)*2^13,MID(#REF!,6,1)*2^12,MID(#REF!,7,1)*2^11,MID(#REF!,8,1)*2^10,MID(#REF!,9,1)*2^9,MID(#REF!,10,1)*2^8,MID(#REF!,11,1)*2^7,MID(#REF!,12,1)*2^6,MID(#REF!,13,1)*2^5,MID(#REF!,14,1)*2^4,MID(#REF!,15,1)*2^3,MID(#REF!,16,1)*2^2,MID(#REF!,17,1)*2^1),11)+1,1)=#REF!,"真实","此身份证号码为错") -> #REF! | G6: 本人 | H6: 留村村上一组 | I6: 龙口镇 | J6: =VLOOKUP(#REF!,家庭信息表!#REF!,1,FALSE) -> #REF!
A7: 6 | B7: 刘田村佬 | E7: 李招兰 | F7: =IF(LEFT(#REF!,17)&MID("10X98765432",MOD(SUM(MID(#REF!,1,1)*2^17,MID(#REF!,2,1)*2^16,MID(#REF!,3,1)*2^15,MID(#REF!,4,1)*2^14,MID(#REF!,5,1)*2^13,MID(#REF!,6,1)*2^12,MID(#REF!,7,1)*2^11,MID(#REF!,8,1)*2^10,MID(#REF!,9,1)*2^9,MID(#REF!,10,1)*2^8,MID(#REF!,11,1)*2^7,MID(#REF!,12,1)*2^6,MID(#REF!,13,1)*2^5,MID(#REF!,14,1)*2^4,MID(#REF!,15,1)*2^3,MID(#REF!,16,1)*2^2,MID(#REF!,17,1)*2^1),11)+1,1)=#REF!,"真实","此身份证号码为错") -> #REF! | G7: 配偶 | H7: 留村村上一组 | I7: 龙口镇 | J7: =VLOOKUP(#REF!,家庭信息表!#REF!,1,FALSE) -> #REF!
A8: 7 | B8: 刘田村佬 | E8: 刘建武 | F8: =IF(LEFT(#REF!,17)&MID("10X98765432",MOD(SUM(MID(#REF!,1,1)*2^17,MID(#REF!,2,1)*2^16,MID(#REF!,3,1)*2^15,MID(#REF!,4,1)*2^14,MID(#REF!,5,1)*2^13,MID(#REF!,6,1)*2^12,MID(#REF!,7,1)*2^11,MID(#REF!,8,1)*2^10,MID(#REF!,9,1)*2^9,MID(#REF!,10,1)*2^8,MID(#REF!,11,1)*2^7,MID(#REF!,12,1)*2^6,MID(#REF!,13,1)*2^5,MID(#REF!,14,1)*2^4,MID(#REF!,15,1)*2^3,MID(#REF!,16,1)*2^2,MID(#REF!,17,1)*2^1),11)+1,1)=#REF!,"真实","此身份证号码为错") -> #REF! | G8: 儿子 | H8: 留村村上一组 | I8: 龙口镇 | J8: =VLOOKUP(#REF!,家庭信息表!#REF!,1,FALSE) -> #REF!
A9: 8 | B9: 刘才香 | C9: 1 | D9: 1 | E9: 刘才香 | F9: =IF(LEFT(#REF!,17)&MID("10X98765432",MOD(SUM(MID(#REF!,1,1)*2^17,MID(#REF!,2,1)*2^16,MID(#REF!,3,1)*2^15,MID(#REF!,4,1)*2^14,MID(#REF!,5,1)*2^13,MID(#REF!,6,1)*2^12,MID(#REF!,7,1)*2^11,MID(#REF!,8,1)*2^10,MID(#REF!,9,1)*2^9,MID(#REF!,10,1)*2^8,MID(#REF!,11,1)*2^7,MID(#REF!,12,1)*2^6,MID(#REF!,13,1)*2^5,MID(#REF!,14,1)*2^4,MID(#REF!,15,1)*2^3,MID(#REF!,16,1)*2^2,MID(#REF!,17,1)*2^1),11)+1,1)=#REF!,"真实","此身份证号码为错") -> #REF! | G9: 本人 | H9: 留村村新华组 | I9: 龙口镇 | J9: =VLOOKUP(#REF!,家庭信息表!#REF!,1,FALSE) -> #REF!
