Workbook

Sheet Sheet1
A1: 附件：
A2: 兴国县2025年财政衔接推进乡村振兴补助资金分配情况现予以公示，欢迎社会各界监督，监督电话：12317 0797-5322340
A3: 兴国县2025年省级财政衔接推进乡村振兴补助资金分配表
G4: 单位：万元
A5: 序号 | B5: 专项资金名称 | C5: 资金文号 | D5: 责任单位 | E5: 财政专项资金分类 | G5: 项目名称
E6: 合计 | F6: 省级资金
F7: 巩固拓展脱贫攻坚成果和乡村振兴任务
A8: 合计 | E8: =SUM(E9:E35) -> 11025 | F8: =SUM(F9:F35) -> 11025
A9: 1 | B9: 关于提前下达2025年省级财政衔接推进乡村振兴补助资金预算的通知 | C9: 赣财农指〔2024〕49号 | D9: 就业创业服务中心 | E9: =SUMIF(Sheet2!H:H,D9,Sheet2!I:I) -> 41.521 | F9: 41.521 | G9: 巩固拓展脱贫攻坚成果
D10: 交运局 | E10: =SUMIF(Sheet2!H:H,D10,Sheet2!I:I) -> 220 | F10: 220 | G10: 乡村建设
D11: 埠头乡 | E11: =SUMIF(Sheet2!H:H,D11,Sheet2!I:I) -> 296 | F11: 296 | G11: 乡村建设
D12: 茶园乡 | E12: =SUMIF(Sheet2!H:H,D12,Sheet2!I:I) -> 306.4 | F12: 306.4 | G12: 乡村建设
D13: 城岗镇 | E13: =SUMIF(Sheet2!H:H,D13,Sheet2!I:I) -> 647.4 | F13: 647.4 | G13: 乡村建设
D14: 崇贤乡 | E14: =SUMIF(Sheet2!H:H,D14,Sheet2!I:I) -> 203.3 | F14: 203.3 | G14: 乡村建设
D15: 鼎龙乡 | E15: =SUMIF(Sheet2!H:H,D15,Sheet2!I:I) -> 455.06 | F15: 455.06 | G15: 乡村建设
D16: 东村乡 | E16: =SUMIF(Sheet2!H:H,D16,Sheet2!I:I) -> 359.62 | F16: 359.62 | G16: 乡村建设
D17: 方太乡 | E17: =SUMIF(Sheet2!H:H,D17,Sheet2!I:I) -> 393.97 | F17: 393.97 | G17: 乡村建设
D18: 枫边乡 | E18: =SUMIF(Sheet2!H:H,D18,Sheet2!I:I) -> 309 | F18: 309 | G18: 乡村建设
D19: 高兴镇 | E19: =SUMIF(Sheet2!H:H,D19,Sheet2!I:I) -> 706.316 | F19: 706.316 | G19: 乡村建设
D20: 古龙岗镇 | E20: =SUMIF(Sheet2!H:H,D20,Sheet2!I:I) -> 897.598 | F20: 897.598 | G20: 乡村建设
D21: 江背镇 | E21: =SUMIF(Sheet2!H:H,D21,Sheet2!I:I) -> 423.7 | F21: 423.7 | G21: 乡村建设
... D35: 长冈乡 | E35: =SUMIF(Sheet2!H:H,D35,Sheet2!I:I) -> 515 | F35: 515 | G35: 乡村建设

Sheet Sheet2
H5: 就业创业服务中心 | I5: 41.521
H6: 埠头乡 | I6: 55.7
H7: 埠头乡 | I7: 42
H8: 埠头乡 | I8: 26.5
H9: 埠头乡 | I9: 45.5
H10: 埠头乡 | I10: 59.8
H11: 埠头乡 | I11: 15
H12: 埠头乡 | I12: 14.5
H13: 埠头乡 | I13: 22
H14: 埠头乡 | I14: 15
H15: 茶园乡 | I15: 42
H16: 茶园乡 | I16: 17
... H280: 长冈乡 | I280: 53
